Workbook

Sheet 18-12-2011
A2: HEL-rex | B2: 41594
C4: RICHTTIJD | F4: Afstand
A5: Kolom1 | B5: Kolom2 | C5: MIN | D5: SEC | E5: m/s | F5: 3000 | G5: MIN3 | H5: SEC4 | I5: m/s2 | J5: ind. % | K5: gem. % | L5: verschil
A6: Rianne Gringhuis | B6: DB1x | C6: 8 | D6: 28 | E6: =1/((SUM(C6*60,D6))/2000) -> 3.9370079 | G6: 12 | H6: 51 | I6: =1/((SUM(G6*60,H6))/$F$5) -> 3.8910506 | J6: =(I6/E6)*100 -> 98.832685 | K6: =AVERAGE($J$6:$J$32) -> 93.352772 | L6: =(J6-K6) -> 5.4799123
A7: Lisanne Petter | B7: DB1x | C7: 8 | D7: 28 | E7: =1/((SUM(C7*60,D7))/2000) -> 3.9370079 | G7: 12 | H7: 55 | I7: =1/((SUM(G7*60,H7))/$F$5) -> 3.8709677 | J7: =(I7/E7)*100 -> 98.322581 | K7: =AVERAGE($J$6:$J$32) -> 93.352772 | L7: =(J7-K7) -> 4.9698082
A8: Daan Peters | B8: LSA1x | C8: 7 | D8: 25 | E8: =1/((SUM(C8*60,D8))/2000) -> 4.494382 | G8: 11 | H8: 22 | I8: =1/((SUM(G8*60,H8))/$F$5) -> 4.398827 | J8: =(I8/E8)*100 -> 97.8739 | K8: =AVERAGE($J$6:$J$32) -> 93.352772 | L8: =(J8-K8) -> 4.5211278
A9: Sunny Kolev | B9: N1x | C9: 7 | D9: 32 | E9: =1/((SUM(C9*60,D9))/2000) -> 4.4247788 | G9: 11 | H9: 36 | I9: =1/((SUM(G9*60,H9))/$F$5) -> 4.3103448 | J9: =(I9/E9)*100 -> 97.413793 | K9: =AVERAGE($J$6:$J$32) -> 93.352772 | L9: =(J9-K9) -> 4.0610206
A10: Rutger Bianchi | B10: LN1x | C10: 7 | D10: 39 | E10: =1/((SUM(C10*60,D10))/2000) -> 4.3572985 | G10: 11 | H10: 49 | I10: =1/((SUM(G10*60,H10))/$F$5) -> 4.2313117 | J10: =(I10/E10)*100 -> 97.108604 | K10: =AVERAGE($J$6:$J$32) -> 93.352772 | L10: =(J10-K10) -> 3.7558312
A11: Marloes Oldenburg | B11: DSA1x | C11: 8 | D11: 6 | E11: =1/((SUM(C11*60,D11))/2000) -> 4.1152263 | G11: 12 | H11: 35 | I11: =1/((SUM(G11*60,H11))/$F$5) -> 3.9735099 | J11: =(I11/E11)*100 -> 96.556291 | K11: =AVERAGE($J$6:$J$32) -> 93.352772 | L11: =(J11-K11) -> 3.2035189
A12: Jorrit Kortink | B12: LN1x | C12: 7 | D12: 39 | E12: =1/((SUM(C12*60,D12))/2000) -> 4.3572985 | G12: 11 | H12: 54 | I12: =1/((SUM(G12*60,H12))/$F$5) -> 4.2016807 | J12: =(I12/E12)*100 -> 96.428571 | K12: =AVERAGE($J$6:$J$32) -> 93.352772 | L12: =(J12-K12) -> 3.0757989
A13: Emma Corbijn | B13: DN1x | C13: 8 | D13: 23 | E13: =1/((SUM(C13*60,D13))/2000) -> 3.9761431 | G13: 13 | H13: 3 | I13: =1/((SUM(G13*60,H13))/$F$5) -> 3.8314176 | J13: =(I13/E13)*100 -> 96.360153 | K13: =AVERAGE($J$6:$J$32) -> 93.352772 | L13: =(J13-K13) -> 3.0073808
A14: Simone Harmsen | B14: LDB1x | C14: 8 | D14: 39 | E14: =1/((SUM(C14*60,D14))/2000) -> 3.8535645 | G14: 13 | H14: 32 | I14: =1/((SUM(G14*60,H14))/$F$5) -> 3.6945813 | J14: =(I14/E14)*100 -> 95.874384 | K14: =AVERAGE($J$6:$J$32) -> 93.352772 | L14: =(J14-K14) -> 2.5216117
A15: Roeland en Joroen | B15: LN2- | C15: 7 | D15: 28 | E15: =1/((SUM(C15*60,D15))/2000) -> 4.4642857 | G15: 11 | H15: 43 | I15: =1/((SUM(G15*60,H15))/$F$5) -> 4.2674253 | J15: =(I15/E15)*100 -> 95.590327 | K15: =AVERAGE($J$6:$J$32) -> 93.352772 | L15: =(J15-K15) -> 2.2375547
A16: Koen Luppes | B16: B1x | C16: 7 | D16: 36 | E16: =1/((SUM(C16*60,D16))/2000) -> 4.3859649 | G16: 11 | H16: 58 | I16: =1/((SUM(G16*60,H16))/$F$5) -> 4.178273 | J16: =(I16/E16)*100 -> 95.264624 | K16: =AVERAGE($J$6:$J$32) -> 93.352772 | L16: =(J16-K16) -> 1.9118515
A17: Alexandre Ruiz | B17: DB1x | C17: 8 | D17: 28 | E17: =1/((SUM(C17*60,D17))/2000) -> 3.9370079 | G17: 13 | H17: 20 | I17: =1/((SUM(G17*60,H17))/$F$5) -> 3.75 | J17: =(I17/E17)*100 -> 95.25 | K17: =AVERAGE($J$6:$J$32) -> 93.352772 | L17: =(J17-K17) -> 1.8972275
... A32: EJZ | B32: B8+ | C32: 6 | D32: 8 | E32: =1/((SUM(C32*60,D32))/2000) -> 5.4347826 | G32: 11 | H32: 7 | I32: =1/((SUM(G32*60,H32))/$F$5) -> 4.4977511 | J32: =(I32/E32)*100 -> 82.758621 | K32: =AVERAGE($J$6:$J$32) -> 93.352772 | L32: =(J32-K32) -> -10.594152

Sheet veldgemiddelen
A1: UITSLAGEN ReX-Test
C2: RICHTTIJD | F2: Afstand | J2: indiv. | K2: gem.
A3: ploeg | C3: MIN | D3: SEC | E3: m/s | F3: 3000 | G3: MIN | H3: SEC | I3: m/s | J3: perc. | K3: perc. | L3: verschil
A4: EJ8 | B4: ='alle veldtijden'!C4 -> 0.0042983609 | C4: =MINUTE(B4) -> 6 | D4: =SECOND(B4) -> 11 | E4: =1/((SUM(C4*60,D4))/2000) -> 5.3908356 | I4: =1/((SUM(G4*60,H4))/(F3)) -> #DIV/0! | J4: =(I4/E4)*100 -> #DIV/0! | K4: =AVERAGE(J4:J80) -> #DIV/0! | L4: =(J4-K4) -> #DIV/0!
A5: B8 | B5: ='alle veldtijden'!C5 -> 0.0042590181 | C5: =MINUTE(B5) -> 6 | D5: =SECOND(B5) -> 8 | E5: =1/((SUM(C5*60,D5))/2000) -> 5.4347826 | I5: =1/((SUM(G5*60,H5))/(F3)) -> #DIV/0! | J5: =(I5/E5)*100 -> #DIV/0! | K5: =AVERAGE(J5:J81) -> #DIV/0! | L5: =(J5-K5) -> #DIV/0!
A6: N8 | B6: ='alle veldtijden'!C6 -> 0.0042156339 | C6: =MINUTE(B6) -> 6 | D6: =SECOND(B6) -> 4 | E6: =1/((SUM(C6*60,D6))/2000) -> 5.4945055 | I6: =1/((SUM(G6*60,H6))/(F3)) -> #DIV/0! | J6: =(I6/E6)*100 -> #DIV/0! | K6: =AVERAGE(J5:J81) -> #DIV/0! | L6: =(J6-K6) -> #DIV/0!
A7: O8 | B7: ='alle veldtijden'!C7 -> 0.0041965664 | C7: =MINUTE(B7) -> 6 | D7: =SECOND(B7) -> 3 | E7: =1/((SUM(C7*60,D7))/2000) -> 5.5096419 | I7: =1/((SUM(G7*60,H7))/(F3)) -> #DIV/0! | J7: =(I7/E7)*100 -> #DIV/0! | K7: =AVERAGE(J5:J81) -> #DIV/0! | L7: =(J7-K7) -> #DIV/0!
A8: SA8 | B8: ='alle veldtijden'!C8 -> 0.0040491255 | C8: =MINUTE(B8) -> 5 | D8: =SECOND(B8) -> 50 | E8: =1/((SUM(C8*60,D8))/2000) -> 5.7142857 | I8: =1/((SUM(G8*60,H8))/(F3)) -> #DIV/0! | J8: =(I8/E8)*100 -> #DIV/0! | K8: =AVERAGE(J5:J81) -> #DIV/0! | L8: =(J8-K8) -> #DIV/0!
A9: LEJ8 | B9: ='alle veldtijden'!C9 -> 0.0043856356 | C9: =MINUTE(B9) -> 6 | D9: =SECOND(B9) -> 19 | E9: =1/((SUM(C9*60,D9))/2000) -> 5.2770449 | I9: =1/((SUM(G9*60,H9))/(F3)) -> #DIV/0! | J9: =(I9/E9)*100 -> #DIV/0! | K9: =AVERAGE(J4:J80) -> #DIV/0! | L9: =(J9-K9) -> #DIV/0!
A10: LB8 | B10: ='alle veldtijden'!C10 -> 0.0043819927 | C10: =MINUTE(B10) -> 6 | D10: =SECOND(B10) -> 19 | E10: =1/((SUM(C10*60,D10))/2000) -> 5.2770449 | I10: =1/((SUM(G10*60,H10))/(F3)) -> #DIV/0! | J10: =(I10/E10)*100 -> #DIV/0! | K10: =AVERAGE(J5:J81) -> #DIV/0! | L10: =(J10-K10) -> #DIV/0!
A11: LN8 | B11: ='alle veldtijden'!C11 -> 0.0043150253 | C11: =MINUTE(B11) -> 6 | D11: =SECOND(B11) -> 13 | E11: =1/((SUM(C11*60,D11))/2000) -> 5.3619303 | I11: =1/((SUM(G11*60,H11))/(F3)) -> #DIV/0! | J11: =(I11/E11)*100 -> #DIV/0! | K11: =AVERAGE(J5:J81) -> #DIV/0! | L11: =(J11-K11) -> #DIV/0!
A12: LO8 | B12: ='alle veldtijden'!C12 -> 0.0042370014 | C12: =MINUTE(B12) -> 6 | D12: =SECOND(B12) -> 6 | E12: =1/((SUM(C12*60,D12))/2000) -> 5.4644809 | I12: =1/((SUM(G12*60,H12))/(F3)) -> #DIV/0! | J12: =(I12/E12)*100 -> #DIV/0! | K12: =AVERAGE(J5:J81) -> #DIV/0! | L12: =(J12-K12) -> #DIV/0!
A13: LSA8 | B13: ='alle veldtijden'!C13 -> 0.0042132597 | C13: =MINUTE(B13) -> 6 | D13: =SECOND(B13) -> 4 | E13: =1/((SUM(C13*60,D13))/2000) -> 5.4945055 | I13: =1/((SUM(G13*60,H13))/(F3)) -> #DIV/0! | J13: =(I13/E13)*100 -> #DIV/0! | K13: =AVERAGE(J5:J81) -> #DIV/0! | L13: =(J13-K13) -> #DIV/0!
A14: DEJ8 | B14: ='alle veldtijden'!C14 -> 0.0048517267 | C14: =MINUTE(B14) -> 6 | D14: =SECOND(B14) -> 59 | E14: =1/((SUM(C14*60,D14))/2000) -> 4.7732697 | I14: =1/((SUM(G14*60,H14))/(F3)) -> #DIV/0! | J14: =(I14/E14)*100 -> #DIV/0! | K14: =AVERAGE(J4:J80) -> #DIV/0! | L14: =(J14-K14) -> #DIV/0!
A15: DB8 | B15: ='alle veldtijden'!C15 -> 0.0048608749 | C15: =MINUTE(B15) -> 7 | D15: =SECOND(B15) -> 0 | E15: =1/((SUM(C15*60,D15))/2000) -> 4.7619048 | I15: =1/((SUM(G15*60,H15))/(F3)) -> #DIV/0! | J15: =(I15/E15)*100 -> #DIV/0! | K15: =AVERAGE(J5:J81) -> #DIV/0! | L15: =(J15-K15) -> #DIV/0!
A16: DN8 | B16: ='alle veldtijden'!C16 -> 0.0048165954 | C16: =MINUTE(B16) -> 6 | D16: =SECOND(B16) -> 56 | E16: =1/((SUM(C16*60,D16))/2000) -> 4.8076923 | I16: =1/((SUM(G16*60,H16))/(F3)) -> #DIV/0! | J16: =(I16/E16)*100 -> #DIV/0! | K16: =AVERAGE(J5:J81) -> #DIV/0! | L16: =(J16-K16) -> #DIV/0!
A17: DO8 | B17: ='alle veldtijden'!C17 -> 0.0047472994 | C17: =MINUTE(B17) -> 6 | D17: =SECOND(B17) -> 50 | E17: =1/((SUM(C17*60,D17))/2000) -> 4.8780488 | I17: =1/((SUM(G17*60,H17))/(F3)) -> #DIV/0! | J17: =(I17/E17)*100 -> #DIV/0! | K17: =AVERAGE(J5:J81) -> #DIV/0! | L17: =(J17-K17) -> #DIV/0!
A18: DSA8 | B18: ='alle veldtijden'!C18 -> 0.0045935295 | C18: =MINUTE(B18) -> 6 | D18: =SECOND(B18) -> 37 | E18: =1/((SUM(C18*60,D18))/2000) -> 5.0377834 | I18: =1/((SUM(G18*60,H18))/(F3)) -> #DIV/0! | J18: =(I18/E18)*100 -> #DIV/0! | K18: =AVERAGE(J5:J81) -> #DIV/0! | L18: =(J18-K18) -> #DIV/0!
A20: B4+ | B20: ='alle veldtijden'!C20 -> 0.0048523715 | C20: =MINUTE(B20) -> 6 | D20: =SECOND(B20) -> 59 | E20: =1/((SUM(C20*60,D20))/2000) -> 4.7732697 | I20: =1/((SUM(G20*60,H20))/(F3)) -> #DIV/0! | J20: =(I20/E20)*100 -> #DIV/0! | K20: =AVERAGE(J5:J81) -> #DIV/0! | L20: =(J20-K20) -> #DIV/0!
A21: N4+ | B21: ='alle veldtijden'!C21 -> 0.00473125 | C21: =MINUTE(B21) -> 6 | D21: =SECOND(B21) -> 49 | E21: =1/((SUM(C21*60,D21))/2000) -> 4.8899756 | I21: =1/((SUM(G21*60,H21))/(F3)) -> #DIV/0! | J21: =(I21/E21)*100 -> #DIV/0! | K21: =AVERAGE(J5:J81) -> #DIV/0! | L21: =(J21-K21) -> #DIV/0!
A22: O4+ | B22: ='alle veldtijden'!C22 -> 0.0046522955 | C22: =MINUTE(B22) -> 6 | D22: =SECOND(B22) -> 42 | E22: =1/((SUM(C22*60,D22))/2000) -> 4.9751244 | I22: =1/((SUM(G22*60,H22))/(F3)) -> #DIV/0! | J22: =(I22/E22)*100 -> #DIV/0! | K22: =AVERAGE(J5:J81) -> #DIV/0! | L22: =(J22-K22) -> #DIV/0!
A23: SA4+ | B23: ='alle veldtijden'!C23 -> 0.0045325855 | C23: =MINUTE(B23) -> 6 | D23: =SECOND(B23) -> 32 | E23: =1/((SUM(C23*60,D23))/2000) -> 5.1020408 | I23: =1/((SUM(G23*60,H23))/(F3)) -> #DIV/0! | J23: =(I23/E23)*100 -> #DIV/0! | K23: =AVERAGE(J5:J81) -> #DIV/0! | L23: =(J23-K23) -> #DIV/0!
A24: LB4+ | B24: ='alle veldtijden'!C24 -> 0.0049211348 | C24: =MINUTE(B24) -> 7 | D24: =SECOND(B24) -> 5 | E24: =1/((SUM(C24*60,D24))/2000) -> 4.7058824 | I24: =1/((SUM(G24*60,H24))/(F3)) -> #DIV/0! | J24: =(I24/E24)*100 -> #DIV/0! | K24: =AVERAGE(J5:J81) -> #DIV/0! | L24: =(J24-K24) -> #DIV/0!
A25: LN4+ | B25: ='alle veldtijden'!C25 -> 0.0048649691 | C25: =MINUTE(B25) -> 7 | D25: =SECOND(B25) -> 0 | E25: =1/((SUM(C25*60,D25))/2000) -> 4.7619048 | I25: =1/((SUM(G25*60,H25))/(F3)) -> #DIV/0! | J25: =(I25/E25)*100 -> #DIV/0! | K25: =AVERAGE(J5:J81) -> #DIV/0! | L25: =(J25-K25) -> #DIV/0!
A26: LO4+ | B26: ='alle veldtijden'!C26 -> 0.0048140257 | C26: =MINUTE(B26) -> 6 | D26: =SECOND(B26) -> 56 | E26: =1/((SUM(C26*60,D26))/2000) -> 4.8076923 | I26: =1/((SUM(G26*60,H26))/(F3)) -> #DIV/0! | J26: =(I26/E26)*100 -> #DIV/0! | K26: =AVERAGE(J5:J81) -> #DIV/0! | L26: =(J26-K26) -> #DIV/0!
A27: LSA4+ | I27: =1/((SUM(G27*60,H27))/(F39)) -> #DIV/0! | J27: =(I27/E27)*100 -> #DIV/0! | K27: =AVERAGE(J5:J81) -> #DIV/0! | L27: =(J27-K27) -> #DIV/0!
A28: DB4+ | B28: ='alle veldtijden'!C28 -> 0.0054682677 | C28: =MINUTE(B28) -> 7 | D28: =SECOND(B28) -> 52 | E28: =1/((SUM(C28*60,D28))/2000) -> 4.2372881 | I28: =1/((SUM(G28*60,H28))/(F3)) -> #DIV/0! | J28: =(I28/E28)*100 -> #DIV/0! | K28: =AVERAGE(J5:J81) -> #DIV/0! | L28: =(J28-K28) -> #DIV/0!
A29: DN4+ | B29: ='alle veldtijden'!C29 -> 0.005412415 | C29: =MINUTE(B29) -> 7 | D29: =SECOND(B29) -> 48 | E29: =1/((SUM(C29*60,D29))/2000) -> 4.2735043 | I29: =1/((SUM(G29*60,H29))/(F3)) -> #DIV/0! | J29: =(I29/E29)*100 -> #DIV/0! | K29: =AVERAGE(J5:J81) -> #DIV/0! | L29: =(J29-K29) -> #DIV/0!
A30: DO4+ | B30: ='alle veldtijden'!C30 -> 0.0053573188 | C30: =MINUTE(B30) -> 7 | D30: =SECOND(B30) -> 43 | E30: =1/((SUM(C30*60,D30))/2000) -> 4.3196544 | I30: =1/((SUM(G30*60,H30))/(F3)) -> #DIV/0! | J30: =(I30/E30)*100 -> #DIV/0! | K30: =AVERAGE(J5:J81) -> #DIV/0! | L30: =(J30-K30) -> #DIV/0!
A31: DSA4+ | I31: =1/((SUM(G31*60,H31))/(F3)) -> #DIV/0! | J31: =(I31/E31)*100 -> #DIV/0! | K31: =AVERAGE(J5:J81) -> #DIV/0! | L31: =(J31-K31) -> #DIV/0!
A33: N4- | B33: ='alle veldtijden'!C33 -> 0.0045090664 | C33: =MINUTE(B33) -> 6 | D33: =SECOND(B33) -> 30 | E33: =1/((SUM(C33*60,D33))/2000) -> 5.1282051 | I33: =1/((SUM(G33*60,H33))/(F3)) -> #DIV/0! | J33: =(I33/E33)*100 -> #DIV/0! | K33: =AVERAGE(J5:J81) -> #DIV/0! | L33: =(J33-K33) -> #DIV/0!
A34: O4- | B34: ='alle veldtijden'!C34 -> 0.0044720252 | C34: =MINUTE(B34) -> 6 | D34: =SECOND(B34) -> 26 | E34: =1/((SUM(C34*60,D34))/2000) -> 5.1813472 | I34: =1/((SUM(G34*60,H34))/(F3)) -> #DIV/0! | J34: =(I34/E34)*100 -> #DIV/0! | K34: =AVERAGE(J5:J81) -> #DIV/0! | L34: =(J34-K34) -> #DIV/0!
A35: SA4- | B35: ='alle veldtijden'!C35 -> 0.0043307166 | C35: =MINUTE(B35) -> 6 | D35: =SECOND(B35) -> 14 | E35: =1/((SUM(C35*60,D35))/2000) -> 5.3475936 | I35: =1/((SUM(G35*60,H35))/(F3)) -> #DIV/0! | J35: =(I35/E35)*100 -> #DIV/0! | K35: =AVERAGE(J5:J81) -> #DIV/0! | L35: =(J35-K35) -> #DIV/0!
A36: LN4- | B36: ='alle veldtijden'!C36 -> 0.004535108 | C36: =MINUTE(B36) -> 6 | D36: =SECOND(B36) -> 32 | E36: =1/((SUM(C36*60,D36))/2000) -> 5.1020408 | I36: =1/((SUM(G36*60,H36))/(F3)) -> #DIV/0! | J36: =(I36/E36)*100 -> #DIV/0! | K36: =AVERAGE(J5:J81) -> #DIV/0! | L36: =(J36-K36) -> #DIV/0!
A37: LO4- | B37: ='alle veldtijden'!C37 -> 0.0045172647 | C37: =MINUTE(B37) -> 6 | D37: =SECOND(B37) -> 30 | E37: =1/((SUM(C37*60,D37))/2000) -> 5.1282051 | I37: =1/((SUM(G37*60,H37))/(F3)) -> #DIV/0! | J37: =(I37/E37)*100 -> #DIV/0! | K37: =AVERAGE(J5:J81) -> #DIV/0! | L37: =(J37-K37) -> #DIV/0!
A38: LSA4- | B38: ='alle veldtijden'!C38 -> 0.0044044863 | C38: =MINUTE(B38) -> 6 | D38: =SECOND(B38) -> 21 | E38: =1/((SUM(C38*60,D38))/2000) -> 5.2493438 | I38: =1/((SUM(G38*60,H38))/(F3)) -> #DIV/0! | J38: =(I38/E38)*100 -> #DIV/0! | K38: =AVERAGE(J5:J81) -> #DIV/0! | L38: =(J38-K38) -> #DIV/0!
A39: DN4- | B39: ='alle veldtijden'!C39 -> 0.0050810185 | C39: =MINUTE(B39) -> 7 | D39: =SECOND(B39) -> 19 | E39: =1/((SUM(C39*60,D39))/2000) -> 4.5558087
A40: DO4- | B40: ='alle veldtijden'!C40 -> 0.0050017238 | C40: =MINUTE(B40) -> 7 | D40: =SECOND(B40) -> 12 | E40: =1/((SUM(C40*60,D40))/2000) -> 4.6296296 | I40: =1/((SUM(G40*60,H40))/(F3)) -> #DIV/0! | J40: =(I40/E40)*100 -> #DIV/0! | K40: =AVERAGE(J5:J81) -> #DIV/0! | L40: =(J40-K40) -> #DIV/0!
A41: DSA4- | B41: ='alle veldtijden'!C41 -> 0.004895295 | C41: =MINUTE(B41) -> 7 | D41: =SECOND(B41) -> 3 | E41: =1/((SUM(C41*60,D41))/2000) -> 4.7281324 | I41: =1/((SUM(G41*60,H41))/(F3)) -> #DIV/0! | J41: =(I41/E41)*100 -> #DIV/0! | K41: =AVERAGE(J5:J81) -> #DIV/0! | L41: =(J41-K41) -> #DIV/0!
I42: =1/((SUM(G42*60,H42))/(F3)) -> #DIV/0! | J42: =(I42/E42)*100 -> #DIV/0! | K42: =AVERAGE(J5:J81) -> #DIV/0! | L42: =(J42-K42) -> #DIV/0!
...

Sheet alle veldtijden
E1: 1997 | H1: 1998 | K1: 1999 | O1: 2000 | R1: 2002 | V1: 2003 | Z1: 2004 | AD1: 2005 | AH1: 2006 | AL1: 2007 | AM1: later dan holl | AP1: 2008 | AT1: 2009 | AX1: 2010 | BB1: 2011 | BF1: 2012 | BJ1: 2013
A2: BOOT | B2: TOPTIJD | E2: RR | F2: ARB | G2: NSRF | H2: RR | I2: ARB | J2: NSRF | K2: RR | L2: HOL | M2: ARB | N2: NSRF | O2: RR | P2: ARB | Q2: NSRF | R2: RR | S2: ARB | T2: HOLNK | U2: NSRF | V2: RR | W2: ARB | X2: HOL | Y2: NSRF | Z2: RRNK | AA2: ARB | AB2: HOL | AC2: NSRF | AD2: RR | AE2: ARB | AF2: HOL | AG2: NSRF | AH2: RR | AI2: ARB | AJ2: HOL | AK2: NSRF | AL2: RR | AM2: ARB | AN2: HOL | AO2: NSRF | AP2: RR | AQ2: ARB | AR2: HOL | AS2: NSRF | AT2: HOL | AU2: ARB | AV2: RR | AW2: NSRF | AX2: HOL | AY2: Westelijke | AZ2: ARB | BA2: NSRF | BB2: Hollandia | BC2: Westelijke | BD2: ARB | BE2: NSRF | BF2: Hollandia | BG2: Westelijk | BH2: ARB | BI2: NSRF | BJ2: Hollandia | BK2: Westelijk | BL2: ARB | BM2: NSRF
C3: Gem. alle jaren | D3: Gem. 2007-2011 | AR3: Niet online
A4: EJ8 | B4: =MIN(E4:BI4) -> 0.0040625 | C4: =AVERAGE(E4:BI4) -> 0.0042983609 | D4: =AVERAGE(AL4:BI4) -> 0.0043512427 | R4: 0.0042824074 | S4: 0.0041435185 | T4: 0.004525463 | U4: 0.0041203704 | V4: 0.0044328704 | W4: 0.0040972222 | X4: 0.004224537 | Y4: 0.0041550926 | Z4: 0.0042592593 | AA4: 0.0041782407 | AB4: 0.004224537 | AC4: 0.0041087963 | AD4: 0.0044907407 | AF4: 0.0041666667 | AG4: 0.0041203704 | AH4: 0.0042592593 | AJ4: 0.0041087963 | AK4: 0.0044675926 | AL4: 0.005474537 | AM4: 0.0040625 | AN4: 0.0045138889 | AO4: 0.0040625 | AP4: 0.0046412037 | AQ4: 0.0042013889 | AS4: 0.004224537 | AT4: 0.0041550926 | AU4: 0.0045023148 | AV4: 0.0042013889 | AW4: 0.0041087963 | AX4: 0.004375 | AY4: 0.0043171296 | AZ4: 0.0043055556 | BA4: 0.0041435185 | BB4: 0.0044560185 | BC4: 0.0042013889 | BD4: 0.0046064815 | BE4: 0.0041203704
A5: B8 | B5: =MIN(E5:BI5) -> 0.0041087963 | C5: =AVERAGE(E5:BI5) -> 0.0042590181 | D5: =AVERAGE(AL5:BI5) -> 0.0042574318 | E5: 0.0044097222 | F5: 0.0043055556 | G5: 0.0042708333 | H5: 0.0043055556 | I5: 0.0041087963 | J5: 0.0041782407 | K5: 0.0043634259 | L5: 0.0041087963 | M5: 0.004212963 | N5: 0.0041666667 | O5: 0.0041666667 | R5: 0.0042708333 | S5: 0.0041550926 | T5: 0.0043518519 | U5: 0.0041319444 | V5: 0.004224537 | W5: 0.004212963 | X5: 0.004224537 | Y5: 0.004224537 | Z5: 0.0044097222 | AA5: 0.0042824074 | AB5: 0.0042592593 | AC5: 0.0043055556 | AD5: 0.0044212963 | AF5: 0.0042361111 | AG5: 0.0042476852 | AH5: 0.0042708333 | AJ5: 0.0042592593 | AK5: 0.0044560185 | AL5: 0.0044675926 | AM5: 0.0041666667 | AN5: 0.0041666667 | AO5: 0.004212963 | AP5: 0.0046875 | AQ5: 0.0042939815 | AS5: 0.0042476852 | AT5: 0.0041550926 | AU5: 0.0042824074 | AV5: 0.004212963 | AW5: 0.0042592593 | AX5: 0.0041782407 | AY5: 0.0041666667 | AZ5: 0.0041550926 | BA5: 0.0041087963 | BB5: 0.0043634259 | BC5: 0.0041550926 | BD5: 0.0043402778 | BE5: 0.0042708333
A6: N8 | B6: =MIN(E6:BI6) -> 0.0040856481 | C6: =AVERAGE(E6:BI6) -> 0.0042156339 | E6: 0.0045949074 | F6: 0.0040856481 | G6: 0.0041203704 | H6: 0.004212963 | I6: 0.0041087963 | J6: 0.0041435185 | K6: 0.0044212963 | L6: 0.0041203704 | M6: 0.0041203704 | N6: 0.0042708333 | O6: 0.0043171296 | P6: 0.0040856481 | Q6: 0.0042013889
A7: O8 | B7: =MIN(E7:BI7) -> 0.0039814815 | C7: =AVERAGE(E7:BI7) -> 0.0041965664 | E7: 0.0045023148 | F7: 0.0042592593 | G7: 0.0042592593 | H7: 0.0042824074 | I7: 0.0042013889 | J7: 0.0040277778 | K7: 0.004224537 | L7: 0.0041898148 | M7: 0.0040972222 | N7: 0.0039814815 | O7: 0.004212963 | Q7: 0.0041203704
A8: SA8 | B8: =MIN(E8:BI8) -> 0.0038541667 | C8: =AVERAGE(E8:BI8) -> 0.0040491255 | D8: =AVERAGE(AL8:BI8) -> 0.004066155 | E8: 0.0043171296 | F8: 0.0039930556 | H8: 0.0040393519 | I8: 0.0039467593 | K8: 0.0041203704 | L8: 0.0040277778 | M8: 0.0038888889 | O8: 0.0040046296 | Q8: 0.0040856481 | R8: 0.0040856481 | S8: 0.0039930556 | T8: 0.0039236111 | U8: 0.0039583333 | V8: 0.0039236111 | W8: 0.0038541667 | X8: 0.0040625 | Y8: 0.0040393519 | Z8: 0.0041087963 | AA8: 0.0041203704 | AB8: 0.0040509259 | AC8: 0.0040740741 | AF8: 0.0038888889 | AG8: 0.0040625 | AH8: 0.0041087963 | AJ8: 0.0040625 | AK8: 0.004212963 | AL8: 0.0046759259 | AM8: 0.0039236111 | AN8: 0.0039930556 | AO8: 0.0040740741 | AP8: 0.0045949074 | AQ8: 0.0040046296 | AS8: 0.0040509259 | AT8: 0.0040162037 | AU8: 0.0040625 | AV8: 0.0040393519 | AW8: 0.0039814815 | AX8: 0.0038888889 | AY8: 0.0039467593 | AZ8: 0.003900463 | BA8: 0.0038773148 | BB8: 0.0041435185 | BC8: 0.0038773148 | BD8: 0.0041550926 | BE8: 0.0040509259
A9: LEJ8 | B9: =MIN(E9:BI9) -> 0.0041435185 | C9: =AVERAGE(E9:BI9) -> 0.0043856356 | D9: =AVERAGE(AL9:BI9) -> 0.0044212963 | R9: 0.0044212963 | S9: 0.0042592593 | T9: 0.0047569444 | U9: 0.0041782407 | V9: 0.0042592593 | W9: 0.004212963 | X9: 0.0043518519 | Y9: 0.0042361111 | Z9: 0.0042939815 | AA9: 0.0042824074 | AB9: 0.0043518519 | AC9: 0.0042013889 | AD9: 0.0047800926 | AF9: 0.0043055556 | AG9: 0.004224537 | AH9: 0.0043402778 | AJ9: 0.0042361111 | AK9: 0.0045717593 | AL9: 0.0049537037 | AM9: 0.004224537 | AN9: 0.0046990741 | AO9: 0.0041898148 | AP9: 0.0047222222 | AQ9: 0.0042476852 | AS9: 0.0042824074 | AT9: 0.004224537 | AU9: 0.0046296296 | AV9: 0.0043865741 | AW9: 0.0041435185 | AX9: 0.004537037 | AY9: 0.0044675926 | AZ9: 0.0043518519 | BA9: 0.0042361111 | BB9: 0.0045833333 | BC9: 0.0042939815 | BD9: 0.0046180556 | BE9: 0.004212963
A10: LB8 | B10: =MIN(E10:BI10) -> 0.0041898148 | C10: =AVERAGE(E10:BI10) -> 0.0043819927 | D10: =AVERAGE(AL10:BI10) -> 0.0043865741 | E10: 0.0046412037 | F10: 0.0042013889 | G10: 0.0042939815 | H10: 0.0043055556 | I10: 0.0041898148 | J10: 0.0042361111 | K10: 0.0044907407 | L10: 0.0043171296 | M10: 0.0041898148 | N10: 0.004375 | O10: 0.0044907407 | P10: 0.0042476852 | Q10: 0.004375 | R10: 0.0044328704 | S10: 0.0042592593 | T10: 0.0045601852 | U10: 0.0043981481 | V10: 0.0042824074 | W10: 0.0042592593 | X10: 0.0043634259 | Y10: 0.0043981481 | Z10: 0.004525463 | AA10: 0.0044097222 | AB10: 0.0043518519 | AD10: 0.0046759259 | AF10: 0.0043634259 | AG10: 0.0043055556 | AH10: 0.0043055556 | AJ10: 0.0043287037 | AK10: 0.0048032407 | AL10: 0.0045486111 | AM10: 0.0042939815 | AN10: 0.0042824074 | AO10: 0.0043171296 | AP10: 0.0049768519 | AQ10: 0.0044097222 | AS10: 0.0043287037 | AT10: 0.0042824074 | AU10: 0.0043981481 | AV10: 0.0043055556 | AW10: 0.004375 | AX10: 0.0042824074 | AY10: 0.0042708333 | AZ10: 0.0042708333 | BB10: 0.0044560185 | BC10: 0.0042824074 | BD10: 0.004537037 | BE10: 0.0043402778
A11: LN8 | B11: =MIN(E11:BI11) -> 0.0041550926 | C11: =AVERAGE(E11:BI11) -> 0.0043150253 | E11: 0.0045949074 | F11: 0.0044212963 | G11: 0.0043865741 | H11: 0.0042476852 | I11: 0.0041550926 | J11: 0.0041782407 | K11: 0.0044444444 | L11: 0.0042592593 | M11: 0.0043171296 | N11: 0.004212963 | Q11: 0.0042476852
A12: LO8 | B12: =MIN(E12:BI12) -> 0.0040972222 | C12: =AVERAGE(E12:BI12) -> 0.0042370014 | E12: 0.0044675926 | F12: 0.0041550926 | G12: 0.0042361111 | H12: 0.0042476852 | I12: 0.0041898148 | J12: 0.0041666667 | K12: 0.0045138889 | L12: 0.004224537 | M12: 0.0041550926 | N12: 0.004212963 | O12: 0.0041666667 | P12: 0.0040972222 | Q12: 0.0042476852
A13: LSA8 | B13: =MIN(E13:BI13) -> 0.0039699074 | C13: =AVERAGE(E13:BI13) -> 0.0042132597 | D13: =AVERAGE(AL13:BI13) -> 0.004205653 | E13: 0.0043287037 | F13: 0.0041898148 | I13: 0.004224537 | M13: 0.0040277778 | Q13: 0.0041666667 | S13: 0.0042013889 | T13: 0.0042824074 | U13: 0.0041666667 | W13: 0.0040277778 | X13: 0.0041087963 | Y13: 0.0041435185 | Z13: 0.0044097222 | AA13: 0.0041898148 | AB13: 0.0043171296 | AC13: 0.0042824074 | AF13: 0.004375 | AG13: 0.0041898148 | AH13: 0.0042592593 | AJ13: 0.0040509259 | AK13: 0.0044675926 | AL13: 0.0050578704 | AM13: 0.0039699074 | AN13: 0.0042013889 | AO13: 0.0042476852 | AP13: 0.0046875 | AQ13: 0.0042013889 | AS13: 0.0040625 | AT13: 0.0041666667 | AU13: 0.0040740741 | AV13: 0.0041550926 | AW13: 0.0041782407 | AX13: 0.0040856481 | AY13: 0.0041087963 | AZ13: 0.0039814815 | BA13: 0.0040046296 | BB13: 0.0042592593 | BC13: 0.0041203704 | BD13: 0.004212963 | BE13: 0.0041319444
A14: DEJ8 | B14: =MIN(E14:BI14) -> 0.0045949074 | C14: =AVERAGE(E14:BI14) -> 0.0048517267 | D14: =AVERAGE(AL14:BI14) -> 0.0049025341 | R14: 0.0048958333 | S14: 0.0046759259 | T14: 0.0051736111 | U14: 0.0046990741 | V14: 0.004837963 | W14: 0.0046180556 | X14: 0.0048032407 | Y14: 0.0046875 | Z14: 0.0046759259 | AA14: 0.0047916667 | AB14: 0.0048032407 | AC14: 0.0045949074 | AD14: 0.0051041667 | AF14: 0.0046759259 | AG14: 0.0046412037 | AH14: 0.0048032407 | AJ14: 0.0046527778 | AK14: 0.0052314815 | AL14: 0.0053703704 | AM14: 0.0046527778 | AN14: 0.0050578704 | AO14: 0.0045949074 | AP14: 0.0053125 | AQ14: 0.0047222222 | AS14: 0.0047222222 | AT14: 0.0046875 | AU14: 0.0054050926 | AV14: 0.0048263889 | AW14: 0.0046527778 | AX14: 0.0049652778 | AY14: 0.0048611111 | AZ14: 0.0048263889 | BA14: 0.0046180556 | BB14: 0.0050925926 | BC14: 0.0047106481 | BD14: 0.0054050926 | BE14: 0.0046643519
A15: DB8 | B15: =MIN(E15:BI15) -> 0.0046527778 | C15: =AVERAGE(E15:BI15) -> 0.0048608749 | D15: =AVERAGE(AL15:BI15) -> 0.0048458821 | E15: 0.005 | F15: 0.0049768519 | G15: 0.0049652778 | H15: 0.004849537 | I15: 0.0048958333 | J15: 0.0047916667 | L15: 0.0047222222 | M15: 0.0050347222 | N15: 0.0047106481 | O15: 0.0047916667 | P15: 0.0047337963 | Q15: 0.0047453704 | R15: 0.0048958333 | S15: 0.0047800926 | T15: 0.0051388889 | U15: 0.0047685185 | V15: 0.0047685185 | W15: 0.004849537 | X15: 0.0048032407 | Y15: 0.004837963 | Z15: 0.0050694444 | AA15: 0.0048263889 | AB15: 0.0048611111 | AC15: 0.0048263889 | AD15: 0.0050810185 | AF15: 0.0047916667 | AG15: 0.0048611111 | AH15: 0.0048958333 | AJ15: 0.0047685185 | AK15: 0.0050694444 | AL15: 0.005 | AM15: 0.0046875 | AN15: 0.0046643519 | AO15: 0.004849537 | AP15: 0.005462963 | AQ15: 0.0048611111 | AS15: 0.0047800926 | AT15: 0.0047685185 | AU15: 0.0048958333 | AV15: 0.0049189815 | AW15: 0.0048611111 | AX15: 0.0046990741 | AY15: 0.0046875 | AZ15: 0.0047453704 | BA15: 0.0046527778 | BB15: 0.0049768519 | BC15: 0.0047106481 | BD15: 0.0049884259 | BE15: 0.0048611111
A16: DN8 | B16: =MIN(E16:BI16) -> 0.0046064815 | C16: =AVERAGE(E16:BI16) -> 0.0048165954 | E16: 0.0053935185 | F16: 0.0046875 | G16: 0.0047337963 | H16: 0.0047685185 | I16: 0.0047106481 | J16: 0.0046875 | K16: 0.0048611111 | L16: 0.0048263889 | M16: 0.0048263889 | N16: 0.0047800926 | O16: 0.0049652778 | P16: 0.0046064815 | Q16: 0.0047685185
A17: DO8 | B17: =MIN(E17:BI17) -> 0.004537037 | C17: =AVERAGE(E17:BI17) -> 0.0047472994 | E17: 0.0050231481 | F17: 0.0048958333 | G17: 0.0046990741 | H17: 0.0047685185 | I17: 0.0048032407 | J17: 0.0045949074 | K17: 0.0049652778 | L17: 0.0045601852 | M17: 0.0045833333 | N17: 0.004537037 | P17: 0.0049768519 | Q17: 0.0045601852
A18: DSA8 | B18: =MIN(E18:BI18) -> 0.004212963 | C18: =AVERAGE(E18:BI18) -> 0.0045935295 | D18: =AVERAGE(AL18:BI18) -> 0.0045563272 | E18: 0.0050231481 | F18: 0.0043518519 | H18: 0.0045138889 | K18: 0.0046527778 | M18: 0.0042476852 | O18: 0.0044560185 | Q18: 0.0046064815 | R18: 0.0047916667 | S18: 0.0046412037 | T18: 0.0048032407 | U18: 0.004525463 | V18: 0.0044212963 | W18: 0.0044328704 | X18: 0.0045833333 | Y18: 0.0047337963 | AA18: 0.0047106481 | AB18: 0.0046296296 | AC18: 0.0046643519 | AD18: 0.0048842593 | AF18: 0.0045717593 | AG18: 0.0046296296 | AH18: 0.0045949074 | AJ18: 0.0044791667 | AK18: 0.0049652778 | AL18: 0.0054050926 | AM18: 0.0044444444 | AN18: 0.0045717593 | AO18: 0.004537037 | AQ18: 0.0046412037 | AS18: 0.0045717593 | AT18: 0.0045023148 | AU18: 0.0044907407 | AV18: 0.0044444444 | AW18: 0.0045833333 | AX18: 0.0044328704 | AY18: 0.0044444444 | AZ18: 0.0042592593 | BA18: 0.0044444444 | BB18: 0.0046296296 | BC18: 0.004212963 | BD18: 0.0048032407 | BE18: 0.0045949074
A20: B4+ | B20: =MIN(E20:BI20) -> 0.0046296296 | C20: =AVERAGE(E20:BI20) -> 0.0048523715 | D20: =AVERAGE(AL20:BI20) -> 0.0048428363 | E20: 0.005162037 | F20: 0.0046875 | G20: 0.0048032407 | H20: 0.0048263889 | I20: 0.0046296296 | J20: 0.0047222222 | K20: 0.0051851852 | L20: 0.0047106481 | M20: 0.0047916667 | N20: 0.0048611111 | O20: 0.0048148148 | P20: 0.0046412037 | Q20: 0.0047453704 | R20: 0.0049537037 | T20: 0.0050462963 | U20: 0.0046990741 | V20: 0.0047685185 | W20: 0.0047569444 | X20: 0.004849537 | Y20: 0.0047569444 | Z20: 0.0049884259 | AA20: 0.004849537 | AB20: 0.0049074074 | AC20: 0.0047800926 | AD20: 0.0053587963 | AF20: 0.0049074074 | AG20: 0.0048148148 | AH20: 0.0047453704 | AJ20: 0.0047569444 | AK20: 0.0052314815 | AL20: 0.0051157407 | AM20: 0.0049305556 | AN20: 0.0046875 | AO20: 0.0047569444 | AP20: 0.0053935185 | AQ20: 0.0048148148 | AS20: 0.0046990741 | AT20: 0.0048611111 | AU20: 0.0051967593 | AV20: 0.0046875 | AW20: 0.0047337963 | AX20: 0.0047337963 | AY20: 0.0046643519 | AZ20: 0.0047222222 | BA20: 0.0046643519 | BB20: 0.0048842593 | BC20: 0.0046875 | BD20: 0.0050347222 | BE20: 0.0047453704
A21: N4+ | B21: =MIN(E21:BI21) -> 0.0044791667 | C21: =AVERAGE(E21:BI21) -> 0.00473125 | D21: =AVERAGE(AL21:BI21) -> 0.0048257797 | E21: 0.0048958333 | F21: 0.0046643519 | G21: 0.0046759259 | H21: 0.0045601852 | I21: 0.0046990741 | J21: 0.0046180556 | K21: 0.0047800926 | L21: 0.0045601852 | M21: 0.0046064815 | N21: 0.0044791667 | O21: 0.0046180556 | P21: 0.0047569444 | Q21: 0.0045949074 | R21: 0.0046990741 | S21: 0.004537037 | T21: 0.0050115741 | U21: 0.0045717593 | V21: 0.0046759259 | W21: 0.004537037 | X21: 0.0045949074 | Y21: 0.0045833333 | Z21: 0.0045486111 | AA21: 0.0046643519 | AB21: 0.0046643519 | AC21: 0.0045486111 | AD21: 0.0050694444 | AF21: 0.0046412037 | AG21: 0.0047222222 | AH21: 0.0046412037 | AJ21: 0.004525463 | AK21: 0.0051273148 | AL21: 0.0053472222 | AM21: 0.004537037 | AN21: 0.004837963 | AO21: 0.004525463 | AP21: 0.0050347222 | AQ21: 0.0046296296 | AS21: 0.0046875 | AT21: 0.0045601852 | AU21: 0.0052662037 | AV21: 0.0047569444 | AW21: 0.0045717593 | AX21: 0.0049074074 | AY21: 0.0048958333 | AZ21: 0.0048726852 | BA21: 0.0045833333 | BB21: 0.0050578704 | BC21: 0.0047106481 | BD21: 0.0053009259 | BE21: 0.0046064815
A22: O4+ | B22: =MIN(E22:BI22) -> 0.0043981481 | C22: =AVERAGE(E22:BI22) -> 0.0046522955 | D22: =AVERAGE(AL22:BI22) -> 0.0046704793 | E22: 0.0049652778 | F22: 0.0044791667 | G22: 0.0046296296 | H22: 0.0046064815 | I22: 0.0044791667 | J22: 0.004525463 | K22: 0.0048611111 | L22: 0.0044907407 | M22: 0.0045949074 | N22: 0.0045601852 | O22: 0.0046875 | P22: 0.0044444444 | Q22: 0.0046412037 | R22: 0.0047337963 | S22: 0.0045486111 | T22: 0.0048611111 | U22: 0.0045023148 | V22: 0.0045949074 | W22: 0.0046064815 | X22: 0.0045601852 | Y22: 0.0045717593 | Z22: 0.0046875 | AA22: 0.0045949074 | AB22: 0.0046296296 | AC22: 0.004525463 | AD22: 0.0049421296 | AF22: 0.0046875 | AG22: 0.0046527778 | AH22: 0.0046296296 | AJ22: 0.0046527778 | AK22: 0.0049652778 | AL22: 0.0049421296 | AN22: 0.0045717593 | AO22: 0.0045138889 | AP22: 0.0051157407 | AQ22: 0.0046990741 | AS22: 0.0045717593 | AT22: 0.0046643519 | AU22: 0.0049189815 | AV22: 0.0043981481 | AW22: 0.0044675926 | AX22: 0.0045833333 | AY22: 0.0046759259 | AZ22: 0.0046527778 | BA22: 0.004537037 | BB22: 0.0047685185 | BD22: 0.0047916667 | BE22: 0.004525463
A23: SA4+ | B23: =MIN(E23:BI23) -> 0.0043981481 | C23: =AVERAGE(E23:BI23) -> 0.0045325855 | D23: =AVERAGE(AL23:BI23) -> 0.0044097222 | E23: 0.0047106481 | H23: 0.0045833333 | J23: 0.0045138889 | K23: 0.0046643519 | L23: 0.0043981481 | M23: 0.0044675926 | N23: 0.0044328704 | O23: 0.0044212963 | Q23: 0.004537037 | T23: 0.0047685185 | Z23: 0.004525463 | AJ23: 0.0044907407 | AM23: 0.0044097222
A24: LB4+ | B24: =MIN(E24:BI24) -> 0.0046527778 | C24: =AVERAGE(E24:BI24) -> 0.0049211348 | D24: =AVERAGE(AL24:BI24) -> 0.00490128 | E24: 0.0049768519 | F24: 0.0050231481 | G24: 0.0049768519 | H24: 0.0049537037 | I24: 0.0048611111 | J24: 0.0047337963 | K24: 0.0050810185 | L24: 0.004837963 | M24: 0.0051851852 | N24: 0.0046875 | O24: 0.0048611111 | P24: 0.0047916667 | Q24: 0.0048611111 | R24: 0.0048726852 | S24: 0.004837963 | V24: 0.004837963 | W24: 0.0047916667 | X24: 0.0049537037 | Y24: 0.0049305556 | Z24: 0.0052893519 | AA24: 0.0049652778 | AB24: 0.0050462963 | AC24: 0.005 | AD24: 0.0051157407 | AG24: 0.0049768519 | AH24: 0.004837963 | AL24: 0.005162037 | AM24: 0.0048611111 | AN24: 0.0047453704 | AO24: 0.0049305556 | AP24: 0.0056365741 | AQ24: 0.0049884259 | AS24: 0.0047685185 | AV24: 0.0049421296 | AW24: 0.0047222222 | AX24: 0.0046875 | AY24: 0.0046527778 | AZ24: 0.0047453704 | BA24: 0.0046527778 | BB24: 0.005 | BC24: 0.0048263889 | BD24: 0.0051967593 | BE24: 0.0048032407
A25: LN4+ | B25: =MIN(E25:BI25) -> 0.0045833333 | C25: =AVERAGE(E25:BI25) -> 0.0048649691 | D25: =AVERAGE(AL25:BI25) -> 0.0049611928 | E25: 0.0051041667 | F25: 0.0045833333 | G25: 0.0046759259 | H25: 0.0046875 | I25: 0.0046759259 | J25: 0.0046412037 | K25: 0.0048842593 | L25: 0.0046643519 | M25: 0.0048263889 | N25: 0.0048148148 | O25: 0.0048958333 | P25: 0.0046990741 | Q25: 0.0048611111 | R25: 0.0048958333 | S25: 0.0047222222 | T25: 0.0051967593 | U25: 0.004837963 | V25: 0.0049074074 | W25: 0.0046875 | X25: 0.004837963 | Y25: 0.0047453704 | Z25: 0.0047106481 | AA25: 0.0049189815 | AB25: 0.0047222222 | AC25: 0.0047453704 | AD25: 0.005162037 | AF25: 0.0047222222 | AG25: 0.0046759259 | AH25: 0.0047916667 | AJ25: 0.0047222222 | AK25: 0.005162037 | AL25: 0.0054398148 | AM25: 0.0046527778 | AN25: 0.0051388889 | AO25: 0.0046643519 | AP25: 0.0052199074 | AQ25: 0.0047916667 | AS25: 0.0048263889 | AT25: 0.0047222222 | AU25: 0.0054976852 | AV25: 0.0048726852 | AW25: 0.0046759259 | AX25: 0.0051273148 | AY25: 0.004849537 | AZ25: 0.0048611111 | BA25: 0.0047569444 | BD25: 0.0055208333 | BE25: 0.0047222222
A26: LO4+ | B26: =MIN(E26:BI26) -> 0.0045833333 | C26: =AVERAGE(E26:BI26) -> 0.0048140257 | D26: =AVERAGE(AL26:BI26) -> 0.0048346561 | E26: 0.0049884259 | F26: 0.0048958333 | G26: 0.0047916667 | H26: 0.0047106481 | I26: 0.0047453704 | J26: 0.0046064815 | K26: 0.0048611111 | L26: 0.0046875 | M26: 0.0046759259 | N26: 0.0045949074 | O26: 0.0047106481 | Q26: 0.0046875 | R26: 0.0049652778 | S26: 0.0047337963 | T26: 0.0050925926 | U26: 0.0047222222 | V26: 0.0047685185 | W26: 0.0048148148 | X26: 0.0047337963 | Y26: 0.0047106481 | Z26: 0.0049305556 | AA26: 0.0048032407 | AB26: 0.0049074074 | AC26: 0.0047569444 | AD26: 0.0051273148 | AF26: 0.0047685185 | AG26: 0.0046875 | AH26: 0.0047337963 | AJ26: 0.0047337963 | AK26: 0.0051851852 | AL26: 0.0050578704 | AM26: 0.0047453704 | AN26: 0.0046412037 | AO26: 0.0047569444 | AP26: 0.0053819444 | AQ26: 0.0047569444 | AS26: 0.0047569444 | AT26: 0.0048148148 | AU26: 0.0050578704 | AW26: 0.0048032407 | AY26: 0.0047222222 | AZ26: 0.0047685185 | BA26: 0.0045833333 | BE26: 0.004837963
A27: LSA4+
A28: DB4+ | B28: =MIN(E28:BI28) -> 0.0052662037 | C28: =AVERAGE(E28:BI28) -> 0.0054682677 | D28: =AVERAGE(AL28:BI28) -> 0.0054976852 | E28: 0.0057986111 | F28: 0.0052662037 | G28: 0.0053587963 | H28: 0.0054166667 | I28: 0.0052662037 | J28: 0.0053125 | K28: 0.0055787037 | L28: 0.0053240741 | M28: 0.0053356481 | N28: 0.0055671296 | O28: 0.005625 | P28: 0.0053009259 | Q28: 0.0055092593 | R28: 0.0055671296 | S28: 0.0053125 | T28: 0.0056597222 | U28: 0.0053009259 | V28: 0.0054166667 | W28: 0.0055092593 | Y28: 0.005462963 | Z28: 0.0055324074 | AA28: 0.005462963 | AB28: 0.0054513889 | AC28: 0.0053587963 | AD28: 0.0055671296 | AF28: 0.0053819444 | AG28: 0.0053240741 | AH28: 0.0053356481 | AJ28: 0.0053819444 | AK28: 0.0058333333 | AL28: 0.0058912037 | AM28: 0.0054513889 | AO28: 0.0054166667 | AP28: 0.0059722222 | AQ28: 0.0054976852 | AS28: 0.0054282407 | AT28: 0.0054861111 | AU28: 0.0057986111 | AV28: 0.0053240741 | AW28: 0.0053009259 | AX28: 0.0055092593 | AY28: 0.0053587963 | AZ28: 0.0054050926 | BA28: 0.0053125 | BB28: 0.0055324074 | BC28: 0.0053356481 | BD28: 0.0055555556 | BE28: 0.0053819444
A29: DN4+ | B29: =MIN(E29:BI29) -> 0.0051388889 | C29: =AVERAGE(E29:BI29) -> 0.005412415 | D29: =AVERAGE(AL29:BI29) -> 0.005519615 | E29: 0.0055208333 | F29: 0.0054861111 | G29: 0.0053819444 | H29: 0.0053009259 | I29: 0.0053587963 | J29: 0.0051851852 | K29: 0.0055208333 | L29: 0.0051388889 | M29: 0.0052083333 | N29: 0.0051388889 | O29: 0.0053472222 | Q29: 0.0051851852 | R29: 0.0054050926 | S29: 0.0052430556 | T29: 0.0058449074 | U29: 0.0052083333 | V29: 0.0054861111 | W29: 0.005162037 | X29: 0.0052893519 | Y29: 0.0052546296 | Z29: 0.0053009259 | AA29: 0.0053819444 | AB29: 0.0053125 | AC29: 0.0052662037 | AD29: 0.0056828704 | AF29: 0.0051851852 | AG29: 0.0051736111 | AH29: 0.0053703704 | AJ29: 0.0052314815 | AK29: 0.0057638889 | AL29: 0.0061805556 | AM29: 0.005162037 | AN29: 0.0056828704 | AO29: 0.0052199074 | AP29: 0.0059259259 | AQ29: 0.0052199074 | AS29: 0.0052777778 | AT29: 0.0053935185 | AU29: 0.0061805556 | AV29: 0.0054398148 | AW29: 0.0051967593 | AX29: 0.0056134259 | AY29: 0.0056134259 | AZ29: 0.0054050926 | BA29: 0.0052199074 | BB29: 0.0056597222 | BC29: 0.0053819444 | BD29: 0.0058912037 | BE29: 0.0052083333
A30: DO4+ | B30: =MIN(E30:BI30) -> 0.0051388889 | C30: =AVERAGE(E30:BI30) -> 0.0053573188 | D30: =AVERAGE(AL30:BI30) -> 0.0053884549 | E30: 0.005625 | F30: 0.005162037 | G30: 0.0052546296 | H30: 0.0053356481 | I30: 0.0052199074 | J30: 0.0051736111 | K30: 0.0055439815 | L30: 0.005162037 | M30: 0.0051736111 | N30: 0.0053703704 | O30: 0.0055092593 | P30: 0.0051388889 | Q30: 0.0053819444 | R30: 0.0054050926 | S30: 0.0053009259 | T30: 0.005625 | U30: 0.0051967593 | V30: 0.0052199074 | W30: 0.0052777778 | X30: 0.0053703704 | Y30: 0.0053587963 | Z30: 0.0055324074 | AA30: 0.0052893519 | AB30: 0.0054050926 | AC30: 0.0053819444 | AD30: 0.0054976852 | AF30: 0.0052777778 | AG30: 0.0052662037 | AH30: 0.0053009259 | AJ30: 0.0052314815 | AK30: 0.0055902778 | AL30: 0.0056597222 | AM30: 0.0054282407 | AN30: 0.0051851852 | AO30: 0.0053240741 | AP30: 0.0058564815 | AQ30: 0.0052546296 | AS30: 0.0053009259 | AU30: 0.0057638889 | AW30: 0.0053009259 | AX30: 0.0053703704 | AY30: 0.0053356481 | AZ30: 0.0051736111 | BA30: 0.005162037 | BC30: 0.005162037 | BD30: 0.0056712963 | BE30: 0.0052662037
A31: DSA4+
A33: N4- | B33: =MIN(E33:BI33) -> 0.0043518519 | C33: =AVERAGE(E33:BI33) -> 0.0045090664 | D33: =AVERAGE(AL33:BI33) -> 0.0045090664 | AT33: 0.004375 | AU33: 0.0047569444 | AV33: 0.0045023148 | AW33: 0.004525463 | AX33: 0.0044675926 | AY33: 0.0044328704 | AZ33: 0.0044444444 | BA33: 0.0044097222 | BB33: 0.0046064815 | BC33: 0.0043518519 | BD33: 0.0047569444 | BE33: 0.0044791667
A34: O4- | B34: =MIN(E34:BI34) -> 0.0043055556 | C34: =AVERAGE(E34:BI34) -> 0.0044720252 | D34: =AVERAGE(AL34:BI34) -> 0.0044893791 | E34: 0.0047222222 | F34: 0.0044212963 | G34: 0.0044907407 | H34: 0.0043055556 | I34: 0.0043634259 | J34: 0.004375 | K34: 0.0045601852 | L34: 0.0043865741 | M34: 0.0045023148 | N34: 0.004375 | O34: 0.0046064815 | P34: 0.0044444444 | Q34: 0.0043981481 | R34: 0.0044444444 | S34: 0.004375 | T34: 0.0046527778 | U34: 0.004375 | V34: 0.0044328704 | W34: 0.0043634259 | X34: 0.0043402778 | Y34: 0.0043865741 | Z34: 0.0045486111 | AB34: 0.0043981481 | AC34: 0.0043518519 | AD34: 0.0047685185 | AF34: 0.0044444444 | AG34: 0.0043402778 | AH34: 0.0044212963 | AJ34: 0.0044328704 | AK34: 0.004837963 | AL34: 0.0049537037 | AM34: 0.0044791667 | AN34: 0.0043287037 | AO34: 0.0043518519 | AP34: 0.0047685185 | AQ34: 0.0044444444 | AS34: 0.0043634259 | AU34: 0.0047685185 | AV34: 0.004375 | AW34: 0.0044791667 | AY34: 0.0043981481 | AZ34: 0.0043865741 | BA34: 0.0043055556 | BB34: 0.0045138889 | BC34: 0.0043981481 | BD34: 0.0046180556 | BE34: 0.0043865741
A35: SA4- | B35: =MIN(E35:BI35) -> 0.0041087963 | C35: =AVERAGE(E35:BI35) -> 0.0043307166 | D35: =AVERAGE(AL35:BI35) -> 0.0043885031 | E35: 0.0046643519 | F35: 0.0041898148 | H35: 0.0042013889 | I35: 0.0042824074 | K35: 0.0043287037 | L35: 0.0043055556 | M35: 0.0041782407 | N35: 0.0044328704 | O35: 0.0041087963 | Q35: 0.0043055556 | R35: 0.0043287037 | S35: 0.0041782407 | T35: 0.0044560185 | U35: 0.004212963 | V35: 0.0042361111 | W35: 0.0041435185 | X35: 0.0043287037 | Y35: 0.0042476852 | Z35: 0.0042013889 | AA35: 0.004212963 | AB35: 0.0042013889 | AC35: 0.0042824074 | AD35: 0.0044560185 | AF35: 0.0042013889 | AG35: 0.004224537 | AH35: 0.0042013889 | AJ35: 0.0042013889 | AK35: 0.0049074074 | AL35: 0.0044444444 | AM35: 0.0042013889 | AN35: 0.0045717593 | AO35: 0.0042013889 | AP35: 0.005 | AQ35: 0.0043402778 | AS35: 0.004224537 | AT35: 0.0042592593 | AU35: 0.0046875 | AV35: 0.004212963 | AW35: 0.0041898148 | AX35: 0.004224537 | AY35: 0.0043865741 | AZ35: 0.0041666667 | BA35: 0.0042824074 | BB35: 0.0046412037 | BD35: 0.0045833333 | BE35: 0.004375
A36: LN4- | B36: =MIN(E36:BI36) -> 0.0043518519 | C36: =AVERAGE(E36:BI36) -> 0.004535108 | D36: =AVERAGE(AL36:BI36) -> 0.004535108 | AT36: 0.0044675926 | AU36: 0.0047800926 | AV36: 0.0045138889 | AW36: 0.0045717593 | AX36: 0.0044444444 | AY36: 0.0043865741 | AZ36: 0.0043518519 | BA36: 0.004375 | BB36: 0.0047106481 | BC36: 0.0044675926 | BD36: 0.0048148148 | BE36: 0.004537037
A37: LO4- | B37: =MIN(E37:BI37) -> 0.0042708333 | C37: =AVERAGE(E37:BI37) -> 0.0045172647 | D37: =AVERAGE(AL37:BI37) -> 0.0045275054 | E37: 0.0045833333 | F37: 0.0045601852 | G37: 0.0046412037 | H37: 0.0045601852 | I37: 0.0045486111 | J37: 0.0043634259 | K37: 0.0046527778 | L37: 0.0043634259 | M37: 0.0045717593 | N37: 0.0044328704 | O37: 0.0044560185 | P37: 0.004375 | Q37: 0.0043402778 | R37: 0.0046296296 | S37: 0.0044212963 | T37: 0.0046990741 | U37: 0.0043865741 | V37: 0.0044907407 | W37: 0.004375 | X37: 0.0045023148 | Y37: 0.0044675926 | Z37: 0.0046296296 | AA37: 0.0044328704 | AB37: 0.0044328704 | AC37: 0.0043981481 | AD37: 0.0047453704 | AF37: 0.0044791667 | AG37: 0.0044791667 | AH37: 0.0044328704 | AJ37: 0.0044907407 | AK37: 0.0049189815 | AL37: 0.005162037 | AM37: 0.0044560185 | AN37: 0.0042708333 | AO37: 0.0044328704 | AP37: 0.0049884259 | AQ37: 0.0045138889 | AS37: 0.0044907407 | AU37: 0.0048032407 | AV37: 0.0043171296 | AW37: 0.0044212963 | AY37: 0.0044212963 | AZ37: 0.0043634259 | BA37: 0.0043518519 | BB37: 0.0045601852 | BC37: 0.0043634259 | BD37: 0.0046064815 | BE37: 0.0044444444
A38: LSA4- | B38: =MIN(E38:BI38) -> 0.0041087963 | C38: =AVERAGE(E38:BI38) -> 0.0044044863 | D38: =AVERAGE(AL38:BI38) -> 0.0044890873 | E38: 0.0047222222 | F38: 0.004212963 | H38: 0.0042592593 | I38: 0.0043634259 | J38: 0.0044212963 | K38: 0.0043287037 | L38: 0.0042939815 | M38: 0.0041203704 | O38: 0.0043634259 | Q38: 0.0041087963 | R38: 0.0044907407 | S38: 0.0043055556 | T38: 0.0045833333 | U38: 0.0042939815 | V38: 0.0043171296 | W38: 0.0042939815 | X38: 0.0044444444 | Y38: 0.0043055556 | Z38: 0.0042592593 | AA38: 0.0043287037 | AB38: 0.004375 | AC38: 0.0042939815 | AD38: 0.0045601852 | AF38: 0.0043287037 | AG38: 0.0044097222 | AH38: 0.0044097222 | AJ38: 0.0042476852 | AK38: 0.0046990741 | AL38: 0.0047569444 | AM38: 0.004224537 | AN38: 0.0046990741 | AO38: 0.0042824074 | AP38: 0.0048611111 | AQ38: 0.0043402778 | AS38: 0.0043865741 | AT38: 0.0044328704 | AU38: 0.004849537 | AW38: 0.004224537 | AX38: 0.0043402778 | AZ38: 0.0042361111 | BD38: 0.0047916667 | BE38: 0.0044212963
A39: DN4- | B39: =MIN(E39:BI39) -> 0.0048958333 | C39: =AVERAGE(E39:BI39) -> 0.0050810185 | D39: =AVERAGE(AL39:BI39) -> 0.0050810185 | AT39: 0.0049421296 | AU39: 0.0055555556 | AV39: 0.0049652778 | AW39: 0.0050694444 | AX39: 0.0049537037 | AY39: 0.0050347222 | AZ39: 0.0050578704 | BA39: 0.0048958333 | BB39: 0.0052083333 | BC39: 0.0049537037 | BD39: 0.0053587963 | BE39: 0.0049768519
A40: DO4- | B40: =MIN(E40:BI40) -> 0.0047453704 | C40: =AVERAGE(E40:BI40) -> 0.0050017238 | D40: =AVERAGE(AL40:BI40) -> 0.0050319989 | F40: 0.0048726852 | G40: 0.0049074074 | H40: 0.0050578704 | I40: 0.0048148148 | J40: 0.0048611111 | K40: 0.0051388889 | L40: 0.0048032407 | M40: 0.0049884259 | N40: 0.004849537 | O40: 0.0047916667 | P40: 0.0048611111 | Q40: 0.0049189815 | R40: 0.0049652778 | S40: 0.0047453704 | T40: 0.0052662037 | U40: 0.0047569444 | V40: 0.0051157407 | W40: 0.0049884259 | X40: 0.0049768519 | Y40: 0.0050810185 | Z40: 0.0050925926 | AA40: 0.0050231481 | AB40: 0.0050694444 | AC40: 0.004849537 | AD40: 0.0054398148 | AF40: 0.0049652778 | AG40: 0.005 | AH40: 0.0049768519 | AJ40: 0.0050231481 | AK40: 0.0053356481 | AL40: 0.0056365741 | AM40: 0.0050115741 | AN40: 0.0048032407 | AO40: 0.0048958333 | AP40: 0.0056597222 | AQ40: 0.0050115741 | AS40: 0.004837963 | AT40: 0.0050231481 | AU40: 0.005462963 | AV40: 0.0048958333 | AW40: 0.0049189815 | AY40: 0.0048032407 | AZ40: 0.0048842593 | BA40: 0.0047569444 | BC40: 0.0048611111 | BD40: 0.0051967593 | BE40: 0.0048842593
A41: DSA4- | B41: =MIN(E41:BI41) -> 0.0045717593 | C41: =AVERAGE(E41:BI41) -> 0.004895295 | D41: =AVERAGE(AL41:BI41) -> 0.0049183007 | E41: 0.0048958333 | H41: 0.0047800926 | I41: 0.004837963 | K41: 0.0047569444 | L41: 0.0047222222 | M41: 0.0046990741 | O41: 0.0047685185 | Q41: 0.0047222222 | R41: 0.0051157407 | S41: 0.0048726852 | T41: 0.0052777778 | U41: 0.0048842593 | V41: 0.0049537037 | W41: 0.0046412037 | X41: 0.0048611111 | Y41: 0.0049305556 | Z41: 0.0047916667 | AA41: 0.0048842593 | AB41: 0.0048726852 | AC41: 0.0048958333 | AD41: 0.0053356481 | AF41: 0.0048611111 | AG41: 0.0048842593 | AH41: 0.0046296296 | AJ41: 0.0045717593 | AK41: 0.0054398148 | AL41: 0.0049884259 | AM41: 0.0047337963 | AN41: 0.0052777778 | AO41: 0.0047106481 | AP41: 0.0053587963 | AQ41: 0.0047916667 | AS41: 0.0049421296 | AT41: 0.0047916667 | AU41: 0.0050347222 | AV41: 0.0048958333 | AW41: 0.0046875 | AX41: 0.0047916667 | AY41: 0.0050115741 | AZ41: 0.0048263889 | BA41: 0.0046412037 | BD41: 0.0053472222 | BE41: 0.0047800926
A43: N2- | B43: =MIN(E43:BI43) -> 0.0048148148 | C43: =AVERAGE(E43:BI43) -> 0.0051157407 | D43: =AVERAGE(AL43:BI43) -> 0.0051273148 | E43: 0.0057060185 | F43: 0.0052893519 | I43: 0.0049652778 | L43: 0.0049652778 | M43: 0.0052083333 | N43: 0.0050347222 | O43: 0.0052083333 | Q43: 0.0050694444 | V43: 0.0049884259 | W43: 0.0050694444 | X43: 0.0050231481 | Z43: 0.0052662037 | AA43: 0.0050115741 | AB43: 0.0050347222 | AC43: 0.0049305556 | AD43: 0.0051273148 | AG43: 0.005 | AH43: 0.005 | AJ43: 0.005 | AK43: 0.0051967593 | AL43: 0.0058333333 | AM43: 0.0050231481 | AN43: 0.0048958333 | AO43: 0.0050925926 | AP43: 0.0055208333 | AQ43: 0.0049768519 | AS43: 0.0048958333 | AT43: 0.0051041667 | AU43: 0.0053819444 | AV43: 0.0048842593 | AW43: 0.0049768519 | AX43: 0.0053356481 | AY43: 0.0049421296 | AZ43: 0.0048148148 | BA43: 0.0049305556 | BB43: 0.0054513889 | BC43: 0.0050925926 | BD43: 0.0052430556 | BE43: 0.0050231481
...
