Workbook

Sheet 18-12-2011
A2: HEL-rex | B2: 41594
C4: RICHTTIJD | F4: Afstand
A5: Kolom1 | B5: Kolom2 | C5: MIN | D5: SEC | E5: m/s | F5: 3000 | G5: MIN3 | H5: SEC4 | I5: m/s2 | J5: ind. % | K5: gem. % | L5: verschil
A6: Rianne Gringhuis | B6: DB1x | C6: 8 | D6: 28 | E6: =1/((SUM(C6*60,D6))/2000) -> 3.9370079 | G6: 12 | H6: 51 | I6: =1/((SUM(G6*60,H6))/$F$5) -> 3.8910506 | J6: =(I6/E6)*100 -> 98.832685 | K6: =AVERAGE($J$6:$J$32) -> 93.352772 | L6: =(J6-K6) -> 5.4799123
A7: Lisanne Petter | B7: DB1x | C7: 8 | D7: 28 | E7: =1/((SUM(C7*60,D7))/2000) -> 3.9370079 | G7: 12 | H7: 55 | I7: =1/((SUM(G7*60,H7))/$F$5) -> 3.8709677 | J7: =(I7/E7)*100 -> 98.322581 | K7: =AVERAGE($J$6:$J$32) -> 93.352772 | L7: =(J7-K7) -> 4.9698082
A8: Daan Peters | B8: LSA1x | C8: 7 | D8: 25 | E8: =1/((SUM(C8*60,D8))/2000) -> 4.494382 | G8: 11 | H8: 22 | I8: =1/((SUM(G8*60,H8))/$F$5) -> 4.398827 | J8: =(I8/E8)*100 -> 97.8739 | K8: =AVERAGE($J$6:$J$32) -> 93.352772 | L8: =(J8-K8) -> 4.5211278
A9: Sunny Kolev | B9: N1x | C9: 7 | D9: 32 | E9: =1/((SUM(C9*60,D9))/2000) -> 4.4247788 | G9: 11 | H9: 36 | I9: =1/((SUM(G9*60,H9))/$F$5) -> 4.3103448 | J9: =(I9/E9)*100 -> 97.413793 | K9: =AVERAGE($J$6:$J$32) -> 93.352772 | L9: =(J9-K9) -> 4.0610206
A10: Rutger Bianchi | B10: LN1x | C10: 7 | D10: 39 | E10: =1/((SUM(C10*60,D10))/2000) -> 4.3572985 | G10: 11 | H10: 49 | I10: =1/((SUM(G10*60,H10))/$F$5) -> 4.2313117 | J10: =(I10/E10)*100 -> 97.108604 | K10: =AVERAGE($J$6:$J$32) -> 93.352772 | L10: =(J10-K10) -> 3.7558312
A11: Marloes Oldenburg | B11: DSA1x | C11: 8 | D11: 6 | E11: =1/((SUM(C11*60,D11))/2000) -> 4.1152263 | G11: 12 | H11: 35 | I11: =1/((SUM(G11*60,H11))/$F$5) -> 3.9735099 | J11: =(I11/E11)*100 -> 96.556291 | K11: =AVERAGE($J$6:$J$32) -> 93.352772 | L11: =(J11-K11) -> 3.2035189
A12: Jorrit Kortink | B12: LN1x | C12: 7 | D12: 39 | E12: =1/((SUM(C12*60,D12))/2000) -> 4.3572985 | G12: 11 | H12: 54 | I12: =1/((SUM(G12*60,H12))/$F$5) -> 4.2016807 | J12: =(I12/E12)*100 -> 96.428571 | K12: =AVERAGE($J$6:$J$32) -> 93.352772 | L12: =(J12-K12) -> 3.0757989
A13: Emma Corbijn | B13: DN1x | C13: 8 | D13: 23 | E13: =1/((SUM(C13*60,D13))/2000) -> 3.9761431 | G13: 13 | H13: 3 | I13: =1/((SUM(G13*60,H13))/$F$5) -> 3.8314176 | J13: =(I13/E13)*100 -> 96.360153 | K13: =AVERAGE($J$6:$J$32) -> 93.352772 | L13: =(J13-K13) -> 3.0073808
A14: Simone Harmsen | B14: LDB1x | C14: 8 | D14: 39 | E14: =1/((SUM(C14*60,D14))/2000) -> 3.8535645 | G14: 13 | H14: 32 | I14: =1/((SUM(G14*60,H14))/$F$5) -> 3.6945813 | J14: =(I14/E14)*100 -> 95.874384 | K14: =AVERAGE($J$6:$J$32) -> 93.352772 | L14: =(J14-K14) -> 2.5216117
A15: Roeland en Joroen | B15: LN2- | C15: 7 | D15: 28 | E15: =1/((SUM(C15*60,D15))/2000) -> 4.4642857 | G15: 11 | H15: 43 | I15: =1/((SUM(G15*60,H15))/$F$5) -> 4.2674253 | J15: =(I15/E15)*100 -> 95.590327 | K15: =AVERAGE($J$6:$J$32) -> 93.352772 | L15: =(J15-K15) -> 2.2375547
A16: Koen Luppes | B16: B1x | C16: 7 | D16: 36 | E16: =1/((SUM(C16*60,D16))/2000) -> 4.3859649 | G16: 11 | H16: 58 | I16: =1/((SUM(G16*60,H16))/$F$5) -> 4.178273 | J16: =(I16/E16)*100 -> 95.264624 | K16: =AVERAGE($J$6:$J$32) -> 93.352772 | L16: =(J16-K16) -> 1.9118515
A17: Alexandre Ruiz | B17: DB1x | C17: 8 | D17: 28 | E17: =1/((SUM(C17*60,D17))/2000) -> 3.9370079 | G17: 13 | H17: 20 | I17: =1/((SUM(G17*60,H17))/$F$5) -> 3.75 | J17: =(I17/E17)*100 -> 95.25 | K17: =AVERAGE($J$6:$J$32) -> 93.352772 | L17: =(J17-K17) -> 1.8972275
... A32: EJZ | B32: B8+ | C32: 6 | D32: 8 | E32: =1/((SUM(C32*60,D32))/2000) -> 5.4347826 | G32: 11 | H32: 7 | I32: =1/((SUM(G32*60,H32))/$F$5) -> 4.4977511 | J32: =(I32/E32)*100 -> 82.758621 | K32: =AVERAGE($J$6:$J$32) -> 93.352772 | L32: =(J32-K32) -> -10.594152

Sheet veldgemiddelen
A1: UITSLAGEN ReX-Test
C2: RICHTTIJD | F2: Afstand | J2: indiv. | K2: gem.
A3: ploeg | C3: MIN | D3: SEC | E3: m/s | F3: 3000 | G3: MIN | H3: SEC | I3: m/s | J3: perc. | K3: perc. | L3: verschil
A4: EJ8 | B4: ='alle veldtijden'!C4 -> 0.0042983609 | C4: =MINUTE(B4) -> 6 | D4: =SECOND(B4) -> 11 | E4: =1/((SUM(C4*60,D4))/2000) -> 5.3908356 | I4: =1/((SUM(G4*60,H4))/(F3)) -> #DIV/0! | J4: =(I4/E4)*100 -> #DIV/0! | K4: =AVERAGE(J4:J80) -> #DIV/0! | L4: =(J4-K4) -> #DIV/0!
A5: B8 | B5: ='alle veldtijden'!C5 -> 0.0042590181 | C5: =MINUTE(B5) -> 6 | D5: =SECOND(B5) -> 8 | E5: =1/((SUM(C5*60,D5))/2000) -> 5.4347826 | I5: =1/((SUM(G5*60,H5))/(F3)) -> #DIV/0! | J5: =(I5/E5)*100 -> #DIV/0! | K5: =AVERAGE(J5:J81) -> #DIV/0! | L5: =(J5-K5) -> #DIV/0!
A6: N8 | B6: ='alle veldtijden'!C6 -> 0.0042156339 | C6: =MINUTE(B6) -> 6 | D6: =SECOND(B6) -> 4 | E6: =1/((SUM(C6*60,D6))/2000) -> 5.4945055 | I6: =1/((SUM(G6*60,H6))/(F3)) -> #DIV/0! | J6: =(I6/E6)*100 -> #DIV/0! | K6: =AVERAGE(J5:J81) -> #DIV/0! | L6: =(J6-K6) -> #DIV/0!
A7: O8 | B7: ='alle veldtijden'!C7 -> 0.0041965664 | C7: =MINUTE(B7) -> 6 | D7: =SECOND(B7) -> 3 | E7: =1/((SUM(C7*60,D7))/2000) -> 5.5096419 | I7: =1/((SUM(G7*60,H7))/(F3)) -> #DIV/0! | J7: =(I7/E7)*100 -> #DIV/0! | K7: =AVERAGE(J5:J81) -> #DIV/0! | L7: =(J7-K7) -> #DIV/0!
A8: SA8 | B8: ='alle veldtijden'!C8 -> 0.0040491255 | C8: =MINUTE(B8) -> 5 | D8: =SECOND(B8) -> 50 | E8: =1/((SUM(C8*60,D8))/2000) -> 5.7142857 | I8: =1/((SUM(G8*60,H8))/(F3)) -> #DIV/0! | J8: =(I8/E8)*100 -> #DIV/0! | K8: =AVERAGE(J5:J81) -> #DIV/0! | L8: =(J8-K8) -> #DIV/0!
A9: LEJ8 | B9: ='alle veldtijden'!C9 -> 0.0043856356 | C9: =MINUTE(B9) -> 6 | D9: =SECOND(B9) -> 19 | E9: =1/((SUM(C9*60,D9))/2000) -> 5.2770449 | I9: =1/((SUM(G9*60,H9))/(F3)) -> #DIV/0! | J9: =(I9/E9)*100 -> #DIV/0! | K9: =AVERAGE(J4:J80) -> #DIV/0! | L9: =(J9-K9) -> #DIV/0!
A10: LB8 | B10: ='alle veldtijden'!C10 -> 0.0043819927 | C10: =MINUTE(B10) -> 6 | D10: =SECOND(B10) -> 19 | E10: =1/((SUM(C10*60,D10))/2000) -> 5.2770449 | I10: =1/((SUM(G10*60,H10))/(F3)) -> #DIV/0! | J10: =(I10/E10)*100 -> #DIV/0! | K10: =AVERAGE(J5:J81) -> #DIV/0! | L10: =(J10-K10) -> #DIV/0!
A11: LN8 | B11: ='alle veldtijden'!C11 -> 0.0043150253 | C11: =MINUTE(B11) -> 6 | D11: =SECOND(B11) -> 13 | E11: =1/((SUM(C11*60,D11))/2000) -> 5.3619303 | I11: =1/((SUM(G11*60,H11))/(F3)) -> #DIV/0! | J11: =(I11/E11)*100 -> #DIV/0! | K11: =AVERAGE(J5:J81) -> #DIV/0! | L11: =(J11-K11) -> #DIV/0!
A12: LO8 | B12: ='alle veldtijden'!C12 -> 0.0042370014 | C12: =MINUTE(B12) -> 6 | D12: =SECOND(B12) -> 6 | E12: =1/((SUM(C12*60,D12))/2000) -> 5.4644809 | I12: =1/((SUM(G12*60,H12))/(F3)) -> #DIV/0! | J12: =(I12/E12)*100 -> #DIV/0! | K12: =AVERAGE(J5:J81) -> #DIV/0! | L12: =(J12-K12) -> #DIV/0!
A13: LSA8 | B13: ='alle veldtijden'!C13 -> 0.0042132597 | C13: =MINUTE(B13) -> 6 | D13: =SECOND(B13) -> 4 | E13: =1/((SUM(C13*60,D13))/2000) -> 5.4945055 | I13: =1/((SUM(G13*60,H13))/(F3)) -> #DIV/0! | J13: =(I13/E13)*100 -> #DIV/0! | K13: =AVERAGE(J5:J81) -> #DIV/0! | L13: =(J13-K13) -> #DIV/0!
A14: DEJ8 | B14: ='alle veldtijden'!C14 -> 0.0048517267 | C14: =MINUTE(B14) -> 6 | D14: =SECOND(B14) -> 59 | E14: =1/((SUM(C14*60,D14))/2000) -> 4.7732697 | I14: =1/((SUM(G14*60,H14))/(F3)) -> #DIV/0! | J14: =(I14/E14)*100 -> #DIV/0! | K14: =AVERAGE(J4:J80) -> #DIV/0! | L14: =(J14-K14) -> #DIV/0!
A15: DB8 | B15: ='alle veldtijden'!C15 -> 0.0048608749 | C15: =MINUTE(B15) -> 7 | D15: =SECOND(B15) -> 0 | E15: =1/((SUM(C15*60,D15))/2000) -> 4.7619048 | I15: =1/((SUM(G15*60,H15))/(F3)) -> #DIV/0! | J15: =(I15/E15)*100 -> #DIV/0! | K15: =AVERAGE(J5:J81) -> #DIV/0! | L15: =(J15-K15) -> #DIV/0!
A16: DN8 | B16: ='alle veldtijden'!C16 -> 0.0048165954 | C16: =MINUTE(B16) -> 6 | D16: =SECOND(B16) -> 56 | E16: =1/((SUM(C16*60,D16))/2000) -> 4.8076923 | I16: =1/((SUM(G16*60,H16))/(F3)) -> #DIV/0! | J16: =(I16/E16)*100 -> #DIV/0! | K16: =AVERAGE(J5:J81) -> #DIV/0! | L16: =(J16-K16) -> #DIV/0!
A17: DO8 | B17: ='alle veldtijden'!C17 -> 0.0047472994 | C17: =MINUTE(B17) -> 6 | D17: =SECOND(B17) -> 50 | E17: =1/((SUM(C17*60,D17))/2000) -> 4.8780488 | I17: =1/((SUM(G17*60,H17))/(F3)) -> #DIV/0! | J17: =(I17/E17)*100 -> #DIV/0! | K17: =AVERAGE(J5:J81) -> #DIV/0! | L17: =(J17-K17) -> #DIV/0!
A18: DSA8 | B18: ='alle veldtijden'!C18 -> 0.0045935295 | C18: =MINUTE(B18) -> 6 | D18: =SECOND(B18) -> 37 | E18: =1/((SUM(C18*60,D18))/2000) -> 5.0377834 | I18: =1/((SUM(G18*60,H18))/(F3)) -> #DIV/0! | J18: =(I18/E18)*100 -> #DIV/0! | K18: =AVERAGE(J5:J81) -> #DIV/0! | L18: =(J18-K18) -> #DIV/0!
A20: B4+ | B20: ='alle veldtijden'!C20 -> 0.0048523715 | C20: =MINUTE(B20) -> 6 | D20: =SECOND(B20) -> 59 | E20: =1/((SUM(C20*60,D20))/2000) -> 4.7732697 | I20: =1/((SUM(G20*60,H20))/(F3)) -> #DIV/0! | J20: =(I20/E20)*100 -> #DIV/0! | K20: =AVERAGE(J5:J81) -> #DIV/0! | L20: =(J20-K20) -> #DIV/0!
A21: N4+ | B21: ='alle veldtijden'!C21 -> 0.00473125 | C21: =MINUTE(B21) -> 6 | D21: =SECOND(B21) -> 49 | E21: =1/((SUM(C21*60,D21))/2000) -> 4.8899756 | I21: =1/((SUM(G21*60,H21))/(F3)) -> #DIV/0! | J21: =(I21/E21)*100 -> #DIV/0! | K21: =AVERAGE(J5:J81) -> #DIV/0! | L21: =(J21-K21) -> #DIV/0!
A22: O4+ | B22: ='alle veldtijden'!C22 -> 0.0046522955 | C22: =MINUTE(B22) -> 6 | D22: =SECOND(B22) -> 42 | E22: =1/((SUM(C22*60,D22))/2000) -> 4.9751244 | I22: =1/((SUM(G22*60,H22))/(F3)) -> #DIV/0! | J22: =(I22/E22)*100 -> #DIV/0! | K22: =AVERAGE(J5:J81) -> #DIV/0! | L22: =(J22-K22) -> #DIV/0!
A23: SA4+ | B23: ='alle veldtijden'!C23 -> 0.0045325855 | C23: =MINUTE(B23) -> 6 | D23: =SECOND(B23) -> 32 | E23: =1/((SUM(C23*60,D23))/2000) -> 5.1020408 | I23: =1/((SUM(G23*60,H23))/(F3)) -> #DIV/0! | J23: =(I23/E23)*100 -> #DIV/0! | K23: =AVERAGE(J5:J81) -> #DIV/0! | L23: =(J23-K23) -> #DIV/0!
A24: LB4+ | B24: ='alle veldtijden'!C24 -> 0.0049211348 | C24: =MINUTE(B24) -> 7 | D24: =SECOND(B24) -> 5 | E24: =1/((SUM(C24*60,D24))/2000) -> 4.7058824 | I24: =1/((SUM(G24*60,H24))/(F3)) -> #DIV/0! | J24: =(I24/E24)*100 -> #DIV/0! | K24: =AVERAGE(J5:J81) -> #DIV/0! | L24: =(J24-K24) -> #DIV/0!
A25: LN4+ | B25: ='alle veldtijden'!C25 -> 0.0048649691 | C25: =MINUTE(B25) -> 7 | D25: =SECOND(B25) -> 0 | E25: =1/((SUM(C25*60,D25))/2000) -> 4.7619048 | I25: =1/((SUM(G25*60,H25))/(F3)) -> #DIV/0! | J25: =(I25/E25)*100 -> #DIV/0! | K25: =AVERAGE(J5:J81) -> #DIV/0! | L25: =(J25-K25) -> #DIV/0!
A26: LO4+ | B26: ='alle veldtijden'!C26 -> 0.0048140257 | C26: =MINUTE(B26) -> 6 | D26: =SECOND(B26) -> 56 | E26: =1/((SUM(C26*60,D26))/2000) -> 4.8076923 | I26: =1/((SUM(G26*60,H26))/(F3)) -> #DIV/0! | J26: =(I26/E26)*100 -> #DIV/0! | K26: =AVERAGE(J5:J81) -> #DIV/0! | L26: =(J26-K26) -> #DIV/0!
A27: LSA4+ | I27: =1/((SUM(G27*60,H27))/(F39)) -> #DIV/0! | J27: =(I27/E27)*100 -> #DIV/0! | K27: =AVERAGE(J5:J81) -> #DIV/0! | L27: =(J27-K27) -> #DIV/0!
A28: DB4+ | B28: ='alle veldtijden'!C28 -> 0.0054682677 | C28: =MINUTE(B28) -> 7 | D28: =SECOND(B28) -> 52 | E28: =1/((SUM(C28*60,D28))/2000) -> 4.2372881 | I28: =1/((SUM(G28*60,H28))/(F3)) -> #DIV/0! | J28: =(I28/E28)*100 -> #DIV/0! | K28: =AVERAGE(J5:J81) -> #DIV/0! | L28: =(J28-K28) -> #DIV/0!
A29: DN4+ | B29: ='alle veldtijden'!C29 -> 0.005412415 | C29: =MINUTE(B29) -> 7 | D29: =SECOND(B29) -> 48 | E29: =1/((SUM(C29*60,D29))/2000) -> 4.2735043 | I29: =1/((SUM(G29*60,H29))/(F3)) -> #DIV/0! | J29: =(I29/E29)*100 -> #DIV/0! | K29: =AVERAGE(J5:J81) -> #DIV/0! | L29: =(J29-K29) -> #DIV/0!
A30: DO4+ | B30: ='alle veldtijden'!C30 -> 0.0053573188 | C30: =MINUTE(B30) -> 7 | D30: =SECOND(B30) -> 43 | E30: =1/((SUM(C30*60,D30))/2000) -> 4.3196544 | I30: =1/((SUM(G30*60,H30))/(F3)) -> #DIV/0! | J30: =(I30/E30)*100 -> #DIV/0! | K30: =AVERAGE(J5:J81) -> #DIV/0! | L30: =(J30-K30) -> #DIV/0!
A31: DSA4+ | I31: =1/((SUM(G31*60,H31))/(F3)) -> #DIV/0! | J31: =(I31/E31)*100 -> #DIV/0! | K31: =AVERAGE(J5:J81) -> #DIV/0! | L31: =(J31-K31) -> #DIV/0!
A33: N4- | B33: ='alle veldtijden'!C33 -> 0.0045090664 | C33: =MINUTE(B33) -> 6 | D33: =SECOND(B33) -> 30 | E33: =1/((SUM(C33*60,D33))/2000) -> 5.1282051 | I33: =1/((SUM(G33*60,H33))/(F3)) -> #DIV/0! | J33: =(I33/E33)*100 -> #DIV/0! | K33: =AVERAGE(J5:J81) -> #DIV/0! | L33: =(J33-K33) -> #DIV/0!
A34: O4- | B34: ='alle veldtijden'!C34 -> 0.0044720252 | C34: =MINUTE(B34) -> 6 | D34: =SECOND(B34) -> 26 | E34: =1/((SUM(C34*60,D34))/2000) -> 5.1813472 | I34: =1/((SUM(G34*60,H34))/(F3)) -> #DIV/0! | J34: =(I34/E34)*100 -> #DIV/0! | K34: =AVERAGE(J5:J81) -> #DIV/0! | L34: =(J34-K34) -> #DIV/0!
A35: SA4- | B35: ='alle veldtijden'!C35 -> 0.0043307166 | C35: =MINUTE(B35) -> 6 | D35: =SECOND(B35) -> 14 | E35: =1/((SUM(C35*60,D35))/2000) -> 5.3475936 | I35: =1/((SUM(G35*60,H35))/(F3)) -> #DIV/0! | J35: =(I35/E35)*100 -> #DIV/0! | K35: =AVERAGE(J5:J81) -> #DIV/0! | L35: =(J35-K35) -> #DIV/0!
A36: LN4- | B36: ='alle veldtijden'!C36 -> 0.004535108 | C36: =MINUTE(B36) -> 6 | D36: =SECOND(B36) -> 32 | E36: =1/((SUM(C36*60,D36))/2000) -> 5.1020408 | I36: =1/((SUM(G36*60,H36))/(F3)) -> #DIV/0! | J36: =(I36/E36)*100 -> #DIV/0! | K36: =AVERAGE(J5:J81) -> #DIV/0! | L36: =(J36-K36) -> #DIV/0!
A37: LO4- | B37: ='alle veldtijden'!C37 -> 0.0045172647 | C37: =MINUTE(B37) -> 6 | D37: =SECOND(B37) -> 30 | E37: =1/((SUM(C37*60,D37))/2000) -> 5.1282051 | I37: =1/((SUM(G37*60,H37))/(F3)) -> #DIV/0! | J37: =(I37/E37)*100 -> #DIV/0! | K37: =AVERAGE(J5:J81) -> #DIV/0! | L37: =(J37-K37) -> #DIV/0!
A38: LSA4- | B38: ='alle veldtijden'!C38 -> 0.0044044863 | C38: =MINUTE(B38) -> 6 | D38: =SECOND(B38) -> 21 | E38: =1/((SUM(C38*60,D38))/2000) -> 5.2493438 | I38: =1/((SUM(G38*60,H38))/(F3)) -> #DIV/0! | J38: =(I38/E38)*100 -> #DIV/0! | K38: =AVERAGE(J5:J81) -> #DIV/0! | L38: =(J38-K38) -> #DIV/0!
A39: DN4- | B39: ='alle veldtijden'!C39 -> 0.0050810185 | C39: =MINUTE(B39) -> 7 | D39: =SECOND(B39) -> 19 | E39: =1/((SUM(C39*60,D39))/2000) -> 4.5558087
A40: DO4- | B40: ='alle veldtijden'!C40 -> 0.0050017238 | C40: =MINUTE(B40) -> 7 | D40: =SECOND(B40) -> 12 | E40: =1/((SUM(C40*60,D40))/2000) -> 4.6296296 | I40: =1/((SUM(G40*60,H40))/(F3)) -> #DIV/0! | J40: =(I40/E40)*100 -> #DIV/0! | K40: =AVERAGE(J5:J81) -> #DIV/0! | L40: =(J40-K40) -> #DIV/0!
A41: DSA4- | B41: ='alle veldtijden'!C41 -> 0.004895295 | C41: =MINUTE(B41) -> 7 | D41: =SECOND(B41) -> 3 | E41: =1/((SUM(C41*60,D41))/2000) -> 4.7281324 | I41: =1/((SUM(G41*60,H41))/(F3)) -> #DIV/0! | J41: =(I41/E41)*100 -> #DIV/0! | K41: =AVERAGE(J5:J81) -> #DIV/0! | L41: =(J41-K41) -> #DIV/0!
I42: =1/((SUM(G42*60,H42))/(F3)) -> #DIV/0! | J42: =(I42/E42)*100 -> #DIV/0! | K42: =AVERAGE(J5:J81) -> #DIV/0! | L42: =(J42-K42) -> #DIV/0!
A43: N2- | B43: ='alle veldtijden'!C43 -> 0.0051157407 | C43: =MINUTE(B43) -> 7 | D43: =SECOND(B43) -> 22 | E43: =1/((SUM(C43*60,D43))/2000) -> 4.5248869 | I43: =1/((SUM(G43*60,H43))/(F3)) -> #DIV/0! | J43: =(I43/E43)*100 -> #DIV/0! | K43: =AVERAGE(J5:J81) -> #DIV/0! | L43: =(J43-K43) -> #DIV/0!
A44: O2- | B44: ='alle veldtijden'!C44 -> 0.0049560658 | C44: =MINUTE(B44) -> 7 | D44: =SECOND(B44) -> 8 | E44: =1/((SUM(C44*60,D44))/2000) -> 4.6728972 | I44: =1/((SUM(G44*60,H44))/(F3)) -> #DIV/0! | J44: =(I44/E44)*100 -> #DIV/0! | K44: =AVERAGE(J5:J81) -> #DIV/0! | L44: =(J44-K44) -> #DIV/0!
A45: SA2- | B45: ='alle veldtijden'!C45 -> 0.0047883957 | C45: =MINUTE(B45) -> 6 | D45: =SECOND(B45) -> 54 | E45: =1/((SUM(C45*60,D45))/2000) -> 4.8309179 | I45: =1/((SUM(G45*60,H45))/(F3)) -> #DIV/0! | J45: =(I45/E45)*100 -> #DIV/0! | K45: =AVERAGE(J5:J81) -> #DIV/0! | L45: =(J45-K45) -> #DIV/0!
A46: LN2- | B46: ='alle veldtijden'!C46 -> 0.0051899842 | C46: =MINUTE(B46) -> 7 | D46: =SECOND(B46) -> 28 | E46: =1/((SUM(C46*60,D46))/2000) -> 4.4642857 | I46: =1/((SUM(G46*60,H46))/(F3)) -> #DIV/0! | J46: =(I46/E46)*100 -> #DIV/0! | K46: =AVERAGE(J5:J81) -> #DIV/0! | L46: =(J46-K46) -> #DIV/0!
A47: LO2- | B47: ='alle veldtijden'!C47 -> 0.0050168789 | C47: =MINUTE(B47) -> 7 | D47: =SECOND(B47) -> 13 | E47: =1/((SUM(C47*60,D47))/2000) -> 4.6189376 | I47: =1/((SUM(G47*60,H47))/(F3)) -> #DIV/0! | J47: =(I47/E47)*100 -> #DIV/0! | K47: =AVERAGE(J5:J81) -> #DIV/0! | L47: =(J47-K47) -> #DIV/0!
A48: LSA2- | B48: ='alle veldtijden'!C48 -> 0.0049089857 | C48: =MINUTE(B48) -> 7 | D48: =SECOND(B48) -> 4 | E48: =1/((SUM(C48*60,D48))/2000) -> 4.7169811 | I48: =1/((SUM(G48*60,H48))/(F39)) -> #DIV/0! | J48: =(I48/E48)*100 -> #DIV/0! | K48: =AVERAGE(J5:J81) -> #DIV/0! | L48: =(J48-K48) -> #DIV/0!
A49: DN2- | B49: ='alle veldtijden'!C49 -> 0.005683947 | C49: =MINUTE(B49) -> 8 | D49: =SECOND(B49) -> 11 | E49: =1/((SUM(C49*60,D49))/2000) -> 4.0733198
A50: DO2- | B50: ='alle veldtijden'!C50 -> 0.0055987812 | C50: =MINUTE(B50) -> 8 | D50: =SECOND(B50) -> 4 | E50: =1/((SUM(C50*60,D50))/2000) -> 4.1322314 | I50: =1/((SUM(G50*60,H50))/(F3)) -> #DIV/0! | J50: =(I50/E50)*100 -> #DIV/0! | K50: =AVERAGE(J5:J81) -> #DIV/0! | L50: =(J50-K50) -> #DIV/0!
A51: DSA2- | B51: ='alle veldtijden'!C51 -> 0.0053522201 | C51: =MINUTE(B51) -> 7 | D51: =SECOND(B51) -> 42 | E51: =1/((SUM(C51*60,D51))/2000) -> 4.3290043 | I51: =1/((SUM(G51*60,H51))/(F3)) -> #DIV/0! | J51: =(I51/E51)*100 -> #DIV/0! | K51: =AVERAGE(J5:J81) -> #DIV/0! | L51: =(J51-K51) -> #DIV/0!
I52: =1/((SUM(G52*60,H52))/(F3)) -> #DIV/0! | J52: =(I52/E52)*100 -> #DIV/0! | K52: =AVERAGE(J5:J81) -> #DIV/0! | L52: =(J52-K52) -> #DIV/0!
A53: B2X | B53: ='alle veldtijden'!C53 -> 0.0049568603 | C53: =MINUTE(B53) -> 7 | D53: =SECOND(B53) -> 8 | E53: =1/((SUM(C53*60,D53))/2000) -> 4.6728972 | I53: =1/((SUM(G53*60,H53))/(F39)) -> #DIV/0! | J53: =(I53/E53)*100 -> #DIV/0! | K53: =AVERAGE(J5:J81) -> #DIV/0! | L53: =(J53-K53) -> #DIV/0!
A54: N2X | B54: ='alle veldtijden'!C54 -> 0.004806802 | C54: =MINUTE(B54) -> 6 | D54: =SECOND(B54) -> 55 | E54: =1/((SUM(C54*60,D54))/2000) -> 4.8192771 | I54: =1/((SUM(G54*60,H54))/(F3)) -> #DIV/0! | J54: =(I54/E54)*100 -> #DIV/0! | K54: =AVERAGE(J5:J81) -> #DIV/0! | L54: =(J54-K54) -> #DIV/0!
A55: O2X | B55: ='alle veldtijden'!C55 -> 0.004682356 | C55: =MINUTE(B55) -> 6 | D55: =SECOND(B55) -> 45 | E55: =1/((SUM(C55*60,D55))/2000) -> 4.9382716 | I55: =1/((SUM(G55*60,H55))/(F3)) -> #DIV/0! | J55: =(I55/E55)*100 -> #DIV/0! | K55: =AVERAGE(J5:J81) -> #DIV/0! | L55: =(J55-K55) -> #DIV/0!
A56: SA2X | B56: ='alle veldtijden'!C56 -> 0.0046418293 | C56: =MINUTE(B56) -> 6 | D56: =SECOND(B56) -> 41 | E56: =1/((SUM(C56*60,D56))/2000) -> 4.9875312 | I56: =1/((SUM(G56*60,H56))/(F3)) -> #DIV/0! | J56: =(I56/E56)*100 -> #DIV/0! | K56: =AVERAGE(J5:J81) -> #DIV/0! | L56: =(J56-K56) -> #DIV/0!
A57: LB2X | B57: ='alle veldtijden'!C57 -> 0.0050144676 | C57: =MINUTE(B57) -> 7 | D57: =SECOND(B57) -> 13 | E57: =1/((SUM(C57*60,D57))/2000) -> 4.6189376 | I57: =1/((SUM(G57*60,H57))/(F3)) -> #DIV/0! | J57: =(I57/E57)*100 -> #DIV/0! | K57: =AVERAGE(J5:J81) -> #DIV/0! | L57: =(J57-K57) -> #DIV/0!
A58: LN2X | B58: ='alle veldtijden'!C58 -> 0.0049909979 | C58: =MINUTE(B58) -> 7 | D58: =SECOND(B58) -> 11 | E58: =1/((SUM(C58*60,D58))/2000) -> 4.6403712 | I58: =1/((SUM(G58*60,H58))/(F3)) -> #DIV/0! | J58: =(I58/E58)*100 -> #DIV/0! | K58: =AVERAGE(J5:J81) -> #DIV/0! | L58: =(J58-K58) -> #DIV/0!
A59: LO2X | B59: ='alle veldtijden'!C59 -> 0.0047482639 | C59: =MINUTE(B59) -> 6 | D59: =SECOND(B59) -> 50 | E59: =1/((SUM(C59*60,D59))/2000) -> 4.8780488 | I59: =1/((SUM(G59*60,H59))/(F3)) -> #DIV/0! | J59: =(I59/E59)*100 -> #DIV/0! | K59: =AVERAGE(J5:J81) -> #DIV/0! | L59: =(J59-K59) -> #DIV/0!
A60: LSA2X | B60: ='alle veldtijden'!C60 -> 0.0047185673 | C60: =MINUTE(B60) -> 6 | D60: =SECOND(B60) -> 48 | E60: =1/((SUM(C60*60,D60))/2000) -> 4.9019608 | I60: =1/((SUM(G60*60,H60))/(F3)) -> #DIV/0! | J60: =(I60/E60)*100 -> #DIV/0! | K60: =AVERAGE(J5:J81) -> #DIV/0! | L60: =(J60-K60) -> #DIV/0!
A61: DB2X | B61: ='alle veldtijden'!C61 -> 0.0055460859 | C61: =MINUTE(B61) -> 7 | D61: =SECOND(B61) -> 59 | E61: =1/((SUM(C61*60,D61))/2000) -> 4.1753653 | I61: =1/((SUM(G61*60,H61))/(F3)) -> #DIV/0! | J61: =(I61/E61)*100 -> #DIV/0! | K61: =AVERAGE(J5:J81) -> #DIV/0! | L61: =(J61-K61) -> #DIV/0!
A62: DN2X | B62: ='alle veldtijden'!C62 -> 0.0054507081 | C62: =MINUTE(B62) -> 7 | D62: =SECOND(B62) -> 51 | E62: =1/((SUM(C62*60,D62))/2000) -> 4.2462845 | I62: =1/((SUM(G62*60,H62))/(F3)) -> #DIV/0! | J62: =(I62/E62)*100 -> #DIV/0! | K62: =AVERAGE(J5:J81) -> #DIV/0! | L62: =(J62-K62) -> #DIV/0!
A63: DO2X | B63: ='alle veldtijden'!C63 -> 0.0052681327 | C63: =MINUTE(B63) -> 7 | D63: =SECOND(B63) -> 35 | E63: =1/((SUM(C63*60,D63))/2000) -> 4.3956044 | I63: =1/((SUM(G63*60,H63))/(F3)) -> #DIV/0! | J63: =(I63/E63)*100 -> #DIV/0! | K63: =AVERAGE(J5:J81) -> #DIV/0! | L63: =(J63-K63) -> #DIV/0!
A64: DSA2X | B64: ='alle veldtijden'!C64 -> 0.0051566734 | C64: =MINUTE(B64) -> 7 | D64: =SECOND(B64) -> 26 | E64: =1/((SUM(C64*60,D64))/2000) -> 4.4843049 | I64: =1/((SUM(G64*60,H64))/(F3)) -> #DIV/0! | J64: =(I64/E64)*100 -> #DIV/0! | K64: =AVERAGE(J5:J81) -> #DIV/0! | L64: =(J64-K64) -> #DIV/0!
A65: LDB2X | I65: =1/((SUM(G65*60,H65))/(F3)) -> #DIV/0! | J65: =(I65/E65)*100 -> #DIV/0! | K65: =AVERAGE(J5:J81) -> #DIV/0! | L65: =(J65-K65) -> #DIV/0!
A66: LDN2X | B66: ='alle veldtijden'!C66 -> 0.0053587963 | C66: =MINUTE(B66) -> 7 | D66: =SECOND(B66) -> 43 | E66: =1/((SUM(C66*60,D66))/2000) -> 4.3196544
A67: LDO2X | B67: ='alle veldtijden'!C67 -> 0.0052546296 | C67: =MINUTE(B67) -> 7 | D67: =SECOND(B67) -> 34 | E67: =1/((SUM(C67*60,D67))/2000) -> 4.4052863 | I67: =1/((SUM(G67*60,H67))/(F3)) -> #DIV/0! | J67: =(I67/E67)*100 -> #DIV/0! | K67: =AVERAGE(J5:J81) -> #DIV/0! | L67: =(J67-K67) -> #DIV/0!
A68: LDSA2X | B68: ='alle veldtijden'!C68 -> 0.0053298611 | C68: =MINUTE(B68) -> 7 | D68: =SECOND(B68) -> 41 | E68: =1/((SUM(C68*60,D68))/2000) -> 4.3383948 | I68: =1/((SUM(G68*60,H68))/(F3)) -> #DIV/0! | J68: =(I68/E68)*100 -> #DIV/0! | K68: =AVERAGE(J5:J81) -> #DIV/0! | L68: =(J68-K68) -> #DIV/0!
I69: =1/((SUM(G69*60,H69))/(F3)) -> #DIV/0! | J69: =(I69/E69)*100 -> #DIV/0! | K69: =AVERAGE(J5:J81) -> #DIV/0! | L69: =(J69-K69) -> #DIV/0!
A70: B1X | B70: ='alle veldtijden'!C70 -> 0.0052747685 | C70: =MINUTE(B70) -> 7 | D70: =SECOND(B70) -> 36 | E70: =1/((SUM(C70*60,D70))/2000) -> 4.3859649 | I70: =1/((SUM(G70*60,H70))/(F3)) -> #DIV/0! | J70: =(I70/E70)*100 -> #DIV/0! | K70: =AVERAGE(J5:J81) -> #DIV/0! | L70: =(J70-K70) -> #DIV/0!
A71: N1X | B71: ='alle veldtijden'!C71 -> 0.0052300926 | C71: =MINUTE(B71) -> 7 | D71: =SECOND(B71) -> 32 | E71: =1/((SUM(C71*60,D71))/2000) -> 4.4247788 | I71: =1/((SUM(G71*60,H71))/(F3)) -> #DIV/0! | J71: =(I71/E71)*100 -> #DIV/0! | K71: =AVERAGE(J5:J81) -> #DIV/0! | L71: =(J71-K71) -> #DIV/0!
A72: O1X | B72: ='alle veldtijden'!C72 -> 0.0051365268 | C72: =MINUTE(B72) -> 7 | D72: =SECOND(B72) -> 24 | E72: =1/((SUM(C72*60,D72))/2000) -> 4.5045045 | I72: =1/((SUM(G72*60,H72))/(F3)) -> #DIV/0! | J72: =(I72/E72)*100 -> #DIV/0! | K72: =AVERAGE(J5:J81) -> #DIV/0! | L72: =(J72-K72) -> #DIV/0!
A73: SA1X | B73: ='alle veldtijden'!C73 -> 0.0050581115 | C73: =MINUTE(B73) -> 7 | D73: =SECOND(B73) -> 17 | E73: =1/((SUM(C73*60,D73))/2000) -> 4.576659 | I73: =1/((SUM(G73*60,H73))/(F3)) -> #DIV/0! | J73: =(I73/E73)*100 -> #DIV/0! | K73: =AVERAGE(J5:J81) -> #DIV/0! | L73: =(J73-K73) -> #DIV/0!
A74: LB1X | B74: ='alle veldtijden'!C74 -> 0.0053609221 | C74: =MINUTE(B74) -> 7 | D74: =SECOND(B74) -> 43 | E74: =1/((SUM(C74*60,D74))/2000) -> 4.3196544 | I74: =1/((SUM(G74*60,H74))/(F3)) -> #DIV/0! | J74: =(I74/E74)*100 -> #DIV/0! | K74: =AVERAGE(J5:J81) -> #DIV/0! | L74: =(J74-K74) -> #DIV/0!
A75: LN1X | B75: ='alle veldtijden'!C75 -> 0.0053125 | C75: =MINUTE(B75) -> 7 | D75: =SECOND(B75) -> 39 | E75: =1/((SUM(C75*60,D75))/2000) -> 4.3572985 | I75: =1/((SUM(G75*60,H75))/(F3)) -> #DIV/0! | J75: =(I75/E75)*100 -> #DIV/0! | K75: =AVERAGE(J5:J81) -> #DIV/0! | L75: =(J75-K75) -> #DIV/0!
A76: LO1X | B76: ='alle veldtijden'!C76 -> 0.0052175454 | C76: =MINUTE(B76) -> 7 | D76: =SECOND(B76) -> 31 | E76: =1/((SUM(C76*60,D76))/2000) -> 4.4345898 | I76: =1/((SUM(G76*60,H76))/(F3)) -> #DIV/0! | J76: =(I76/E76)*100 -> #DIV/0! | K76: =AVERAGE(J5:J81) -> #DIV/0! | L76: =(J76-K76) -> #DIV/0!
A77: LSA1X | B77: ='alle veldtijden'!C77 -> 0.0051507092 | C77: =MINUTE(B77) -> 7 | D77: =SECOND(B77) -> 25 | E77: =1/((SUM(C77*60,D77))/2000) -> 4.494382 | I77: =1/((SUM(G77*60,H77))/(F3)) -> #DIV/0! | J77: =(I77/E77)*100 -> #DIV/0! | K77: =AVERAGE(J5:J81) -> #DIV/0! | L77: =(J77-K77) -> #DIV/0!
A78: DB1X | B78: ='alle veldtijden'!C78 -> 0.0058766204 | C78: =MINUTE(B78) -> 8 | D78: =SECOND(B78) -> 28 | E78: =1/((SUM(C78*60,D78))/2000) -> 3.9370079 | I78: =1/((SUM(G78*60,H78))/(F3)) -> #DIV/0! | J78: =(I78/E78)*100 -> #DIV/0! | K78: =AVERAGE(J5:J81) -> #DIV/0! | L78: =(J78-K78) -> #DIV/0!
A79: DN1x | B79: ='alle veldtijden'!C79 -> 0.0058240741 | C79: =MINUTE(B79) -> 8 | D79: =SECOND(B79) -> 23 | E79: =1/((SUM(C79*60,D79))/2000) -> 3.9761431 | I79: =1/((SUM(G79*60,H79))/(F3)) -> #DIV/0! | J79: =(I79/E79)*100 -> #DIV/0! | K79: =AVERAGE(J5:J81) -> #DIV/0! | L79: =(J79-K79) -> #DIV/0!
A80: DO1X | B80: ='alle veldtijden'!C80 -> 0.0056980453 | C80: =MINUTE(B80) -> 8 | D80: =SECOND(B80) -> 12 | E80: =1/((SUM(C80*60,D80))/2000) -> 4.0650407 | I80: =1/((SUM(G80*60,H80))/(F3)) -> #DIV/0! | J80: =(I80/E80)*100 -> #DIV/0! | K80: =AVERAGE(J5:J81) -> #DIV/0! | L80: =(J80-K80) -> #DIV/0!
A81: DSA1X | B81: ='alle veldtijden'!C81 -> 0.0056220449 | C81: =MINUTE(B81) -> 8 | D81: =SECOND(B81) -> 6 | E81: =1/((SUM(C81*60,D81))/2000) -> 4.1152263 | I81: =1/((SUM(G81*60,H81))/(F3)) -> #DIV/0! | J81: =(I81/E81)*100 -> #DIV/0! | K81: =AVERAGE(J5:J81) -> #DIV/0! | L81: =(J81-K81) -> #DIV/0!
A82: LDB1X | B82: ='alle veldtijden'!C82 -> 0.0060023148 | C82: =MINUTE(B82) -> 8 | D82: =SECOND(B82) -> 39 | E82: =1/((SUM(C82*60,D82))/2000) -> 3.8535645 | I82: =1/((SUM(G82*60,H82))/(F3)) -> #DIV/0! | J82: =(I82/E82)*100 -> #DIV/0! | K82: =AVERAGE(J6:J82) -> #DIV/0! | L82: =(J82-K82) -> #DIV/0!
A83: LDN1X | B83: ='alle veldtijden'!C83 -> 0.0059446759 | C83: =MINUTE(B83) -> 8 | D83: =SECOND(B83) -> 34 | E83: =1/((SUM(C83*60,D83))/2000) -> 3.8910506 | I83: =1/((SUM(G83*60,H83))/(F3)) -> #DIV/0! | J83: =(I83/E83)*100 -> #DIV/0! | K83: =AVERAGE(J7:J83) -> #DIV/0! | L83: =(J83-K83) -> #DIV/0!
A84: LDO1X | B84: ='alle veldtijden'!C84 -> 0.0058280724 | C84: =MINUTE(B84) -> 8 | D84: =SECOND(B84) -> 24 | E84: =1/((SUM(C84*60,D84))/2000) -> 3.968254 | I84: =1/((SUM(G84*60,H84))/(F3)) -> #DIV/0! | J84: =(I84/E84)*100 -> #DIV/0! | K84: =AVERAGE(J8:J84) -> #DIV/0! | L84: =(J84-K84) -> #DIV/0!
A85: LDSA1X | B85: ='alle veldtijden'!C85 -> 0.005703596 | C85: =MINUTE(B85) -> 8 | D85: =SECOND(B85) -> 13 | E85: =1/((SUM(C85*60,D85))/2000) -> 4.0567951 | I85: =1/((SUM(G85*60,H85))/(F3)) -> #DIV/0! | J85: =(I85/E85)*100 -> #DIV/0! | K85: =AVERAGE(J9:J85) -> #DIV/0! | L85: =(J85-K85) -> #DIV/0!

Sheet alle veldtijden
E1: 1997 | H1: 1998 | K1: 1999 | O1: 2000 | R1: 2002 | V1: 2003 | Z1: 2004 | AD1: 2005 | AH1: 2006 | AL1: 2007 | AM1: later dan holl | AP1: 2008 | AT1: 2009 | AX1: 2010 | BB1: 2011 | BF1: 2012 | BJ1: 2013
A2: BOOT | B2: TOPTIJD | E2: RR | F2: ARB | G2: NSRF | H2: RR | I2: ARB | J2: NSRF | K2: RR | L2: HOL | M2: ARB | N2: NSRF | O2: RR | P2: ARB | Q2: NSRF | R2: RR | S2: ARB | T2: HOLNK | U2: NSRF | V2: RR | W2: ARB | X2: HOL | Y2: NSRF | Z2: RRNK | AA2: ARB | AB2: HOL | AC2: NSRF | AD2: RR | AE2: ARB | AF2: HOL | AG2: NSRF | AH2: RR | AI2: ARB | AJ2: HOL | AK2: NSRF | AL2: RR | AM2: ARB | AN2: HOL | AO2: NSRF | AP2: RR | AQ2: ARB | AR2: HOL | AS2: NSRF | AT2: HOL | AU2: ARB | AV2: RR | AW2: NSRF | AX2: HOL | AY2: Westelijke | AZ2: ARB | BA2: NSRF | BB2: Hollandia | BC2: Westelijke | BD2: ARB | BE2: NSRF | BF2: Hollandia | BG2: Westelijk | BH2: ARB | BI2: NSRF | BJ2: Hollandia | BK2: Westelijk | BL2: ARB | BM2: NSRF
C3: Gem. alle jaren | D3: Gem. 2007-2011 | AR3: Niet online
A4: EJ8 | B4: =MIN(E4:BI4) -> 0.0040625 | C4: =AVERAGE(E4:BI4) -> 0.0042983609 | D4: =AVERAGE(AL4:BI4) -> 0.0043512427 | R4: 0.0042824074 | S4: 0.0041435185 | T4: 0.004525463 | U4: 0.0041203704 | V4: 0.0044328704 | W4: 0.0040972222 | X4: 0.004224537 | Y4: 0.0041550926 | Z4: 0.0042592593 | AA4: 0.0041782407 | AB4: 0.004224537 | AC4: 0.0041087963 | AD4: 0.0044907407 | AF4: 0.0041666667 | AG4: 0.0041203704 | AH4: 0.0042592593 | AJ4: 0.0041087963 | AK4: 0.0044675926 | AL4: 0.005474537 | AM4: 0.0040625 | AN4: 0.0045138889 | AO4: 0.0040625 | AP4: 0.0046412037 | AQ4: 0.0042013889 | AS4: 0.004224537 | AT4: 0.0041550926 | AU4: 0.0045023148 | AV4: 0.0042013889 | AW4: 0.0041087963 | AX4: 0.004375 | AY4: 0.0043171296 | AZ4: 0.0043055556 | BA4: 0.0041435185 | BB4: 0.0044560185 | BC4: 0.0042013889 | BD4: 0.0046064815 | BE4: 0.0041203704
A5: B8 | B5: =MIN(E5:BI5) -> 0.0041087963 | C5: =AVERAGE(E5:BI5) -> 0.0042590181 | D5: =AVERAGE(AL5:BI5) -> 0.0042574318 | E5: 0.0044097222 | F5: 0.0043055556 | G5: 0.0042708333 | H5: 0.0043055556 | I5: 0.0041087963 | J5: 0.0041782407 | K5: 0.0043634259 | L5: 0.0041087963 | M5: 0.004212963 | N5: 0.0041666667 | O5: 0.0041666667 | R5: 0.0042708333 | S5: 0.0041550926 | T5: 0.0043518519 | U5: 0.0041319444 | V5: 0.004224537 | W5: 0.004212963 | X5: 0.004224537 | Y5: 0.004224537 | Z5: 0.0044097222 | AA5: 0.0042824074 | AB5: 0.0042592593 | AC5: 0.0043055556 | AD5: 0.0044212963 | AF5: 0.0042361111 | AG5: 0.0042476852 | AH5: 0.0042708333 | AJ5: 0.0042592593 | AK5: 0.0044560185 | AL5: 0.0044675926 | AM5: 0.0041666667 | AN5: 0.0041666667 | AO5: 0.004212963 | AP5: 0.0046875 | AQ5: 0.0042939815 | AS5: 0.0042476852 | AT5: 0.0041550926 | AU5: 0.0042824074 | AV5: 0.004212963 | AW5: 0.0042592593 | AX5: 0.0041782407 | AY5: 0.0041666667 | AZ5: 0.0041550926 | BA5: 0.0041087963 | BB5: 0.0043634259 | BC5: 0.0041550926 | BD5: 0.0043402778 | BE5: 0.0042708333
A6: N8 | B6: =MIN(E6:BI6) -> 0.0040856481 | C6: =AVERAGE(E6:BI6) -> 0.0042156339 | E6: 0.0045949074 | F6: 0.0040856481 | G6: 0.0041203704 | H6: 0.004212963 | I6: 0.0041087963 | J6: 0.0041435185 | K6: 0.0044212963 | L6: 0.0041203704 | M6: 0.0041203704 | N6: 0.0042708333 | O6: 0.0043171296 | P6: 0.0040856481 | Q6: 0.0042013889
A7: O8 | B7: =MIN(E7:BI7) -> 0.0039814815 | C7: =AVERAGE(E7:BI7) -> 0.0041965664 | E7: 0.0045023148 | F7: 0.0042592593 | G7: 0.0042592593 | H7: 0.0042824074 | I7: 0.0042013889 | J7: 0.0040277778 | K7: 0.004224537 | L7: 0.0041898148 | M7: 0.0040972222 | N7: 0.0039814815 | O7: 0.004212963 | Q7: 0.0041203704
A8: SA8 | B8: =MIN(E8:BI8) -> 0.0038541667 | C8: =AVERAGE(E8:BI8) -> 0.0040491255 | D8: =AVERAGE(AL8:BI8) -> 0.004066155 | E8: 0.0043171296 | F8: 0.0039930556 | H8: 0.0040393519 | I8: 0.0039467593 | K8: 0.0041203704 | L8: 0.0040277778 | M8: 0.0038888889 | O8: 0.0040046296 | Q8: 0.0040856481 | R8: 0.0040856481 | S8: 0.0039930556 | T8: 0.0039236111 | U8: 0.0039583333 | V8: 0.0039236111 | W8: 0.0038541667 | X8: 0.0040625 | Y8: 0.0040393519 | Z8: 0.0041087963 | AA8: 0.0041203704 | AB8: 0.0040509259 | AC8: 0.0040740741 | AF8: 0.0038888889 | AG8: 0.0040625 | AH8: 0.0041087963 | AJ8: 0.0040625 | AK8: 0.004212963 | AL8: 0.0046759259 | AM8: 0.0039236111 | AN8: 0.0039930556 | AO8: 0.0040740741 | AP8: 0.0045949074 | AQ8: 0.0040046296 | AS8: 0.0040509259 | AT8: 0.0040162037 | AU8: 0.0040625 | AV8: 0.0040393519 | AW8: 0.0039814815 | AX8: 0.0038888889 | AY8: 0.0039467593 | AZ8: 0.003900463 | BA8: 0.0038773148 | BB8: 0.0041435185 | BC8: 0.0038773148 | BD8: 0.0041550926 | BE8: 0.0040509259
A9: LEJ8 | B9: =MIN(E9:BI9) -> 0.0041435185 | C9: =AVERAGE(E9:BI9) -> 0.0043856356 | D9: =AVERAGE(AL9:BI9) -> 0.0044212963 | R9: 0.0044212963 | S9: 0.0042592593 | T9: 0.0047569444 | U9: 0.0041782407 | V9: 0.0042592593 | W9: 0.004212963 | X9: 0.0043518519 | Y9: 0.0042361111 | Z9: 0.0042939815 | AA9: 0.0042824074 | AB9: 0.0043518519 | AC9: 0.0042013889 | AD9: 0.0047800926 | AF9: 0.0043055556 | AG9: 0.004224537 | AH9: 0.0043402778 | AJ9: 0.0042361111 | AK9: 0.0045717593 | AL9: 0.0049537037 | AM9: 0.004224537 | AN9: 0.0046990741 | AO9: 0.0041898148 | AP9: 0.0047222222 | AQ9: 0.0042476852 | AS9: 0.0042824074 | AT9: 0.004224537 | AU9: 0.0046296296 | AV9: 0.0043865741 | AW9: 0.0041435185 | AX9: 0.004537037 | AY9: 0.0044675926 | AZ9: 0.0043518519 | BA9: 0.0042361111 | BB9: 0.0045833333 | BC9: 0.0042939815 | BD9: 0.0046180556 | BE9: 0.004212963
A10: LB8 | B10: =MIN(E10:BI10) -> 0.0041898148 | C10: =AVERAGE(E10:BI10) -> 0.0043819927 | D10: =AVERAGE(AL10:BI10) -> 0.0043865741 | E10: 0.0046412037 | F10: 0.0042013889 | G10: 0.0042939815 | H10: 0.0043055556 | I10: 0.0041898148 | J10: 0.0042361111 | K10: 0.0044907407 | L10: 0.0043171296 | M10: 0.0041898148 | N10: 0.004375 | O10: 0.0044907407 | P10: 0.0042476852 | Q10: 0.004375 | R10: 0.0044328704 | S10: 0.0042592593 | T10: 0.0045601852 | U10: 0.0043981481 | V10: 0.0042824074 | W10: 0.0042592593 | X10: 0.0043634259 | Y10: 0.0043981481 | Z10: 0.004525463 | AA10: 0.0044097222 | AB10: 0.0043518519 | AD10: 0.0046759259 | AF10: 0.0043634259 | AG10: 0.0043055556 | AH10: 0.0043055556 | AJ10: 0.0043287037 | AK10: 0.0048032407 | AL10: 0.0045486111 | AM10: 0.0042939815 | AN10: 0.0042824074 | AO10: 0.0043171296 | AP10: 0.0049768519 | AQ10: 0.0044097222 | AS10: 0.0043287037 | AT10: 0.0042824074 | AU10: 0.0043981481 | AV10: 0.0043055556 | AW10: 0.004375 | AX10: 0.0042824074 | AY10: 0.0042708333 | AZ10: 0.0042708333 | BB10: 0.0044560185 | BC10: 0.0042824074 | BD10: 0.004537037 | BE10: 0.0043402778
A11: LN8 | B11: =MIN(E11:BI11) -> 0.0041550926 | C11: =AVERAGE(E11:BI11) -> 0.0043150253 | E11: 0.0045949074 | F11: 0.0044212963 | G11: 0.0043865741 | H11: 0.0042476852 | I11: 0.0041550926 | J11: 0.0041782407 | K11: 0.0044444444 | L11: 0.0042592593 | M11: 0.0043171296 | N11: 0.004212963 | Q11: 0.0042476852
A12: LO8 | B12: =MIN(E12:BI12) -> 0.0040972222 | C12: =AVERAGE(E12:BI12) -> 0.0042370014 | E12: 0.0044675926 | F12: 0.0041550926 | G12: 0.0042361111 | H12: 0.0042476852 | I12: 0.0041898148 | J12: 0.0041666667 | K12: 0.0045138889 | L12: 0.004224537 | M12: 0.0041550926 | N12: 0.004212963 | O12: 0.0041666667 | P12: 0.0040972222 | Q12: 0.0042476852
A13: LSA8 | B13: =MIN(E13:BI13) -> 0.0039699074 | C13: =AVERAGE(E13:BI13) -> 0.0042132597 | D13: =AVERAGE(AL13:BI13) -> 0.004205653 | E13: 0.0043287037 | F13: 0.0041898148 | I13: 0.004224537 | M13: 0.0040277778 | Q13: 0.0041666667 | S13: 0.0042013889 | T13: 0.0042824074 | U13: 0.0041666667 | W13: 0.0040277778 | X13: 0.0041087963 | Y13: 0.0041435185 | Z13: 0.0044097222 | AA13: 0.0041898148 | AB13: 0.0043171296 | AC13: 0.0042824074 | AF13: 0.004375 | AG13: 0.0041898148 | AH13: 0.0042592593 | AJ13: 0.0040509259 | AK13: 0.0044675926 | AL13: 0.0050578704 | AM13: 0.0039699074 | AN13: 0.0042013889 | AO13: 0.0042476852 | AP13: 0.0046875 | AQ13: 0.0042013889 | AS13: 0.0040625 | AT13: 0.0041666667 | AU13: 0.0040740741 | AV13: 0.0041550926 | AW13: 0.0041782407 | AX13: 0.0040856481 | AY13: 0.0041087963 | AZ13: 0.0039814815 | BA13: 0.0040046296 | BB13: 0.0042592593 | BC13: 0.0041203704 | BD13: 0.004212963 | BE13: 0.0041319444
A14: DEJ8 | B14: =MIN(E14:BI14) -> 0.0045949074 | C14: =AVERAGE(E14:BI14) -> 0.0048517267 | D14: =AVERAGE(AL14:BI14) -> 0.0049025341 | R14: 0.0048958333 | S14: 0.0046759259 | T14: 0.0051736111 | U14: 0.0046990741 | V14: 0.004837963 | W14: 0.0046180556 | X14: 0.0048032407 | Y14: 0.0046875 | Z14: 0.0046759259 | AA14: 0.0047916667 | AB14: 0.0048032407 | AC14: 0.0045949074 | AD14: 0.0051041667 | AF14: 0.0046759259 | AG14: 0.0046412037 | AH14: 0.0048032407 | AJ14: 0.0046527778 | AK14: 0.0052314815 | AL14: 0.0053703704 | AM14: 0.0046527778 | AN14: 0.0050578704 | AO14: 0.0045949074 | AP14: 0.0053125 | AQ14: 0.0047222222 | AS14: 0.0047222222 | AT14: 0.0046875 | AU14: 0.0054050926 | AV14: 0.0048263889 | AW14: 0.0046527778 | AX14: 0.0049652778 | AY14: 0.0048611111 | AZ14: 0.0048263889 | BA14: 0.0046180556 | BB14: 0.0050925926 | BC14: 0.0047106481 | BD14: 0.0054050926 | BE14: 0.0046643519
A15: DB8 | B15: =MIN(E15:BI15) -> 0.0046527778 | C15: =AVERAGE(E15:BI15) -> 0.0048608749 | D15: =AVERAGE(AL15:BI15) -> 0.0048458821 | E15: 0.005 | F15: 0.0049768519 | G15: 0.0049652778 | H15: 0.004849537 | I15: 0.0048958333 | J15: 0.0047916667 | L15: 0.0047222222 | M15: 0.0050347222 | N15: 0.0047106481 | O15: 0.0047916667 | P15: 0.0047337963 | Q15: 0.0047453704 | R15: 0.0048958333 | S15: 0.0047800926 | T15: 0.0051388889 | U15: 0.0047685185 | V15: 0.0047685185 | W15: 0.004849537 | X15: 0.0048032407 | Y15: 0.004837963 | Z15: 0.0050694444 | AA15: 0.0048263889 | AB15: 0.0048611111 | AC15: 0.0048263889 | AD15: 0.0050810185 | AF15: 0.0047916667 | AG15: 0.0048611111 | AH15: 0.0048958333 | AJ15: 0.0047685185 | AK15: 0.0050694444 | AL15: 0.005 | AM15: 0.0046875 | AN15: 0.0046643519 | AO15: 0.004849537 | AP15: 0.005462963 | AQ15: 0.0048611111 | AS15: 0.0047800926 | AT15: 0.0047685185 | AU15: 0.0048958333 | AV15: 0.0049189815 | AW15: 0.0048611111 | AX15: 0.0046990741 | AY15: 0.0046875 | AZ15: 0.0047453704 | BA15: 0.0046527778 | BB15: 0.0049768519 | BC15: 0.0047106481 | BD15: 0.0049884259 | BE15: 0.0048611111
A16: DN8 | B16: =MIN(E16:BI16) -> 0.0046064815 | C16: =AVERAGE(E16:BI16) -> 0.0048165954 | E16: 0.0053935185 | F16: 0.0046875 | G16: 0.0047337963 | H16: 0.0047685185 | I16: 0.0047106481 | J16: 0.0046875 | K16: 0.0048611111 | L16: 0.0048263889 | M16: 0.0048263889 | N16: 0.0047800926 | O16: 0.0049652778 | P16: 0.0046064815 | Q16: 0.0047685185
A17: DO8 | B17: =MIN(E17:BI17) -> 0.004537037 | C17: =AVERAGE(E17:BI17) -> 0.0047472994 | E17: 0.0050231481 | F17: 0.0048958333 | G17: 0.0046990741 | H17: 0.0047685185 | I17: 0.0048032407 | J17: 0.0045949074 | K17: 0.0049652778 | L17: 0.0045601852 | M17: 0.0045833333 | N17: 0.004537037 | P17: 0.0049768519 | Q17: 0.0045601852
A18: DSA8 | B18: =MIN(E18:BI18) -> 0.004212963 | C18: =AVERAGE(E18:BI18) -> 0.0045935295 | D18: =AVERAGE(AL18:BI18) -> 0.0045563272 | E18: 0.0050231481 | F18: 0.0043518519 | H18: 0.0045138889 | K18: 0.0046527778 | M18: 0.0042476852 | O18: 0.0044560185 | Q18: 0.0046064815 | R18: 0.0047916667 | S18: 0.0046412037 | T18: 0.0048032407 | U18: 0.004525463 | V18: 0.0044212963 | W18: 0.0044328704 | X18: 0.0045833333 | Y18: 0.0047337963 | AA18: 0.0047106481 | AB18: 0.0046296296 | AC18: 0.0046643519 | AD18: 0.0048842593 | AF18: 0.0045717593 | AG18: 0.0046296296 | AH18: 0.0045949074 | AJ18: 0.0044791667 | AK18: 0.0049652778 | AL18: 0.0054050926 | AM18: 0.0044444444 | AN18: 0.0045717593 | AO18: 0.004537037 | AQ18: 0.0046412037 | AS18: 0.0045717593 | AT18: 0.0045023148 | AU18: 0.0044907407 | AV18: 0.0044444444 | AW18: 0.0045833333 | AX18: 0.0044328704 | AY18: 0.0044444444 | AZ18: 0.0042592593 | BA18: 0.0044444444 | BB18: 0.0046296296 | BC18: 0.004212963 | BD18: 0.0048032407 | BE18: 0.0045949074
A20: B4+ | B20: =MIN(E20:BI20) -> 0.0046296296 | C20: =AVERAGE(E20:BI20) -> 0.0048523715 | D20: =AVERAGE(AL20:BI20) -> 0.0048428363 | E20: 0.005162037 | F20: 0.0046875 | G20: 0.0048032407 | H20: 0.0048263889 | I20: 0.0046296296 | J20: 0.0047222222 | K20: 0.0051851852 | L20: 0.0047106481 | M20: 0.0047916667 | N20: 0.0048611111 | O20: 0.0048148148 | P20: 0.0046412037 | Q20: 0.0047453704 | R20: 0.0049537037 | T20: 0.0050462963 | U20: 0.0046990741 | V20: 0.0047685185 | W20: 0.0047569444 | X20: 0.004849537 | Y20: 0.0047569444 | Z20: 0.0049884259 | AA20: 0.004849537 | AB20: 0.0049074074 | AC20: 0.0047800926 | AD20: 0.0053587963 | AF20: 0.0049074074 | AG20: 0.0048148148 | AH20: 0.0047453704 | AJ20: 0.0047569444 | AK20: 0.0052314815 | AL20: 0.0051157407 | AM20: 0.0049305556 | AN20: 0.0046875 | AO20: 0.0047569444 | AP20: 0.0053935185 | AQ20: 0.0048148148 | AS20: 0.0046990741 | AT20: 0.0048611111 | AU20: 0.0051967593 | AV20: 0.0046875 | AW20: 0.0047337963 | AX20: 0.0047337963 | AY20: 0.0046643519 | AZ20: 0.0047222222 | BA20: 0.0046643519 | BB20: 0.0048842593 | BC20: 0.0046875 | BD20: 0.0050347222 | BE20: 0.0047453704
A21: N4+ | B21: =MIN(E21:BI21) -> 0.0044791667 | C21: =AVERAGE(E21:BI21) -> 0.00473125 | D21: =AVERAGE(AL21:BI21) -> 0.0048257797 | E21: 0.0048958333 | F21: 0.0046643519 | G21: 0.0046759259 | H21: 0.0045601852 | I21: 0.0046990741 | J21: 0.0046180556 | K21: 0.0047800926 | L21: 0.0045601852 | M21: 0.0046064815 | N21: 0.0044791667 | O21: 0.0046180556 | P21: 0.0047569444 | Q21: 0.0045949074 | R21: 0.0046990741 | S21: 0.004537037 | T21: 0.0050115741 | U21: 0.0045717593 | V21: 0.0046759259 | W21: 0.004537037 | X21: 0.0045949074 | Y21: 0.0045833333 | Z21: 0.0045486111 | AA21: 0.0046643519 | AB21: 0.0046643519 | AC21: 0.0045486111 | AD21: 0.0050694444 | AF21: 0.0046412037 | AG21: 0.0047222222 | AH21: 0.0046412037 | AJ21: 0.004525463 | AK21: 0.0051273148 | AL21: 0.0053472222 | AM21: 0.004537037 | AN21: 0.004837963 | AO21: 0.004525463 | AP21: 0.0050347222 | AQ21: 0.0046296296 | AS21: 0.0046875 | AT21: 0.0045601852 | AU21: 0.0052662037 | AV21: 0.0047569444 | AW21: 0.0045717593 | AX21: 0.0049074074 | AY21: 0.0048958333 | AZ21: 0.0048726852 | BA21: 0.0045833333 | BB21: 0.0050578704 | BC21: 0.0047106481 | BD21: 0.0053009259 | BE21: 0.0046064815
A22: O4+ | B22: =MIN(E22:BI22) -> 0.0043981481 | C22: =AVERAGE(E22:BI22) -> 0.0046522955 | D22: =AVERAGE(AL22:BI22) -> 0.0046704793 | E22: 0.0049652778 | F22: 0.0044791667 | G22: 0.0046296296 | H22: 0.0046064815 | I22: 0.0044791667 | J22: 0.004525463 | K22: 0.0048611111 | L22: 0.0044907407 | M22: 0.0045949074 | N22: 0.0045601852 | O22: 0.0046875 | P22: 0.0044444444 | Q22: 0.0046412037 | R22: 0.0047337963 | S22: 0.0045486111 | T22: 0.0048611111 | U22: 0.0045023148 | V22: 0.0045949074 | W22: 0.0046064815 | X22: 0.0045601852 | Y22: 0.0045717593 | Z22: 0.0046875 | AA22: 0.0045949074 | AB22: 0.0046296296 | AC22: 0.004525463 | AD22: 0.0049421296 | AF22: 0.0046875 | AG22: 0.0046527778 | AH22: 0.0046296296 | AJ22: 0.0046527778 | AK22: 0.0049652778 | AL22: 0.0049421296 | AN22: 0.0045717593 | AO22: 0.0045138889 | AP22: 0.0051157407 | AQ22: 0.0046990741 | AS22: 0.0045717593 | AT22: 0.0046643519 | AU22: 0.0049189815 | AV22: 0.0043981481 | AW22: 0.0044675926 | AX22: 0.0045833333 | AY22: 0.0046759259 | AZ22: 0.0046527778 | BA22: 0.004537037 | BB22: 0.0047685185 | BD22: 0.0047916667 | BE22: 0.004525463
A23: SA4+ | B23: =MIN(E23:BI23) -> 0.0043981481 | C23: =AVERAGE(E23:BI23) -> 0.0045325855 | D23: =AVERAGE(AL23:BI23) -> 0.0044097222 | E23: 0.0047106481 | H23: 0.0045833333 | J23: 0.0045138889 | K23: 0.0046643519 | L23: 0.0043981481 | M23: 0.0044675926 | N23: 0.0044328704 | O23: 0.0044212963 | Q23: 0.004537037 | T23: 0.0047685185 | Z23: 0.004525463 | AJ23: 0.0044907407 | AM23: 0.0044097222
A24: LB4+ | B24: =MIN(E24:BI24) -> 0.0046527778 | C24: =AVERAGE(E24:BI24) -> 0.0049211348 | D24: =AVERAGE(AL24:BI24) -> 0.00490128 | E24: 0.0049768519 | F24: 0.0050231481 | G24: 0.0049768519 | H24: 0.0049537037 | I24: 0.0048611111 | J24: 0.0047337963 | K24: 0.0050810185 | L24: 0.004837963 | M24: 0.0051851852 | N24: 0.0046875 | O24: 0.0048611111 | P24: 0.0047916667 | Q24: 0.0048611111 | R24: 0.0048726852 | S24: 0.004837963 | V24: 0.004837963 | W24: 0.0047916667 | X24: 0.0049537037 | Y24: 0.0049305556 | Z24: 0.0052893519 | AA24: 0.0049652778 | AB24: 0.0050462963 | AC24: 0.005 | AD24: 0.0051157407 | AG24: 0.0049768519 | AH24: 0.004837963 | AL24: 0.005162037 | AM24: 0.0048611111 | AN24: 0.0047453704 | AO24: 0.0049305556 | AP24: 0.0056365741 | AQ24: 0.0049884259 | AS24: 0.0047685185 | AV24: 0.0049421296 | AW24: 0.0047222222 | AX24: 0.0046875 | AY24: 0.0046527778 | AZ24: 0.0047453704 | BA24: 0.0046527778 | BB24: 0.005 | BC24: 0.0048263889 | BD24: 0.0051967593 | BE24: 0.0048032407
A25: LN4+ | B25: =MIN(E25:BI25) -> 0.0045833333 | C25: =AVERAGE(E25:BI25) -> 0.0048649691 | D25: =AVERAGE(AL25:BI25) -> 0.0049611928 | E25: 0.0051041667 | F25: 0.0045833333 | G25: 0.0046759259 | H25: 0.0046875 | I25: 0.0046759259 | J25: 0.0046412037 | K25: 0.0048842593 | L25: 0.0046643519 | M25: 0.0048263889 | N25: 0.0048148148 | O25: 0.0048958333 | P25: 0.0046990741 | Q25: 0.0048611111 | R25: 0.0048958333 | S25: 0.0047222222 | T25: 0.0051967593 | U25: 0.004837963 | V25: 0.0049074074 | W25: 0.0046875 | X25: 0.004837963 | Y25: 0.0047453704 | Z25: 0.0047106481 | AA25: 0.0049189815 | AB25: 0.0047222222 | AC25: 0.0047453704 | AD25: 0.005162037 | AF25: 0.0047222222 | AG25: 0.0046759259 | AH25: 0.0047916667 | AJ25: 0.0047222222 | AK25: 0.005162037 | AL25: 0.0054398148 | AM25: 0.0046527778 | AN25: 0.0051388889 | AO25: 0.0046643519 | AP25: 0.0052199074 | AQ25: 0.0047916667 | AS25: 0.0048263889 | AT25: 0.0047222222 | AU25: 0.0054976852 | AV25: 0.0048726852 | AW25: 0.0046759259 | AX25: 0.0051273148 | AY25: 0.004849537 | AZ25: 0.0048611111 | BA25: 0.0047569444 | BD25: 0.0055208333 | BE25: 0.0047222222
A26: LO4+ | B26: =MIN(E26:BI26) -> 0.0045833333 | C26: =AVERAGE(E26:BI26) -> 0.0048140257 | D26: =AVERAGE(AL26:BI26) -> 0.0048346561 | E26: 0.0049884259 | F26: 0.0048958333 | G26: 0.0047916667 | H26: 0.0047106481 | I26: 0.0047453704 | J26: 0.0046064815 | K26: 0.0048611111 | L26: 0.0046875 | M26: 0.0046759259 | N26: 0.0045949074 | O26: 0.0047106481 | Q26: 0.0046875 | R26: 0.0049652778 | S26: 0.0047337963 | T26: 0.0050925926 | U26: 0.0047222222 | V26: 0.0047685185 | W26: 0.0048148148 | X26: 0.0047337963 | Y26: 0.0047106481 | Z26: 0.0049305556 | AA26: 0.0048032407 | AB26: 0.0049074074 | AC26: 0.0047569444 | AD26: 0.0051273148 | AF26: 0.0047685185 | AG26: 0.0046875 | AH26: 0.0047337963 | AJ26: 0.0047337963 | AK26: 0.0051851852 | AL26: 0.0050578704 | AM26: 0.0047453704 | AN26: 0.0046412037 | AO26: 0.0047569444 | AP26: 0.0053819444 | AQ26: 0.0047569444 | AS26: 0.0047569444 | AT26: 0.0048148148 | AU26: 0.0050578704 | AW26: 0.0048032407 | AY26: 0.0047222222 | AZ26: 0.0047685185 | BA26: 0.0045833333 | BE26: 0.004837963
A27: LSA4+
A28: DB4+ | B28: =MIN(E28:BI28) -> 0.0052662037 | C28: =AVERAGE(E28:BI28) -> 0.0054682677 | D28: =AVERAGE(AL28:BI28) -> 0.0054976852 | E28: 0.0057986111 | F28: 0.0052662037 | G28: 0.0053587963 | H28: 0.0054166667 | I28: 0.0052662037 | J28: 0.0053125 | K28: 0.0055787037 | L28: 0.0053240741 | M28: 0.0053356481 | N28: 0.0055671296 | O28: 0.005625 | P28: 0.0053009259 | Q28: 0.0055092593 | R28: 0.0055671296 | S28: 0.0053125 | T28: 0.0056597222 | U28: 0.0053009259 | V28: 0.0054166667 | W28: 0.0055092593 | Y28: 0.005462963 | Z28: 0.0055324074 | AA28: 0.005462963 | AB28: 0.0054513889 | AC28: 0.0053587963 | AD28: 0.0055671296 | AF28: 0.0053819444 | AG28: 0.0053240741 | AH28: 0.0053356481 | AJ28: 0.0053819444 | AK28: 0.0058333333 | AL28: 0.0058912037 | AM28: 0.0054513889 | AO28: 0.0054166667 | AP28: 0.0059722222 | AQ28: 0.0054976852 | AS28: 0.0054282407 | AT28: 0.0054861111 | AU28: 0.0057986111 | AV28: 0.0053240741 | AW28: 0.0053009259 | AX28: 0.0055092593 | AY28: 0.0053587963 | AZ28: 0.0054050926 | BA28: 0.0053125 | BB28: 0.0055324074 | BC28: 0.0053356481 | BD28: 0.0055555556 | BE28: 0.0053819444
A29: DN4+ | B29: =MIN(E29:BI29) -> 0.0051388889 | C29: =AVERAGE(E29:BI29) -> 0.005412415 | D29: =AVERAGE(AL29:BI29) -> 0.005519615 | E29: 0.0055208333 | F29: 0.0054861111 | G29: 0.0053819444 | H29: 0.0053009259 | I29: 0.0053587963 | J29: 0.0051851852 | K29: 0.0055208333 | L29: 0.0051388889 | M29: 0.0052083333 | N29: 0.0051388889 | O29: 0.0053472222 | Q29: 0.0051851852 | R29: 0.0054050926 | S29: 0.0052430556 | T29: 0.0058449074 | U29: 0.0052083333 | V29: 0.0054861111 | W29: 0.005162037 | X29: 0.0052893519 | Y29: 0.0052546296 | Z29: 0.0053009259 | AA29: 0.0053819444 | AB29: 0.0053125 | AC29: 0.0052662037 | AD29: 0.0056828704 | AF29: 0.0051851852 | AG29: 0.0051736111 | AH29: 0.0053703704 | AJ29: 0.0052314815 | AK29: 0.0057638889 | AL29: 0.0061805556 | AM29: 0.005162037 | AN29: 0.0056828704 | AO29: 0.0052199074 | AP29: 0.0059259259 | AQ29: 0.0052199074 | AS29: 0.0052777778 | AT29: 0.0053935185 | AU29: 0.0061805556 | AV29: 0.0054398148 | AW29: 0.0051967593 | AX29: 0.0056134259 | AY29: 0.0056134259 | AZ29: 0.0054050926 | BA29: 0.0052199074 | BB29: 0.0056597222 | BC29: 0.0053819444 | BD29: 0.0058912037 | BE29: 0.0052083333
A30: DO4+ | B30: =MIN(E30:BI30) -> 0.0051388889 | C30: =AVERAGE(E30:BI30) -> 0.0053573188 | D30: =AVERAGE(AL30:BI30) -> 0.0053884549 | E30: 0.005625 | F30: 0.005162037 | G30: 0.0052546296 | H30: 0.0053356481 | I30: 0.0052199074 | J30: 0.0051736111 | K30: 0.0055439815 | L30: 0.005162037 | M30: 0.0051736111 | N30: 0.0053703704 | O30: 0.0055092593 | P30: 0.0051388889 | Q30: 0.0053819444 | R30: 0.0054050926 | S30: 0.0053009259 | T30: 0.005625 | U30: 0.0051967593 | V30: 0.0052199074 | W30: 0.0052777778 | X30: 0.0053703704 | Y30: 0.0053587963 | Z30: 0.0055324074 | AA30: 0.0052893519 | AB30: 0.0054050926 | AC30: 0.0053819444 | AD30: 0.0054976852 | AF30: 0.0052777778 | AG30: 0.0052662037 | AH30: 0.0053009259 | AJ30: 0.0052314815 | AK30: 0.0055902778 | AL30: 0.0056597222 | AM30: 0.0054282407 | AN30: 0.0051851852 | AO30: 0.0053240741 | AP30: 0.0058564815 | AQ30: 0.0052546296 | AS30: 0.0053009259 | AU30: 0.0057638889 | AW30: 0.0053009259 | AX30: 0.0053703704 | AY30: 0.0053356481 | AZ30: 0.0051736111 | BA30: 0.005162037 | BC30: 0.005162037 | BD30: 0.0056712963 | BE30: 0.0052662037
A31: DSA4+
A33: N4- | B33: =MIN(E33:BI33) -> 0.0043518519 | C33: =AVERAGE(E33:BI33) -> 0.0045090664 | D33: =AVERAGE(AL33:BI33) -> 0.0045090664 | AT33: 0.004375 | AU33: 0.0047569444 | AV33: 0.0045023148 | AW33: 0.004525463 | AX33: 0.0044675926 | AY33: 0.0044328704 | AZ33: 0.0044444444 | BA33: 0.0044097222 | BB33: 0.0046064815 | BC33: 0.0043518519 | BD33: 0.0047569444 | BE33: 0.0044791667
A34: O4- | B34: =MIN(E34:BI34) -> 0.0043055556 | C34: =AVERAGE(E34:BI34) -> 0.0044720252 | D34: =AVERAGE(AL34:BI34) -> 0.0044893791 | E34: 0.0047222222 | F34: 0.0044212963 | G34: 0.0044907407 | H34: 0.0043055556 | I34: 0.0043634259 | J34: 0.004375 | K34: 0.0045601852 | L34: 0.0043865741 | M34: 0.0045023148 | N34: 0.004375 | O34: 0.0046064815 | P34: 0.0044444444 | Q34: 0.0043981481 | R34: 0.0044444444 | S34: 0.004375 | T34: 0.0046527778 | U34: 0.004375 | V34: 0.0044328704 | W34: 0.0043634259 | X34: 0.0043402778 | Y34: 0.0043865741 | Z34: 0.0045486111 | AB34: 0.0043981481 | AC34: 0.0043518519 | AD34: 0.0047685185 | AF34: 0.0044444444 | AG34: 0.0043402778 | AH34: 0.0044212963 | AJ34: 0.0044328704 | AK34: 0.004837963 | AL34: 0.0049537037 | AM34: 0.0044791667 | AN34: 0.0043287037 | AO34: 0.0043518519 | AP34: 0.0047685185 | AQ34: 0.0044444444 | AS34: 0.0043634259 | AU34: 0.0047685185 | AV34: 0.004375 | AW34: 0.0044791667 | AY34: 0.0043981481 | AZ34: 0.0043865741 | BA34: 0.0043055556 | BB34: 0.0045138889 | BC34: 0.0043981481 | BD34: 0.0046180556 | BE34: 0.0043865741
A35: SA4- | B35: =MIN(E35:BI35) -> 0.0041087963 | C35: =AVERAGE(E35:BI35) -> 0.0043307166 | D35: =AVERAGE(AL35:BI35) -> 0.0043885031 | E35: 0.0046643519 | F35: 0.0041898148 | H35: 0.0042013889 | I35: 0.0042824074 | K35: 0.0043287037 | L35: 0.0043055556 | M35: 0.0041782407 | N35: 0.0044328704 | O35: 0.0041087963 | Q35: 0.0043055556 | R35: 0.0043287037 | S35: 0.0041782407 | T35: 0.0044560185 | U35: 0.004212963 | V35: 0.0042361111 | W35: 0.0041435185 | X35: 0.0043287037 | Y35: 0.0042476852 | Z35: 0.0042013889 | AA35: 0.004212963 | AB35: 0.0042013889 | AC35: 0.0042824074 | AD35: 0.0044560185 | AF35: 0.0042013889 | AG35: 0.004224537 | AH35: 0.0042013889 | AJ35: 0.0042013889 | AK35: 0.0049074074 | AL35: 0.0044444444 | AM35: 0.0042013889 | AN35: 0.0045717593 | AO35: 0.0042013889 | AP35: 0.005 | AQ35: 0.0043402778 | AS35: 0.004224537 | AT35: 0.0042592593 | AU35: 0.0046875 | AV35: 0.004212963 | AW35: 0.0041898148 | AX35: 0.004224537 | AY35: 0.0043865741 | AZ35: 0.0041666667 | BA35: 0.0042824074 | BB35: 0.0046412037 | BD35: 0.0045833333 | BE35: 0.004375
A36: LN4- | B36: =MIN(E36:BI36) -> 0.0043518519 | C36: =AVERAGE(E36:BI36) -> 0.004535108 | D36: =AVERAGE(AL36:BI36) -> 0.004535108 | AT36: 0.0044675926 | AU36: 0.0047800926 | AV36: 0.0045138889 | AW36: 0.0045717593 | AX36: 0.0044444444 | AY36: 0.0043865741 | AZ36: 0.0043518519 | BA36: 0.004375 | BB36: 0.0047106481 | BC36: 0.0044675926 | BD36: 0.0048148148 | BE36: 0.004537037
A37: LO4- | B37: =MIN(E37:BI37) -> 0.0042708333 | C37: =AVERAGE(E37:BI37) -> 0.0045172647 | D37: =AVERAGE(AL37:BI37) -> 0.0045275054 | E37: 0.0045833333 | F37: 0.0045601852 | G37: 0.0046412037 | H37: 0.0045601852 | I37: 0.0045486111 | J37: 0.0043634259 | K37: 0.0046527778 | L37: 0.0043634259 | M37: 0.0045717593 | N37: 0.0044328704 | O37: 0.0044560185 | P37: 0.004375 | Q37: 0.0043402778 | R37: 0.0046296296 | S37: 0.0044212963 | T37: 0.0046990741 | U37: 0.0043865741 | V37: 0.0044907407 | W37: 0.004375 | X37: 0.0045023148 | Y37: 0.0044675926 | Z37: 0.0046296296 | AA37: 0.0044328704 | AB37: 0.0044328704 | AC37: 0.0043981481 | AD37: 0.0047453704 | AF37: 0.0044791667 | AG37: 0.0044791667 | AH37: 0.0044328704 | AJ37: 0.0044907407 | AK37: 0.0049189815 | AL37: 0.005162037 | AM37: 0.0044560185 | AN37: 0.0042708333 | AO37: 0.0044328704 | AP37: 0.0049884259 | AQ37: 0.0045138889 | AS37: 0.0044907407 | AU37: 0.0048032407 | AV37: 0.0043171296 | AW37: 0.0044212963 | AY37: 0.0044212963 | AZ37: 0.0043634259 | BA37: 0.0043518519 | BB37: 0.0045601852 | BC37: 0.0043634259 | BD37: 0.0046064815 | BE37: 0.0044444444
A38: LSA4- | B38: =MIN(E38:BI38) -> 0.0041087963 | C38: =AVERAGE(E38:BI38) -> 0.0044044863 | D38: =AVERAGE(AL38:BI38) -> 0.0044890873 | E38: 0.0047222222 | F38: 0.004212963 | H38: 0.0042592593 | I38: 0.0043634259 | J38: 0.0044212963 | K38: 0.0043287037 | L38: 0.0042939815 | M38: 0.0041203704 | O38: 0.0043634259 | Q38: 0.0041087963 | R38: 0.0044907407 | S38: 0.0043055556 | T38: 0.0045833333 | U38: 0.0042939815 | V38: 0.0043171296 | W38: 0.0042939815 | X38: 0.0044444444 | Y38: 0.0043055556 | Z38: 0.0042592593 | AA38: 0.0043287037 | AB38: 0.004375 | AC38: 0.0042939815 | AD38: 0.0045601852 | AF38: 0.0043287037 | AG38: 0.0044097222 | AH38: 0.0044097222 | AJ38: 0.0042476852 | AK38: 0.0046990741 | AL38: 0.0047569444 | AM38: 0.004224537 | AN38: 0.0046990741 | AO38: 0.0042824074 | AP38: 0.0048611111 | AQ38: 0.0043402778 | AS38: 0.0043865741 | AT38: 0.0044328704 | AU38: 0.004849537 | AW38: 0.004224537 | AX38: 0.0043402778 | AZ38: 0.0042361111 | BD38: 0.0047916667 | BE38: 0.0044212963
A39: DN4- | B39: =MIN(E39:BI39) -> 0.0048958333 | C39: =AVERAGE(E39:BI39) -> 0.0050810185 | D39: =AVERAGE(AL39:BI39) -> 0.0050810185 | AT39: 0.0049421296 | AU39: 0.0055555556 | AV39: 0.0049652778 | AW39: 0.0050694444 | AX39: 0.0049537037 | AY39: 0.0050347222 | AZ39: 0.0050578704 | BA39: 0.0048958333 | BB39: 0.0052083333 | BC39: 0.0049537037 | BD39: 0.0053587963 | BE39: 0.0049768519
A40: DO4- | B40: =MIN(E40:BI40) -> 0.0047453704 | C40: =AVERAGE(E40:BI40) -> 0.0050017238 | D40: =AVERAGE(AL40:BI40) -> 0.0050319989 | F40: 0.0048726852 | G40: 0.0049074074 | H40: 0.0050578704 | I40: 0.0048148148 | J40: 0.0048611111 | K40: 0.0051388889 | L40: 0.0048032407 | M40: 0.0049884259 | N40: 0.004849537 | O40: 0.0047916667 | P40: 0.0048611111 | Q40: 0.0049189815 | R40: 0.0049652778 | S40: 0.0047453704 | T40: 0.0052662037 | U40: 0.0047569444 | V40: 0.0051157407 | W40: 0.0049884259 | X40: 0.0049768519 | Y40: 0.0050810185 | Z40: 0.0050925926 | AA40: 0.0050231481 | AB40: 0.0050694444 | AC40: 0.004849537 | AD40: 0.0054398148 | AF40: 0.0049652778 | AG40: 0.005 | AH40: 0.0049768519 | AJ40: 0.0050231481 | AK40: 0.0053356481 | AL40: 0.0056365741 | AM40: 0.0050115741 | AN40: 0.0048032407 | AO40: 0.0048958333 | AP40: 0.0056597222 | AQ40: 0.0050115741 | AS40: 0.004837963 | AT40: 0.0050231481 | AU40: 0.005462963 | AV40: 0.0048958333 | AW40: 0.0049189815 | AY40: 0.0048032407 | AZ40: 0.0048842593 | BA40: 0.0047569444 | BC40: 0.0048611111 | BD40: 0.0051967593 | BE40: 0.0048842593
A41: DSA4- | B41: =MIN(E41:BI41) -> 0.0045717593 | C41: =AVERAGE(E41:BI41) -> 0.004895295 | D41: =AVERAGE(AL41:BI41) -> 0.0049183007 | E41: 0.0048958333 | H41: 0.0047800926 | I41: 0.004837963 | K41: 0.0047569444 | L41: 0.0047222222 | M41: 0.0046990741 | O41: 0.0047685185 | Q41: 0.0047222222 | R41: 0.0051157407 | S41: 0.0048726852 | T41: 0.0052777778 | U41: 0.0048842593 | V41: 0.0049537037 | W41: 0.0046412037 | X41: 0.0048611111 | Y41: 0.0049305556 | Z41: 0.0047916667 | AA41: 0.0048842593 | AB41: 0.0048726852 | AC41: 0.0048958333 | AD41: 0.0053356481 | AF41: 0.0048611111 | AG41: 0.0048842593 | AH41: 0.0046296296 | AJ41: 0.0045717593 | AK41: 0.0054398148 | AL41: 0.0049884259 | AM41: 0.0047337963 | AN41: 0.0052777778 | AO41: 0.0047106481 | AP41: 0.0053587963 | AQ41: 0.0047916667 | AS41: 0.0049421296 | AT41: 0.0047916667 | AU41: 0.0050347222 | AV41: 0.0048958333 | AW41: 0.0046875 | AX41: 0.0047916667 | AY41: 0.0050115741 | AZ41: 0.0048263889 | BA41: 0.0046412037 | BD41: 0.0053472222 | BE41: 0.0047800926
A43: N2- | B43: =MIN(E43:BI43) -> 0.0048148148 | C43: =AVERAGE(E43:BI43) -> 0.0051157407 | D43: =AVERAGE(AL43:BI43) -> 0.0051273148 | E43: 0.0057060185 | F43: 0.0052893519 | I43: 0.0049652778 | L43: 0.0049652778 | M43: 0.0052083333 | N43: 0.0050347222 | O43: 0.0052083333 | Q43: 0.0050694444 | V43: 0.0049884259 | W43: 0.0050694444 | X43: 0.0050231481 | Z43: 0.0052662037 | AA43: 0.0050115741 | AB43: 0.0050347222 | AC43: 0.0049305556 | AD43: 0.0051273148 | AG43: 0.005 | AH43: 0.005 | AJ43: 0.005 | AK43: 0.0051967593 | AL43: 0.0058333333 | AM43: 0.0050231481 | AN43: 0.0048958333 | AO43: 0.0050925926 | AP43: 0.0055208333 | AQ43: 0.0049768519 | AS43: 0.0048958333 | AT43: 0.0051041667 | AU43: 0.0053819444 | AV43: 0.0048842593 | AW43: 0.0049768519 | AX43: 0.0053356481 | AY43: 0.0049421296 | AZ43: 0.0048148148 | BA43: 0.0049305556 | BB43: 0.0054513889 | BC43: 0.0050925926 | BD43: 0.0052430556 | BE43: 0.0050231481
A44: O2- | B44: =MIN(E44:BI44) -> 0.0045949074 | C44: =AVERAGE(E44:BI44) -> 0.0049560658 | D44: =AVERAGE(AL44:BI44) -> 0.0049890351 | E44: 0.0055324074 | F44: 0.0048958333 | G44: 0.004849537 | I44: 0.0047453704 | J44: 0.0048726852 | K44: 0.0049189815 | L44: 0.0047222222 | M44: 0.0047685185 | N44: 0.0050347222 | O44: 0.0048032407 | P44: 0.0047800926 | Q44: 0.0050925926 | R44: 0.0049768519 | S44: 0.0048263889 | T44: 0.0053356481 | U44: 0.0047916667 | V44: 0.0050925926 | W44: 0.0047685185 | X44: 0.0049074074 | Y44: 0.0047685185 | Z44: 0.004849537 | AA44: 0.004849537 | AB44: 0.0049421296 | AC44: 0.0047916667 | AD44: 0.0054513889 | AF44: 0.0047685185 | AG44: 0.0048263889 | AH44: 0.0049652778 | AJ44: 0.0048263889 | AK44: 0.0053009259 | AL44: 0.0052199074 | AM44: 0.0047685185 | AN44: 0.0053009259 | AO44: 0.0047800926 | AP44: 0.0055208333 | AQ44: 0.0047685185 | AS44: 0.0047685185 | AT44: 0.0048726852 | AU44: 0.0056828704 | AV44: 0.0050578704 | AW44: 0.0046990741 | AX44: 0.0047453704 | AY44: 0.0050578704 | AZ44: 0.004837963 | BA44: 0.0045949074 | BB44: 0.0049884259 | BC44: 0.0047453704 | BD44: 0.0055439815 | BE44: 0.004837963
A45: SA2- | B45: =MIN(E45:BI45) -> 0.0044791667 | C45: =AVERAGE(E45:BI45) -> 0.0047883957 | D45: =AVERAGE(AL45:BI45) -> 0.0048154578 | E45: 0.0049074074 | F45: 0.004837963 | H45: 0.0046412037 | I45: 0.0048611111 | K45: 0.0047222222 | L45: 0.0047916667 | M45: 0.0045833333 | N45: 0.0046759259 | O45: 0.004837963 | Q45: 0.0047453704 | R45: 0.0048148148 | S45: 0.0047106481 | T45: 0.0049074074 | U45: 0.0044791667 | V45: 0.0045601852 | W45: 0.0046064815 | X45: 0.0046759259 | Y45: 0.0047685185 | Z45: 0.0049537037 | AA45: 0.0046875 | AB45: 0.0047453704 | AC45: 0.0047800926 | AD45: 0.0048611111 | AF45: 0.0046643519 | AG45: 0.0049305556 | AH45: 0.0045717593 | AJ45: 0.0047222222 | AK45: 0.0055439815 | AL45: 0.0053472222 | AN45: 0.0045833333 | AO45: 0.0046527778 | AP45: 0.0053935185 | AQ45: 0.0047800926 | AS45: 0.0046296296 | AT45: 0.0046643519 | AU45: 0.0051157407 | AV45: 0.0046643519 | AW45: 0.0048263889 | AX45: 0.0047800926 | AY45: 0.0047222222 | AZ45: 0.004525463 | BA45: 0.0046527778 | BB45: 0.0047800926 | BC45: 0.0045949074 | BD45: 0.0050925926 | BE45: 0.0048726852
A46: LN2- | B46: =MIN(E46:BI46) -> 0.0049421296 | C46: =AVERAGE(E46:BI46) -> 0.0051899842 | D46: =AVERAGE(AL46:BI46) -> 0.005209695 | E46: 0.0054513889 | F46: 0.0053819444 | G46: 0.0053587963 | H46: 0.0051157407 | I46: 0.0051388889 | J46: 0.0052199074 | K46: 0.0054050926 | L46: 0.0050347222 | M46: 0.0052083333 | N46: 0.005 | O46: 0.0050694444 | P46: 0.005 | Q46: 0.0050810185 | Y46: 0.0052314815 | Z46: 0.0052546296 | AA46: 0.0050578704 | AB46: 0.0051157407 | AC46: 0.0051273148 | AD46: 0.0054282407 | AF46: 0.0050462963 | AG46: 0.0051851852 | AH46: 0.0051388889 | AJ46: 0.0049884259 | AK46: 0.0051851852 | AL46: 0.0060300926 | AM46: 0.0050462963 | AN46: 0.0049421296 | AO46: 0.0050462963 | AP46: 0.0057175926 | AQ46: 0.0051041667 | AS46: 0.0049768519 | AU46: 0.0055555556 | AV46: 0.0050925926 | AW46: 0.0051736111 | AX46: 0.0054282407 | AY46: 0.0049884259 | AZ46: 0.0050231481 | BA46: 0.0049421296 | BC46: 0.0049652778 | BD46: 0.0053703704 | BE46: 0.005162037
A47: LO2- | B47: =MIN(E47:BI47) -> 0.0047222222 | C47: =AVERAGE(E47:BI47) -> 0.0050168789 | D47: =AVERAGE(AL47:BI47) -> 0.0050645712 | E47: 0.0054050926 | F47: 0.0047916667 | H47: 0.0048958333 | I47: 0.004849537 | J47: 0.0048148148 | K47: 0.0051157407 | L47: 0.0047800926 | M47: 0.0049652778 | N47: 0.0049537037 | O47: 0.0050578704 | Q47: 0.0049305556 | R47: 0.0049884259 | S47: 0.0049074074 | T47: 0.0053587963 | U47: 0.0048726852 | V47: 0.0051273148 | W47: 0.004849537 | X47: 0.0049768519 | Y47: 0.0048958333 | Z47: 0.0049884259 | AA47: 0.0049421296 | AB47: 0.0049189815 | AC47: 0.0047800926 | AD47: 0.0054282407 | AF47: 0.0049189815 | AG47: 0.0048726852 | AH47: 0.0048726852 | AJ47: 0.0048032407 | AK47: 0.0055208333 | AL47: 0.0054513889 | AM47: 0.0047685185 | AN47: 0.0054282407 | AO47: 0.0047569444 | AP47: 0.0057060185 | AQ47: 0.0049074074 | AS47: 0.0049074074 | AT47: 0.0048726852 | AU47: 0.0057523148 | AV47: 0.0049305556 | AW47: 0.0047337963 | AX47: 0.0047222222 | AY47: 0.0049305556 | AZ47: 0.0050347222 | BA47: 0.004849537 | BB47: 0.0050925926 | BC47: 0.0049305556 | BD47: 0.0056134259 | BE47: 0.004837963
A48: LSA2- | B48: =MIN(E48:BI48) -> 0.0045601852 | C48: =AVERAGE(E48:BI48) -> 0.0049089857 | D48: =AVERAGE(AL48:BI48) -> 0.0049884259 | E48: 0.0049884259 | F48: 0.0049189815 | H48: 0.0046875 | I48: 0.0049421296 | J48: 0.0047453704 | K48: 0.0049421296 | L48: 0.0047222222 | O48: 0.0046527778 | Q48: 0.0049189815 | R48: 0.004849537 | S48: 0.0048032407 | T48: 0.005 | U48: 0.0048263889 | V48: 0.0045601852 | W48: 0.0047337963 | X48: 0.0049652778 | Y48: 0.0047106481 | Z48: 0.0050462963 | AA48: 0.0047453704 | AB48: 0.0048726852 | AC48: 0.0047916667 | AD48: 0.0050462963 | AF48: 0.0049537037 | AG48: 0.0049074074 | AH48: 0.0046527778 | AJ48: 0.0047569444 | AK48: 0.0054513889 | AL48: 0.0054861111 | AM48: 0.0050347222 | AN48: 0.0047800926 | AO48: 0.0047569444 | AP48: 0.0051967593 | AQ48: 0.0049652778 | AT48: 0.0047800926 | AU48: 0.0053009259 | AV48: 0.0048148148 | AW48: 0.0048726852 | AX48: 0.0050115741 | AY48: 0.0047569444 | AZ48: 0.0046527778 | BB48: 0.0052430556 | BC48: 0.0049421296 | BD48: 0.0053125 | BE48: 0.0048958333
A49: DN2- | B49: =MIN(E49:BI49) -> 0.0053935185 | C49: =AVERAGE(E49:BI49) -> 0.005683947 | D49: =AVERAGE(AL49:BI49) -> 0.0057407407 | E49: 0.0060185185 | F49: 0.0054976852 | G49: 0.0055324074 | H49: 0.0056597222 | I49: 0.0056365741 | J49: 0.005474537 | K49: 0.0058217593 | L49: 0.0056597222 | M49: 0.0055324074 | N49: 0.0056828704 | O49: 0.0055439815 | P49: 0.0054513889 | Q49: 0.0055902778 | S49: 0.0055092593 | W49: 0.0055324074 | Y49: 0.0056365741 | Z49: 0.005787037 | AB49: 0.0055902778 | AC49: 0.0055555556 | AD49: 0.0061111111 | AF49: 0.0055555556 | AG49: 0.0055092593 | AH49: 0.0054398148 | AJ49: 0.0055555556 | AK49: 0.0061921296 | AL49: 0.0065856481 | AM49: 0.0056712963 | AN49: 0.0055092593 | AO49: 0.0055787037 | AP49: 0.0063078704 | AQ49: 0.0056828704 | AS49: 0.0055208333 | AT49: 0.0055902778 | AU49: 0.0059953704 | AV49: 0.0053935185 | AW49: 0.0055324074 | AX49: 0.0061689815 | AY49: 0.0054861111 | BA49: 0.0054861111 | BB49: 0.0060069444 | BC49: 0.0054398148 | BD49: 0.005787037 | BE49: 0.0055902778
A50: DO2- | B50: =MIN(E50:BI50) -> 0.0051273148 | C50: =AVERAGE(E50:BI50) -> 0.0055987812 | D50: =AVERAGE(AL50:BI50) -> 0.0056262183 | E50: 0.0059606481 | F50: 0.0057638889 | G50: 0.0056597222 | H50: 0.0057060185 | I50: 0.0053935185 | J50: 0.0054166667 | K50: 0.0056365741 | L50: 0.005462963 | M50: 0.0054513889 | N50: 0.0054050926 | O50: 0.0056712963 | Q50: 0.0054166667 | R50: 0.005787037 | S50: 0.005474537 | T50: 0.0060300926 | U50: 0.0052662037 | V50: 0.0056597222 | W50: 0.0059837963 | X50: 0.0056018519 | Y50: 0.0053009259 | Z50: 0.0054398148 | AA50: 0.0054861111 | AB50: 0.0054282407 | AC50: 0.0053703704 | AD50: 0.0061111111 | AF50: 0.0054513889 | AG50: 0.0053356481 | AH50: 0.0056134259 | AJ50: 0.0053356481 | AK50: 0.0058217593 | AL50: 0.0057638889 | AM50: 0.0053240741 | AN50: 0.0060648148 | AO50: 0.0054050926 | AP50: 0.0065046296 | AQ50: 0.0053819444 | AS50: 0.0053819444 | AT50: 0.0053472222 | AU50: 0.0063078704 | AV50: 0.0054861111 | AW50: 0.0051273148 | AX50: 0.0053703704 | AY50: 0.0057060185 | AZ50: 0.0056365741 | BA50: 0.0054513889 | BB50: 0.0055208333 | BC50: 0.0055439815 | BD50: 0.0061689815 | BE50: 0.0054050926
A51: DSA2- | B51: =MIN(E51:BI51) -> 0.0049768519 | C51: =AVERAGE(E51:BI51) -> 0.0053522201 | D51: =AVERAGE(AL51:BI51) -> 0.0053542953 | E51: 0.0058680556 | F51: 0.005150463 | H51: 0.0052893519 | I51: 0.0052546296 | J51: 0.0052430556 | K51: 0.0052083333 | L51: 0.0053472222 | M51: 0.0051273148 | N51: 0.0053472222 | O51: 0.0050694444 | R51: 0.0053009259 | S51: 0.0052662037 | T51: 0.0054513889 | U51: 0.0052430556 | V51: 0.0052777778 | W51: 0.0053009259 | X51: 0.0053009259 | Z51: 0.0053472222 | AA51: 0.0055324074 | AB51: 0.0055324074 | AC51: 0.0054166667 | AD51: 0.0056481481 | AF51: 0.005474537 | AH51: 0.0053125 | AJ51: 0.0051851852 | AK51: 0.005625 | AL51: 0.0060069444 | AM51: 0.0053472222 | AN51: 0.0051041667 | AO51: 0.0051157407 | AP51: 0.0059606481 | AQ51: 0.0054166667 | AS51: 0.0052430556 | AT51: 0.0053125 | AU51: 0.0056597222 | AV51: 0.0051157407 | AW51: 0.0051851852 | AX51: 0.0054861111 | AY51: 0.0051736111 | AZ51: 0.0051967593 | BA51: 0.0052430556 | BB51: 0.005625 | BC51: 0.0049768519 | BE51: 0.0052083333
A53: B2X | B53: =MIN(E53:BI53) -> 0.0046990741 | C53: =AVERAGE(E53:BI53) -> 0.0049568603 | E53: 0.0054282407 | F53: 0.0046990741 | G53: 0.0047106481 | J53: 0.0049074074 | K53: 0.0049421296 | L53: 0.004837963 | M53: 0.004849537 | N53: 0.0049768519 | O53: 0.0050347222 | P53: 0.005162037 | Q53: 0.0049768519
A54: N2X | B54: =MIN(E54:BI54) -> 0.0046064815 | C54: =AVERAGE(E54:BI54) -> 0.004806802 | D54: =AVERAGE(AL54:BI54) -> 0.0048287037 | G54: 0.0048611111 | J54: 0.0046064815 | K54: 0.0050231481 | L54: 0.0046527778 | M54: 0.0047453704 | N54: 0.0046643519 | O54: 0.0047800926 | Q54: 0.0046412037 | R54: 0.0049537037 | S54: 0.0046759259 | T54: 0.0049768519 | U54: 0.0046064815 | Y54: 0.0047685185 | AC54: 0.0047569444 | AG54: 0.0047916667 | AK54: 0.0051851852 | AM54: 0.0050347222 | AO54: 0.0047800926 | AS54: 0.0047106481 | AU54: 0.005162037 | AV54: 0.0047106481 | AW54: 0.0047569444 | AZ54: 0.0047337963 | BA54: 0.0046527778 | BD54: 0.0050231481 | BE54: 0.0047222222
A55: O2X | B55: =MIN(E55:BI55) -> 0.0045949074 | C55: =AVERAGE(E55:BI55) -> 0.004682356 | F55: 0.0046064815 | J55: 0.0046180556 | L55: 0.0045949074 | M55: 0.0047106481 | N55: 0.0046527778 | O55: 0.0048611111 | P55: 0.0047337963 | Q55: 0.0046759259 | S55: 0.0046875
A56: SA2X | B56: =MIN(E56:BI56) -> 0.0043981481 | C56: =AVERAGE(E56:BI56) -> 0.0046418293 | D56: =AVERAGE(AL56:BI56) -> 0.0046621817 | H56: 0.0043981481 | I56: 0.0046759259 | J56: 0.0046296296 | K56: 0.004525463 | M56: 0.0044444444 | O56: 0.0046643519 | Q56: 0.0044675926 | R56: 0.0045717593 | S56: 0.0044791667 | T56: 0.0046296296 | U56: 0.0044444444 | V56: 0.0045833333 | W56: 0.0045833333 | X56: 0.0045833333 | Z56: 0.0048263889 | AA56: 0.0046527778 | AB56: 0.0047222222 | AD56: 0.0051041667 | AF56: 0.0049884259 | AG56: 0.0046643519 | AJ56: 0.0045138889 | AL56: 0.0049537037 | AN56: 0.004525463 | AO56: 0.0045949074 | AP56: 0.0050347222 | AQ56: 0.0045833333 | AS56: 0.0045717593 | AT56: 0.0045486111 | AU56: 0.0049652778 | AV56: 0.0045138889 | AX56: 0.0048148148 | AY56: 0.0045138889 | AZ56: 0.0044328704 | BA56: 0.0046643519 | BC56: 0.004537037 | BD56: 0.0048032407 | BE56: 0.004537037
A57: LB2X | B57: =MIN(E57:BI57) -> 0.0048958333 | C57: =AVERAGE(E57:BI57) -> 0.0050144676 | J57: 0.0048958333 | M57: 0.0050115741 | N57: 0.0049189815 | AG57: 0.0052314815
A58: LN2X | B58: =MIN(E58:BI58) -> 0.0047106481 | C58: =AVERAGE(E58:BI58) -> 0.0049909979 | D58: =AVERAGE(AL58:BI58) -> 0.0049344136 | L58: 0.0049652778 | M58: 0.0050578704 | N58: 0.0048032407 | T58: 0.0051157407 | U58: 0.0050231481 | AK58: 0.005150463 | AQ58: 0.0051157407 | AW58: 0.0049768519 | BE58: 0.0047106481
A59: LO2X | B59: =MIN(E59:BI59) -> 0.0046064815 | C59: =AVERAGE(E59:BI59) -> 0.0047482639 | F59: 0.0048611111 | G59: 0.0048611111 | M59: 0.0046643519 | N59: 0.0046064815
A60: LSA2X | B60: =MIN(E60:BI60) -> 0.004525463 | C60: =AVERAGE(E60:BI60) -> 0.0047185673 | D60: =AVERAGE(AL60:BI60) -> 0.0047376543 | F60: 0.0045949074 | H60: 0.0045717593 | L60: 0.0047453704 | M60: 0.0047453704 | N60: 0.0047569444 | O60: 0.0048726852 | Q60: 0.0047685185 | R60: 0.0046064815 | T60: 0.0047569444 | U60: 0.0045717593 | W60: 0.0045601852 | Z60: 0.0049768519 | AG60: 0.0046990741 | AM60: 0.004525463 | AU60: 0.0050578704 | AY60: 0.0045486111 | AZ60: 0.0045833333 | BD60: 0.0048611111 | BE60: 0.004849537
A61: DB2X | B61: =MIN(E61:BI61) -> 0.0052546296 | C61: =AVERAGE(E61:BI61) -> 0.0055460859 | D61: =AVERAGE(AL61:BI61) -> 0.0059490741 | F61: 0.0057523148 | G61: 0.0055671296 | H61: 0.0054861111 | I61: 0.0057986111 | J61: 0.0053472222 | K61: 0.0055208333 | L61: 0.0054513889 | N61: 0.0052546296 | O61: 0.0055555556 | Q61: 0.0053240741 | AU61: 0.0059490741
A62: DN2X | B62: =MIN(E62:BI62) -> 0.0051736111 | C62: =AVERAGE(E62:BI62) -> 0.0054507081 | D62: =AVERAGE(AL62:BI62) -> 0.0052922454 | E62: 0.0063888889 | F62: 0.0052546296 | G62: 0.0052430556 | I62: 0.0053472222 | J62: 0.0053703704 | K62: 0.0054398148 | L62: 0.0053240741 | M62: 0.0054282407 | N62: 0.0052430556 | O62: 0.0055787037 | P62: 0.0053356481 | Q62: 0.0054050926 | R62: 0.0058101852 | S62: 0.0055208333 | T62: 0.0056481481 | U62: 0.0052777778 | V62: 0.0053587963 | W62: 0.0055787037 | X62: 0.0056944444 | Y62: 0.0053587963 | AC62: 0.0051736111 | AD62: 0.0061342593 | AF62: 0.0056018519 | AG62: 0.0054050926 | AH62: 0.0054282407 | AJ62: 0.0056365741 | AM62: 0.0054861111 | AO62: 0.0052314815 | AS62: 0.0053240741 | AW62: 0.0052430556 | AY62: 0.0053703704 | BA62: 0.0052546296 | BC62: 0.0052199074 | BE62: 0.0052083333
A63: DO2X | B63: =MIN(E63:BI63) -> 0.0050925926 | C63: =AVERAGE(E63:BI63) -> 0.0052681327 | G63: 0.005150463 | I63: 0.0052430556 | K63: 0.0054861111 | M63: 0.0054050926 | N63: 0.0050925926 | Q63: 0.0052314815
A64: DSA2X | B64: =MIN(E64:BI64) -> 0.0047106481 | C64: =AVERAGE(E64:BI64) -> 0.0051566734 | D64: =AVERAGE(AL64:BI64) -> 0.005177228 | E64: 0.0054398148 | F64: 0.0051157407 | H64: 0.0048842593 | J64: 0.0050925926 | K64: 0.0050462963 | L64: 0.0050810185 | M64: 0.0047106481 | N64: 0.0051388889 | Q64: 0.0054166667 | R64: 0.0049884259 | S64: 0.0052662037 | T64: 0.0052546296 | U64: 0.0052083333 | V64: 0.004837963 | W64: 0.0053009259 | Y64: 0.0053009259 | Z64: 0.0050462963 | AA64: 0.005162037 | AB64: 0.0050462963 | AC64: 0.0052546296 | AD64: 0.0054166667 | AF64: 0.0050578704 | AG64: 0.0054398148 | AH64: 0.0050347222 | AJ64: 0.0050462963 | AL64: 0.0053819444 | AM64: 0.0049884259 | AN64: 0.0049652778 | AO64: 0.0050925926 | AP64: 0.0058449074 | AQ64: 0.0051851852 | AS64: 0.0051157407 | AT64: 0.0050925926 | AU64: 0.0053472222 | AW64: 0.0051967593 | AX64: 0.0054050926 | AZ64: 0.0047685185 | BA64: 0.0049884259 | BC64: 0.0050231481 | BD64: 0.0053587963 | BE64: 0.0050810185
A65: LDB2X
A66: LDN2X | B66: =MIN(E66:BI66) -> 0.0053587963 | C66: =AVERAGE(E66:BI66) -> 0.0053587963 | N66: 0.0053587963
A67: LDO2X | B67: =MIN(E67:BI67) -> 0.0051388889 | C67: =AVERAGE(E67:BI67) -> 0.0052546296 | F67: 0.0051388889 | G67: 0.0052314815 | Q67: 0.0053935185
A68: LDSA2X | B68: =MIN(E68:BI68) -> 0.0049189815 | C68: =AVERAGE(E68:BI68) -> 0.0053298611 | D68: =AVERAGE(AL68:BI68) -> 0.005316358 | M68: 0.0049189815 | T68: 0.0055787037 | W68: 0.0049884259 | AD68: 0.0056712963 | AG68: 0.0055324074 | AM68: 0.005 | AS68: 0.0053819444 | AU68: 0.0055671296
A70: B1X | B70: =MIN(E70:BI70) -> 0.0050347222 | C70: =AVERAGE(E70:BI70) -> 0.0052747685 | D70: =AVERAGE(AL70:BI70) -> 0.0052997076 | E70: 0.0052777778 | F70: 0.0053125 | G70: 0.0052199074 | H70: 0.0052199074 | I70: 0.0052546296 | J70: 0.0051851852 | K70: 0.0053587963 | L70: 0.005150463 | M70: 0.0053240741 | N70: 0.0052777778 | O70: 0.0051851852 | P70: 0.0052430556 | Q70: 0.0051851852 | R70: 0.0050347222 | S70: 0.0050810185 | T70: 0.005462963 | U70: 0.005150463 | V70: 0.0052314815 | W70: 0.0051851852 | X70: 0.0051851852 | Y70: 0.0052777778 | Z70: 0.0054976852 | AA70: 0.005162037 | AB70: 0.0051388889 | AC70: 0.0053240741 | AD70: 0.0057175926 | AF70: 0.0051041667 | AG70: 0.0052083333 | AH70: 0.0050462963 | AJ70: 0.0051736111 | AK70: 0.0058680556 | AL70: 0.005462963 | AM70: 0.0053819444 | AN70: 0.0051157407 | AO70: 0.0053125 | AP70: 0.0059837963 | AQ70: 0.0051851852 | AS70: 0.0051041667 | AT70: 0.0052314815 | AU70: 0.0055208333 | AV70: 0.0051388889 | AW70: 0.0052430556 | AX70: 0.0053125 | AY70: 0.0050925926 | AZ70: 0.0050347222 | BA70: 0.005150463 | BB70: 0.0055902778 | BC70: 0.0052662037 | BD70: 0.0054050926 | BE70: 0.005162037
A71: N1X | B71: =MIN(E71:BI71) -> 0.0049305556 | C71: =AVERAGE(E71:BI71) -> 0.0052300926 | D71: =AVERAGE(AL71:BI71) -> 0.0053167641 | E71: 0.0055208333 | F71: 0.0050115741 | G71: 0.0050231481 | H71: 0.0050578704 | I71: 0.0049305556 | J71: 0.0050578704 | K71: 0.0053472222 | L71: 0.0050231481 | M71: 0.0050694444 | N71: 0.0051851852 | O71: 0.0053703704 | P71: 0.0050231481 | Q71: 0.0051041667 | R71: 0.0051157407 | S71: 0.0050810185 | T71: 0.0056944444 | U71: 0.0050578704 | V71: 0.0052314815 | W71: 0.0050694444 | X71: 0.0051041667 | Y71: 0.0050925926 | Z71: 0.0051273148 | AA71: 0.0051388889 | AB71: 0.0050925926 | AC71: 0.0051041667 | AD71: 0.0054976852 | AF71: 0.0051041667 | AG71: 0.0051041667 | AH71: 0.005162037 | AJ71: 0.0050810185 | AK71: 0.0059027778 | AL71: 0.0060532407 | AM71: 0.0051157407 | AN71: 0.0054513889 | AO71: 0.005 | AP71: 0.005787037 | AQ71: 0.0051157407 | AS71: 0.0052199074 | AT71: 0.0051851852 | AU71: 0.0060648148 | AV71: 0.0051851852 | AW71: 0.0049884259 | AX71: 0.0051157407 | AY71: 0.0050694444 | AZ71: 0.0054166667 | BA71: 0.0050347222 | BB71: 0.0053356481 | BC71: 0.0050578704 | BD71: 0.0057060185 | BE71: 0.0051157407
A72: O1X | B72: =MIN(E72:BI72) -> 0.0048842593 | C72: =AVERAGE(E72:BI72) -> 0.0051365268 | D72: =AVERAGE(AL72:BI72) -> 0.0051716821 | E72: 0.0052893519 | F72: 0.0050810185 | G72: 0.0050578704 | H72: 0.0051273148 | I72: 0.0051388889 | J72: 0.0050347222 | K72: 0.0053472222 | L72: 0.0049652778 | M72: 0.0049189815 | N72: 0.0050231481 | O72: 0.0050578704 | P72: 0.0050115741 | Q72: 0.0049768519 | R72: 0.0051157407 | S72: 0.0049652778 | T72: 0.0052893519 | U72: 0.005 | V72: 0.0050925926 | W72: 0.0050347222 | X72: 0.0049884259 | Y72: 0.0051388889 | Z72: 0.0053587963 | AA72: 0.0049768519 | AB72: 0.0051851852 | AC72: 0.0050694444 | AD72: 0.0055208333 | AF72: 0.0050347222 | AG72: 0.0050115741 | AH72: 0.0050347222 | AJ72: 0.0050578704 | AK72: 0.0056944444 | AL72: 0.0054050926 | AM72: 0.0051388889 | AN72: 0.0049652778 | AO72: 0.0050694444 | AP72: 0.0059143519 | AQ72: 0.0050462963 | AS72: 0.0048842593 | AU72: 0.0054861111 | AV72: 0.0051041667 | AW72: 0.0051157407 | AX72: 0.0052430556 | AY72: 0.0049537037 | AZ72: 0.0049537037 | BA72: 0.0049652778 | BB72: 0.0054050926 | BC72: 0.0050347222 | BD72: 0.0053240741 | BE72: 0.0050810185
A73: SA1X | B73: =MIN(E73:BI73) -> 0.0047569444 | C73: =AVERAGE(E73:BI73) -> 0.0050581115 | D73: =AVERAGE(AL73:BI73) -> 0.0051626462 | E73: 0.0053125 | F73: 0.0047569444 | H73: 0.004849537 | I73: 0.0048263889 | J73: 0.0049537037 | K73: 0.0050925926 | L73: 0.0049652778 | M73: 0.0049305556 | N73: 0.0048842593 | O73: 0.0048263889 | Q73: 0.0050462963 | R73: 0.0050925926 | S73: 0.0049768519 | T73: 0.0053703704 | U73: 0.0049537037 | V73: 0.0049189815 | W73: 0.0047800926 | X73: 0.0049421296 | Y73: 0.0050462963 | Z73: 0.0048032407 | AA73: 0.0048842593 | AB73: 0.0050231481 | AC73: 0.0048726852 | AD73: 0.0053125 | AF73: 0.0049074074 | AG73: 0.0051388889 | AH73: 0.0049305556 | AJ73: 0.0047685185 | AK73: 0.0055324074 | AL73: 0.005787037 | AM73: 0.0050462963 | AN73: 0.0054398148 | AO73: 0.004849537 | AP73: 0.0055092593 | AQ73: 0.0048842593 | AS73: 0.0049884259 | AT73: 0.0049421296 | AU73: 0.0055439815 | AV73: 0.0049652778 | AW73: 0.0049074074 | AX73: 0.0048726852 | AY73: 0.0049884259 | AZ73: 0.0053472222 | BA73: 0.0048958333 | BB73: 0.0052893519 | BC73: 0.0050347222 | BD73: 0.005787037 | BE73: 0.0050115741
A74: LB1X | B74: =MIN(E74:BI74) -> 0.0049768519 | C74: =AVERAGE(E74:BI74) -> 0.0053609221 | D74: =AVERAGE(AL74:BI74) -> 0.0053831628 | E74: 0.0057986111 | F74: 0.0052083333 | G74: 0.0053472222 | H74: 0.0053472222 | I74: 0.0052662037 | J74: 0.0052314815 | K74: 0.0054282407 | L74: 0.0050462963 | M74: 0.005162037 | N74: 0.0054513889 | P74: 0.0051851852 | Q74: 0.0052777778 | R74: 0.0053240741 | S74: 0.0052199074 | T74: 0.0055671296 | U74: 0.0052430556 | V74: 0.0052083333 | W74: 0.0050462963 | X74: 0.0051851852 | Y74: 0.0052777778 | Z74: 0.0055671296 | AA74: 0.0054282407 | AB74: 0.0054282407 | AC74: 0.0051736111 | AD74: 0.0056944444 | AF74: 0.0051736111 | AG74: 0.0059490741 | AH74: 0.0052199074 | AJ74: 0.0052893519 | AK74: 0.0056597222 | AL74: 0.0055902778 | AM74: 0.0052777778 | AN74: 0.0050578704 | AO74: 0.0051736111 | AP74: 0.0064351852 | AQ74: 0.0053587963 | AS74: 0.0052430556 | AT74: 0.0052430556 | AU74: 0.0058680556 | AV74: 0.005150463 | AW74: 0.005162037 | AX74: 0.0055671296 | AY74: 0.0051157407 | AZ74: 0.0051736111 | BA74: 0.0049768519 | BB74: 0.0057986111 | BC74: 0.0053819444 | BD74: 0.0054513889 | BE74: 0.0052546296
A75: LN1X | B75: =MIN(E75:BI75) -> 0.0050115741 | C75: =AVERAGE(E75:BI75) -> 0.0053125 | D75: =AVERAGE(AL75:BI75) -> 0.0054032651 | E75: 0.0053009259 | F75: 0.0053819444 | G75: 0.0053240741 | H75: 0.0052083333 | I75: 0.0052777778 | J75: 0.0051157407 | K75: 0.0053356481 | L75: 0.0050347222 | M75: 0.0053240741 | N75: 0.0050231481 | O75: 0.0051736111 | P75: 0.0051041667 | Q75: 0.0050115741 | R75: 0.0053587963 | S75: 0.0051851852 | T75: 0.0057523148 | U75: 0.0051041667 | V75: 0.005150463 | W75: 0.0050462963 | X75: 0.0052314815 | Y75: 0.0051388889 | Z75: 0.005625 | AA75: 0.0051967593 | AB75: 0.0053703704 | AC75: 0.0051157407 | AD75: 0.0056828704 | AF75: 0.0050694444 | AG75: 0.0051041667 | AH75: 0.0053125 | AJ75: 0.0051157407 | AK75: 0.005787037 | AL75: 0.0061458333 | AM75: 0.0051273148 | AN75: 0.0055787037 | AO75: 0.005150463 | AP75: 0.0060300926 | AQ75: 0.0052430556 | AS75: 0.0051967593 | AT75: 0.0051736111 | AU75: 0.0060648148 | AV75: 0.0052430556 | AW75: 0.0050462963 | AX75: 0.0052199074 | AY75: 0.0053935185 | AZ75: 0.0054861111 | BA75: 0.0050925926 | BB75: 0.0053125 | BC75: 0.0051736111 | BD75: 0.0058101852 | BE75: 0.0051736111
A76: LO1X | B76: =MIN(E76:BI76) -> 0.0049652778 | C76: =AVERAGE(E76:BI76) -> 0.0052175454 | D76: =AVERAGE(AL76:BI76) -> 0.0052694187 | E76: 0.0054513889 | F76: 0.0050347222 | G76: 0.0050578704 | H76: 0.0050231481 | I76: 0.005 | J76: 0.0050925926 | K76: 0.0055208333 | L76: 0.0050925926 | M76: 0.0050462963 | N76: 0.0052546296 | O76: 0.0052893519 | P76: 0.0050462963 | Q76: 0.0051736111 | R76: 0.0051736111 | S76: 0.0049652778 | T76: 0.0053703704 | U76: 0.0050115741 | V76: 0.0051967593 | W76: 0.0050925926 | X76: 0.0051157407 | Y76: 0.005162037 | Z76: 0.0053819444 | AA76: 0.0051967593 | AB76: 0.0052199074 | AC76: 0.0050810185 | AD76: 0.0055902778 | AF76: 0.0051273148 | AG76: 0.0051388889 | AH76: 0.0051736111 | AJ76: 0.005150463 | AK76: 0.0055787037 | AL76: 0.005462963 | AN76: 0.0051157407 | AO76: 0.005162037 | AP76: 0.0062152778 | AQ76: 0.0052083333 | AS76: 0.0050694444 | AT76: 0.005150463 | AU76: 0.0055902778 | AV76: 0.0050810185 | AW76: 0.005162037 | AX76: 0.0053935185 | AY76: 0.0050694444 | AZ76: 0.0050810185 | BA76: 0.005 | BB76: 0.0055092593 | BC76: 0.0050578704 | BD76: 0.0053935185 | BE76: 0.0051273148
A77: LSA1X | B77: =MIN(E77:BI77) -> 0.004837963 | C77: =AVERAGE(E77:BI77) -> 0.0051507092 | D77: =AVERAGE(AL77:BI77) -> 0.0052342048 | E77: 0.0051967593 | F77: 0.0051851852 | G77: 0.0051967593 | H77: 0.0050115741 | I77: 0.005162037 | J77: 0.0049768519 | K77: 0.0052430556 | L77: 0.0049652778 | M77: 0.0050694444 | N77: 0.0050231481 | O77: 0.004849537 | Q77: 0.0050347222 | R77: 0.0050925926 | S77: 0.005 | T77: 0.0053819444 | U77: 0.0049768519 | V77: 0.0051157407 | W77: 0.0048611111 | X77: 0.005150463 | Y77: 0.0050231481 | Z77: 0.0049652778 | AA77: 0.0050810185 | AB77: 0.0051273148 | AC77: 0.0049537037 | AD77: 0.0054166667 | AF77: 0.0051388889 | AG77: 0.0052083333 | AH77: 0.0050462963 | AJ77: 0.004837963 | AK77: 0.0058101852 | AL77: 0.0056712963 | AM77: 0.0048842593 | AN77: 0.0053935185 | AO77: 0.0049189815 | AP77: 0.0055208333 | AQ77: 0.0050810185 | AT77: 0.0050462963 | AU77: 0.0057523148 | AV77: 0.0052662037 | AW77: 0.0050347222 | AX77: 0.0049074074 | AY77: 0.0052893519 | AZ77: 0.0052546296 | BA77: 0.0050462963 | BB77: 0.0050347222 | BD77: 0.0057407407 | BE77: 0.0051388889
A78: DB1X | B78: =MIN(E78:BI78) -> 0.0056134259 | C78: =AVERAGE(E78:BI78) -> 0.0058766204 | D78: =AVERAGE(AL78:BI78) -> 0.0059435916 | E78: 0.0062847222 | F78: 0.0057638889 | G78: 0.005787037 | H78: 0.005625 | I78: 0.0056712963 | J78: 0.0057175926 | K78: 0.0059375 | L78: 0.0057407407 | M78: 0.0057291667 | N78: 0.0059375 | O78: 0.0060300926 | P78: 0.0057175926 | Q78: 0.0058680556 | R78: 0.0058449074 | S78: 0.0057407407 | T78: 0.0061921296 | U78: 0.0056481481 | V78: 0.0056134259 | W78: 0.0057060185 | X78: 0.0056828704 | Y78: 0.005787037 | Z78: 0.0060300926 | AA78: 0.0058680556 | AB78: 0.0056828704 | AC78: 0.0058912037 | AD78: 0.0063888889 | AF78: 0.0056597222 | AG78: 0.005787037 | AH78: 0.0057291667 | AJ78: 0.0057060185 | AK78: 0.0061342593 | AL78: 0.0064236111 | AM78: 0.0060532407 | AN78: 0.005775463 | AO78: 0.0058564815 | AP78: 0.0067013889 | AQ78: 0.0057407407 | AS78: 0.0056365741 | AT78: 0.0059953704 | AU78: 0.0062731481 | AV78: 0.0056944444 | AW78: 0.0057523148 | AX78: 0.0061805556 | AY78: 0.0056828704 | AZ78: 0.0056712963 | BA78: 0.0056597222 | BB78: 0.0062615741 | BC78: 0.005625 | BD78: 0.006087963 | BE78: 0.0058564815
A79: DN1x | B79: =MIN(E79:BI79) -> 0.005462963 | C79: =AVERAGE(E79:BI79) -> 0.0058240741 | D79: =AVERAGE(AL79:BI79) -> 0.0059088694 | E79: 0.0059143519 | F79: 0.006099537 | G79: 0.0058680556 | H79: 0.0057060185 | I79: 0.0057986111 | J79: 0.0056597222 | K79: 0.0059259259 | L79: 0.0055555556 | M79: 0.0055092593 | N79: 0.005775463 | O79: 0.0056597222 | P79: 0.0056944444 | Q79: 0.0057175926 | R79: 0.005787037 | S79: 0.0056365741 | T79: 0.0061342593 | U79: 0.0055324074 | V79: 0.0059606481 | W79: 0.0057175926 | X79: 0.0056365741 | Y79: 0.0056365741 | Z79: 0.0056134259 | AA79: 0.0056944444 | AB79: 0.0055902778 | AC79: 0.0055787037 | AD79: 0.0061458333 | AF79: 0.0056828704 | AG79: 0.0057523148 | AH79: 0.0057986111 | AJ79: 0.0056481481 | AK79: 0.0065046296 | AL79: 0.0066203704 | AM79: 0.0058680556 | AN79: 0.0063310185 | AO79: 0.0056018519 | AP79: 0.0065277778 | AQ79: 0.0056365741 | AS79: 0.0058217593 | AT79: 0.0056365741 | AU79: 0.0065856481 | AV79: 0.0057407407 | AW79: 0.0055092593 | AX79: 0.0058217593 | AY79: 0.0057986111 | AZ79: 0.0056828704 | BA79: 0.005462963 | BB79: 0.0058101852 | BC79: 0.0056828704 | BD79: 0.0065277778 | BE79: 0.0056018519
A80: DO1X | B80: =MIN(E80:BI80) -> 0.0053819444 | C80: =AVERAGE(E80:BI80) -> 0.0056980453 | D80: =AVERAGE(AL80:BI80) -> 0.0057067419 | E80: 0.0061805556 | F80: 0.005462963 | G80: 0.005462963 | H80: 0.0056134259 | I80: 0.0055787037 | J80: 0.0053819444 | K80: 0.0059259259 | L80: 0.0055555556 | M80: 0.0055092593 | N80: 0.005775463 | O80: 0.005787037 | P80: 0.0055208333 | Q80: 0.0056944444 | R80: 0.0058449074 | S80: 0.005625 | U80: 0.0055671296 | V80: 0.0055555556 | W80: 0.0056597222 | X80: 0.0056944444 | Y80: 0.0056018519 | Z80: 0.0059837963 | AA80: 0.0056365741 | AB80: 0.0055902778 | AC80: 0.0056944444 | AD80: 0.0062615741 | AF80: 0.0055208333 | AG80: 0.0056712963 | AH80: 0.0056712963 | AK80: 0.0060763889 | AL80: 0.0060300926 | AM80: 0.0056712963 | AN80: 0.005462963 | AO80: 0.0057638889 | AP80: 0.006412037 | AQ80: 0.0055671296 | AS80: 0.0055671296 | AU80: 0.0060069444 | AV80: 0.0054282407 | AW80: 0.0056597222 | AX80: 0.0058217593 | AY80: 0.0054398148 | AZ80: 0.0054513889 | BA80: 0.005462963 | BB80: 0.0059953704 | BC80: 0.0055671296
A81: DSA1X | B81: =MIN(E81:BI81) -> 0.0052893519 | C81: =AVERAGE(E81:BI81) -> 0.0056220449 | D81: =AVERAGE(AL81:BI81) -> 0.0057102827 | E81: 0.0055671296 | F81: 0.0056828704 | G81: 0.0055439815 | H81: 0.0053935185 | I81: 0.0055671296 | J81: 0.0055092593 | K81: 0.0055439815 | L81: 0.0054398148 | M81: 0.0055787037 | N81: 0.0056134259 | O81: 0.0053240741 | Q81: 0.0055902778 | R81: 0.005625 | S81: 0.0054513889 | T81: 0.0057175926 | U81: 0.0054050926 | V81: 0.0055671296 | W81: 0.0054166667 | X81: 0.0056365741 | Y81: 0.0055555556 | Z81: 0.0053935185 | AA81: 0.0055555556 | AB81: 0.0055671296 | AC81: 0.0055324074 | AD81: 0.0057523148 | AH81: 0.0056597222 | AJ81: 0.0054166667 | AK81: 0.0061342593 | AL81: 0.0062615741 | AM81: 0.0054166667 | AN81: 0.0061111111 | AO81: 0.0053587963 | AP81: 0.0060648148 | AQ81: 0.0054282407 | AS81: 0.0055671296 | AT81: 0.0055439815 | AU81: 0.0062615741 | AV81: 0.005625 | AW81: 0.0052893519 | AX81: 0.0054282407 | AY81: 0.0056828704 | AZ81: 0.0059837963 | BA81: 0.0053819444 | BB81: 0.0054050926 | BC81: 0.0056712963 | BD81: 0.0065046296 | BE81: 0.0055092593
A82: LDB1X | B82: =MIN(E82:BI82) -> 0.0056134259 | C82: =AVERAGE(E82:BI82) -> 0.0060023148 | D82: =AVERAGE(AL82:BI82) -> 0.0060863095 | E82: 0.0061111111 | F82: 0.0059375 | G82: 0.0061458333 | H82: 0.0056944444 | I82: 0.0060416667 | J82: 0.0059837963 | K82: 0.0059837963 | L82: 0.0057638889 | M82: 0.0057407407 | N82: 0.005787037 | O82: 0.0056828704 | Q82: 0.0058912037 | R82: 0.00625 | V82: 0.0057175926 | W82: 0.0059490741 | X82: 0.0058101852 | Y82: 0.0059490741 | Z82: 0.0058564815 | AA82: 0.0059259259 | AB82: 0.0058680556 | AC82: 0.0059027778 | AD82: 0.0065740741 | AF82: 0.0059259259 | AH82: 0.0056944444 | AJ82: 0.0061342593 | AK82: 0.0065625 | AL82: 0.0065393519 | AP82: 0.007025463 | AQ82: 0.0059722222 | AS82: 0.0057291667 | AT82: 0.0058564815 | AU82: 0.006724537 | AV82: 0.0056134259 | AW82: 0.0059027778 | AX82: 0.0062847222 | AY82: 0.005787037 | AZ82: 0.0058912037 | BA82: 0.0056944444 | BB82: 0.0061689815 | BE82: 0.0060185185
A83: LDN1X | B83: =MIN(E83:BI83) -> 0.0055555556 | C83: =AVERAGE(E83:BI83) -> 0.0059446759 | D83: =AVERAGE(AL83:BI83) -> 0.0059886696 | E83: 0.006412037 | F83: 0.0060763889 | G83: 0.0057986111 | H83: 0.005787037 | I83: 0.0056134259 | J83: 0.005787037 | K83: 0.006087963 | L83: 0.0057291667 | M83: 0.0057175926 | N83: 0.0059027778 | O83: 0.0059375 | P83: 0.0057175926 | Q83: 0.0058796296 | R83: 0.0060532407 | S83: 0.0058796296 | T83: 0.0065625 | U83: 0.0058101852 | V83: 0.0060648148 | W83: 0.0058101852 | X83: 0.0059143519 | Y83: 0.0057523148 | Z83: 0.0059375 | AA83: 0.0058564815 | AB83: 0.0056365741 | AC83: 0.0057291667 | AD83: 0.00625 | AF83: 0.0059606481 | AG83: 0.0059490741 | AH83: 0.0058796296 | AJ83: 0.0056944444 | AK83: 0.0062615741 | AL83: 0.007349537 | AM83: 0.0056828704 | AN83: 0.0063773148 | AO83: 0.0056944444 | AP83: 0.0066550926 | AQ83: 0.0058680556 | AS83: 0.0058680556 | AT83: 0.005775463 | AU83: 0.0068402778 | AV83: 0.0058217593 | AW83: 0.0055787037 | AX83: 0.0056597222 | AY83: 0.0057407407 | AZ83: 0.0057986111 | BA83: 0.0055555556 | BB83: 0.0059027778 | BC83: 0.0056018519 | BD83: 0.0063541667 | BE83: 0.0056597222
A84: LDO1X | B84: =MIN(E84:BI84) -> 0.0055324074 | C84: =AVERAGE(E84:BI84) -> 0.0058280724 | D84: =AVERAGE(AL84:BI84) -> 0.0058905607 | E84: 0.0059722222 | F84: 0.0056712963 | G84: 0.0057175926 | H84: 0.0057291667 | I84: 0.0058449074 | J84: 0.0056597222 | K84: 0.0058912037 | L84: 0.0056481481 | M84: 0.0055787037 | N84: 0.0055671296 | O84: 0.0056828704 | Q84: 0.0056944444 | V84: 0.0055324074 | W84: 0.0056481481 | X84: 0.0056365741 | Y84: 0.0058217593 | Z84: 0.0058217593 | AA84: 0.0057407407 | AB84: 0.0058101852 | AC84: 0.0056828704 | AD84: 0.0064814815 | AF84: 0.0056828704 | AG84: 0.0059259259 | AH84: 0.0059837963 | AJ84: 0.0057291667 | AK84: 0.00625 | AL84: 0.0062384259 | AM84: 0.0056597222 | AN84: 0.0056828704 | AO84: 0.0057175926 | AP84: 0.0072800926 | AQ84: 0.0058217593 | AS84: 0.0055787037 | AU84: 0.0063310185 | AV84: 0.0056134259 | AW84: 0.0057638889 | AX84: 0.0061342593 | AY84: 0.0056134259 | AZ84: 0.0056944444 | BA84: 0.0056018519 | BB84: 0.0061689815 | BC84: 0.0056481481 | BD84: 0.0059143519 | BE84: 0.0055671296
A85: LDSA1X | B85: =MIN(E85:BI85) -> 0.0054050926 | C85: =AVERAGE(E85:BI85) -> 0.005703596 | D85: =AVERAGE(AL85:BI85) -> 0.0058326525 | E85: 0.0062847222 | F85: 0.0054976852 | H85: 0.0055208333 | I85: 0.0055555556 | J85: 0.0056712963 | K85: 0.0055555556 | L85: 0.0055092593 | M85: 0.0054282407 | O85: 0.0055671296 | Q85: 0.0058101852 | R85: 0.0057986111 | S85: 0.005474537 | T85: 0.0057407407 | U85: 0.0054976852 | V85: 0.0054398148 | W85: 0.0054166667 | X85: 0.0055324074 | Y85: 0.0057291667 | Z85: 0.0054398148 | AA85: 0.0055787037 | AB85: 0.0056018519 | AD85: 0.0058680556 | AF85: 0.0058564815 | AG85: 0.0057060185 | AH85: 0.0056134259 | AJ85: 0.0054050926 | AL85: 0.0064351852 | AM85: 0.0054398148 | AN85: 0.0061805556 | AO85: 0.0057291667 | AP85: 0.0063773148 | AQ85: 0.0057291667 | AT85: 0.0057407407 | AV85: 0.0058217593 | AW85: 0.0054513889 | AX85: 0.0054398148 | AY85: 0.0058101852 | AZ85: 0.0056481481 | BA85: 0.0055324074 | BB85: 0.0056828704 | BC85: 0.0060069444 | BD85: 0.0065162037 | BE85: 0.0056134259
