Workbook

Sheet 14-11-2015 (Hel Rex)
A1: Hel REX
A4: Eerste blok (1e) | C4: RICHTTIJD | F4: Afstand | J4: indiv. | K4: gem.
C5: MIN | D5: SEC | E5: m/s | F5: 3000 | G5: MIN | H5: SEC | I5: m/s | J5: perc. | K5: perc. | L5: verschil
A6: Just | B6: LSA1x | C6: 7 | D6: 24 | E6: =1/((SUM(C6*60,D6))/2000) -> 4.5045045 | G6: 11 | H6: 57 | I6: =$F$5/(G6*60+H6) -> 4.1841004 | J6: =(I6/E6)*100 -> 92.887029 | K6: =AVERAGE($J$6:$J$19) -> 89.719936 | L6: =(J6-K6) -> 3.1670936
A7: Vincent | B7: LSA1x | C7: 7 | D7: 24 | E7: =1/((SUM(C7*60,D7))/2000) -> 4.5045045 | G7: 12 | H7: 5 | I7: =$F$5/(G7*60+H7) -> 4.137931 | J7: =(I7/E7)*100 -> 91.862069 | K7: =AVERAGE($J$6:$J$19) -> 89.719936 | L7: =(J7-K7) -> 2.1421333
A8: Koen en Tim | B8: Sa2- | C8: 6 | D8: 52 | E8: =1/((SUM(C8*60,D8))/2000) -> 4.8543689 | G8: 11 | H8: 17 | I8: =$F$5/(G8*60+H8) -> 4.4313146 | J8: =(I8/E8)*100 -> 91.285081 | K8: =AVERAGE($J$6:$J$19) -> 89.719936 | L8: =(J8-K8) -> 1.5651455
A9: Luuk en Mart | B9: Sa2- | C9: 6 | D9: 52 | E9: =1/((SUM(C9*60,D9))/2000) -> 4.8543689 | G9: 11 | H9: 18 | I9: =$F$5/(G9*60+H9) -> 4.4247788 | J9: =(I9/E9)*100 -> 91.150442 | K9: =AVERAGE($J$6:$J$19) -> 89.719936 | L9: =(J9-K9) -> 1.4305068
A10: Damion | B10: LSA1x | C10: 7 | D10: 24 | E10: =1/((SUM(C10*60,D10))/2000) -> 4.5045045 | G10: 12 | H10: 12 | I10: =$F$5/(G10*60+H10) -> 4.0983607 | J10: =(I10/E10)*100 -> 90.983607 | K10: =AVERAGE($J$6:$J$19) -> 89.719936 | L10: =(J10-K10) -> 1.2636709
A11: Daan | B11: B1x | C11: 7 | D11: 36 | E11: =1/((SUM(C11*60,D11))/2000) -> 4.3859649 | G11: 12 | H11: 33 | I11: =$F$5/(G11*60+H11) -> 3.9840637 | J11: =(I11/E11)*100 -> 90.836653 | K11: =AVERAGE($J$6:$J$19) -> 89.719936 | L11: =(J11-K11) -> 1.1167177
A12: Ids | B12: LB1x | C12: 7 | D12: 44 | E12: =1/((SUM(C12*60,D12))/2000) -> 4.3103448 | G12: 12 | H12: 47 | I12: =$F$5/(G12*60+H12) -> 3.9113429 | J12: =(I12/E12)*100 -> 90.743155 | K12: =AVERAGE($J$6:$J$19) -> 89.719936 | L12: =(J12-K12) -> 1.0232195
A13: Jolmer | B13: LSA1x | C13: 7 | D13: 24 | E13: =1/((SUM(C13*60,D13))/2000) -> 4.5045045 | G13: 12 | H13: 14 | I13: =$F$5/(G13*60+H13) -> 4.0871935 | J13: =(I13/E13)*100 -> 90.735695 | K13: =AVERAGE($J$6:$J$19) -> 89.719936 | L13: =(J13-K13) -> 1.0157591
A14: Nils | B14: LSA1x | C14: 7 | D14: 24 | E14: =1/((SUM(C14*60,D14))/2000) -> 4.5045045 | G14: 12 | H14: 16 | I14: =$F$5/(G14*60+H14) -> 4.076087 | J14: =(I14/E14)*100 -> 90.48913 | K14: =AVERAGE($J$6:$J$19) -> 89.719936 | L14: =(J14-K14) -> 0.76919473
A15: Oscar en Jacob | B15: O2- | C15: 7 | D15: 6 | E15: =1/((SUM(C15*60,D15))/2000) -> 4.6948357 | G15: 12 | H15: 2 | I15: =$F$5/(G15*60+H15) -> 4.1551247 | J15: =(I15/E15)*100 -> 88.504155 | K15: =AVERAGE($J$6:$J$19) -> 89.719936 | L15: =(J15-K15) -> -1.2157806
A16: Jorn | B16: B1x | C16: 7 | D16: 36 | E16: =1/((SUM(C16*60,D16))/2000) -> 4.3859649 | G16: 13 | H16: 3 | I16: =$F$5/(G16*60+H16) -> 3.8314176 | J16: =(I16/E16)*100 -> 87.356322 | K16: =AVERAGE($J$6:$J$19) -> 89.719936 | L16: =(J16-K16) -> -2.3636139
A17: Raymon | B17: B1x | C17: 7 | D17: 36 | E17: =1/((SUM(C17*60,D17))/2000) -> 4.3859649 | G17: 13 | H17: 9 | I17: =$F$5/(G17*60+H17) -> 3.8022814 | J17: =(I17/E17)*100 -> 86.692015 | K17: =AVERAGE($J$6:$J$19) -> 89.719936 | L17: =(J17-K17) -> -3.0279205
... A19: Geert | B19: Sa1x | C19: 7 | D19: 15 | E19: =1/((SUM(C19*60,D19))/2000) -> 4.5977011 | G19: 12 | H19: 39 | I19: =$F$5/(G19*60+H19) -> 3.9525692 | J19: =(I19/E19)*100 -> 85.968379 | K19: =AVERAGE($J$6:$J$19) -> 89.719936 | L19: =(J19-K19) -> -3.7515563
A22: Eerste blok (2de) | C22: RICHTTIJD | F22: Afstand | J22: indiv. | K22: gem.
C23: MIN | D23: SEC | E23: m/s | F23: 3000 | G23: MIN | H23: SEC | I23: m/s | J23: perc. | K23: perc. | L23: verschil
A24: Daan | B24: B1x | C24: 7 | D24: 36 | E24: =1/((SUM(C24*60,D24))/2000) -> 4.3859649 | G24: 12 | H24: 7 | I24: =$F$23/(G24*60+H24) -> 4.1265475 | J24: =(I24/E24)*100 -> 94.085282 | K24: =AVERAGE($J$24:$J$37) -> 92.130064 | L24: =(J24-K24) -> 1.9552177
A25: Just | B25: LSA1x | C25: 7 | D25: 24 | E25: =1/((SUM(C25*60,D25))/2000) -> 4.5045045 | G25: 11 | H25: 49 | I25: =$F$23/(G25*60+H25) -> 4.2313117 | J25: =(I25/E25)*100 -> 93.93512 | K25: =AVERAGE($J$24:$J$37) -> 92.130064 | L25: =(J25-K25) -> 1.8050556
A26: Koen en Tim | B26: Sa2- | C26: 6 | D26: 52 | E26: =1/((SUM(C26*60,D26))/2000) -> 4.8543689 | G26: 10 | H26: 59 | I26: =$F$23/(G26*60+H26) -> 4.552352 | J26: =(I26/E26)*100 -> 93.778452 | K26: =AVERAGE($J$24:$J$37) -> 92.130064 | L26: =(J26-K26) -> 1.6483879
A27: Luuk en Mart | B27: Sa2- | C27: 6 | D27: 52 | E27: =1/((SUM(C27*60,D27))/2000) -> 4.8543689 | G27: 11 | H27: 0 | I27: =$F$23/(G27*60+H27) -> 4.5454545 | J27: =(I27/E27)*100 -> 93.636364 | K27: =AVERAGE($J$24:$J$37) -> 92.130064 | L27: =(J27-K27) -> 1.5062993
A28: Jolmer | B28: LSA1x | C28: 7 | D28: 24 | E28: =1/((SUM(C28*60,D28))/2000) -> 4.5045045 | G28: 11 | H28: 56 | I28: =$F$23/(G28*60+H28) -> 4.1899441 | J28: =(I28/E28)*100 -> 93.01676 | K28: =AVERAGE($J$24:$J$37) -> 92.130064 | L28: =(J28-K28) -> 0.88669548
A29: Vincent | B29: LSA1x | C29: 7 | D29: 24 | E29: =1/((SUM(C29*60,D29))/2000) -> 4.5045045 | G29: 11 | H29: 58 | I29: =$F$23/(G29*60+H29) -> 4.178273 | J29: =(I29/E29)*100 -> 92.75766 | K29: =AVERAGE($J$24:$J$37) -> 92.130064 | L29: =(J29-K29) -> 0.62759587
A30: Ids | B30: LB1x | C30: 7 | D30: 44 | E30: =1/((SUM(C30*60,D30))/2000) -> 4.3103448 | G30: 12 | H30: 31 | I30: =$F$23/(G30*60+H30) -> 3.9946738 | J30: =(I30/E30)*100 -> 92.676431 | K30: =AVERAGE($J$24:$J$37) -> 92.130064 | L30: =(J30-K30) -> 0.54636712
A31: Damion | B31: LSA1x | C31: 7 | D31: 24 | E31: =1/((SUM(C31*60,D31))/2000) -> 4.5045045 | G31: 11 | H31: 59 | I31: =$F$23/(G31*60+H31) -> 4.1724618 | J31: =(I31/E31)*100 -> 92.628651 | K31: =AVERAGE($J$24:$J$37) -> 92.130064 | L31: =(J31-K31) -> 0.4985866
A32: Jorn | B32: B1x | C32: 7 | D32: 36 | E32: =1/((SUM(C32*60,D32))/2000) -> 4.3859649 | G32: 12 | H32: 22 | I32: =$F$23/(G32*60+H32) -> 4.0431267 | J32: =(I32/E32)*100 -> 92.183288 | K32: =AVERAGE($J$24:$J$37) -> 92.130064 | L32: =(J32-K32) -> 0.053224109
A33: Oscar en Jacob | B33: O2- | C33: 7 | D33: 6 | E33: =1/((SUM(C33*60,D33))/2000) -> 4.6948357 | G33: 11 | H33: 40 | I33: =$F$23/(G33*60+H33) -> 4.2857143 | J33: =(I33/E33)*100 -> 91.285714 | K33: =AVERAGE($J$24:$J$37) -> 92.130064 | L33: =(J33-K33) -> -0.84435002
A34: Nils | B34: LSA1x | C34: 7 | D34: 24 | E34: =1/((SUM(C34*60,D34))/2000) -> 4.5045045 | G34: 12 | H34: 11 | I34: =$F$23/(G34*60+H34) -> 4.1039672 | J34: =(I34/E34)*100 -> 91.108071 | K34: =AVERAGE($J$24:$J$37) -> 92.130064 | L34: =(J34-K34) -> -1.0219932
A35: Raymon | B35: B1x | C35: 7 | D35: 36 | E35: =1/((SUM(C35*60,D35))/2000) -> 4.3859649 | G35: 12 | H35: 35 | I35: =$F$23/(G35*60+H35) -> 3.9735099 | J35: =(I35/E35)*100 -> 90.596026 | K35: =AVERAGE($J$24:$J$37) -> 92.130064 | L35: =(J35-K35) -> -1.5340378
... A37: Ernst en Tijmen | B37: O2- | C37: 7 | D37: 6 | E37: =1/((SUM(C37*60,D37))/2000) -> 4.6948357 | G37: 12 | H37: 1 | I37: =$F$23/(G37*60+H37) -> 4.1608877 | J37: =(I37/E37)*100 -> 88.626907 | K37: =AVERAGE($J$24:$J$37) -> 92.130064 | L37: =(J37-K37) -> -3.5031572
A40: Tweede blok (1e) | C40: RICHTTIJD | F40: Afstand | J40: indiv. | K40: gem.
C41: MIN | D41: SEC | E41: m/s | F41: 3000 | G41: MIN | H41: SEC | I41: m/s | J41: perc. | K41: perc. | L41: verschil
A42: Marloes | B42: DSA1x | C42: 8 | D42: 4 | E42: =1/((SUM(C42*60,D42))/2000) -> 4.1322314 | G42: 12 | H42: 56 | I42: =$F$41/(G42*60+H42) -> 3.8659794 | J42: =(I42/E42)*100 -> 93.556701 | K42: =AVERAGE($J$42:$J$50) -> 87.963599 | L42: =(J42-K42) -> 5.5931025
A43: Nienke | B43: LDN1x | C43: 8 | D43: 32 | E43: =1/((SUM(C43*60,D43))/2000) -> 3.90625 | G43: 13 | H43: 58 | I43: =$F$41/(G43*60+H43) -> 3.5799523 | J43: =(I43/E43)*100 -> 91.646778 | K43: =AVERAGE($J$42:$J$50) -> 87.963599 | L43: =(J43-K43) -> 3.6831795
A44: Baukje | B44: DSA1x | C44: 8 | D44: 4 | E44: =1/((SUM(C44*60,D44))/2000) -> 4.1322314 | G44: 13 | H44: 19 | I44: =$F$41/(G44*60+H44) -> 3.7546934 | J44: =(I44/E44)*100 -> 90.863579 | K44: =AVERAGE($J$42:$J$50) -> 87.963599 | L44: =(J44-K44) -> 2.8999809
A45: Merel | B45: DN1x | C45: 8 | D45: 21 | E45: =1/((SUM(C45*60,D45))/2000) -> 3.992016 | G45: 14 | H45: 6 | I45: =$F$41/(G45*60+H45) -> 3.5460993 | J45: =(I45/E45)*100 -> 88.829787 | K45: =AVERAGE($J$42:$J$50) -> 87.963599 | L45: =(J45-K45) -> 0.86618868
A46: EJD 8+ | B46: D8+ | C46: 7 | D46: 0 | E46: =1/((SUM(C46*60,D46))/2000) -> 4.7619048 | G46: 11 | H46: 51 | I46: =$F$41/(G46*60+H46) -> 4.2194093 | J46: =(I46/E46)*100 -> 88.607595 | K46: =AVERAGE($J$42:$J$50) -> 87.963599 | L46: =(J46-K46) -> 0.64399638
A47: Eline | B47: DSA1x | C47: 8 | D47: 4 | E47: =1/((SUM(C47*60,D47))/2000) -> 4.1322314 | G47: 13 | H47: 48 | I47: =$F$41/(G47*60+H47) -> 3.6231884 | J47: =(I47/E47)*100 -> 87.681159 | K47: =AVERAGE($J$42:$J$50) -> 87.963599 | L47: =(J47-K47) -> -0.28243913
A48: EJL 8+ | B48: LB8+ | C48: 6 | D48: 18 | E48: =1/((SUM(C48*60,D48))/2000) -> 5.2910053 | G48: 10 | H48: 49 | I48: =$F$41/(G48*60+H48) -> 4.6224961 | J48: =(I48/E48)*100 -> 87.365177 | K48: =AVERAGE($J$42:$J$50) -> 87.963599 | L48: =(J48-K48) -> -0.59842136
...

Sheet 17-12-2015 (intraining rex)
A1: Intraining REX 2015
C3: RICHTTIJD | F3: Afstand | J3: indiv. | K3: gem.
C4: MIN | D4: SEC | E4: m/s | F4: 2000 | G4: MIN | H4: SEC | I4: m/s | J4: perc. | K4: perc. | L4: verschil
A5: EJL 8+ | B5: LB 8+ | C5: 6 | D5: 19 | E5: =1/((SUM(C5*60,D5))/2000) -> 5.2770449 | G5: 6 | H5: 24 | I5: =F4/(G5*60+H5) -> 5.2083333 | J5: =(I5/E5)*100 -> 98.697917 | K5: =AVERAGE($J$5:$J$6) -> 95.931237 | L5: =(J5-K5) -> 2.7666799
A6: EJZ 8+ | B6: B 8+ | C6: 6 | D6: 8 | E6: =1/((SUM(C6*60,D6))/2000) -> 5.4347826 | G6: 6 | H6: 35 | I6: =F4/(G6*60+H6) -> 5.0632911 | J6: =(I6/E6)*100 -> 93.164557 | K6: =AVERAGE($J$5:$J$6) -> 95.931237 | L6: =(J6-K6) -> -2.7666799
C8: RICHTTIJD | F8: Afstand | J8: indiv. | K8: gem.
C9: MIN | D9: SEC | E9: m/s | F9: 2000 | G9: MIN | H9: SEC | I9: m/s | J9: perc. | K9: perc. | L9: verschil
A10: EJL 8+ | B10: LB 8+ | C10: 6 | D10: 19 | E10: =1/((SUM(C10*60,D10))/2000) -> 5.2770449 | G10: 6 | H10: 56 | I10: =$F$9/(G10*60+H10) -> 4.8076923 | J10: =(I10/E10)*100 -> 91.105769 | K10: =AVERAGE($J$10:$J$12) -> 87.993795 | L10: =(J10-K10) -> 3.1119742
A11: EJD 8+ | B11: DB 8+ | C11: 7 | D11: 1 | E11: =1/((SUM(C11*60,D11))/2000) -> 4.7505938 | G11: 7 | H11: 44 | I11: =$F$9/(G11*60+H11) -> 4.3103448 | J11: =(I11/E11)*100 -> 90.732759 | K11: =AVERAGE($J$10:$J$12) -> 87.993795 | L11: =(J11-K11) -> 2.7389636
A12: EJZ 8+ | B12: B 8+ | C12: 6 | D12: 8 | E12: =1/((SUM(C12*60,D12))/2000) -> 5.4347826 | G12: 7 | H12: 28 | I12: =$F$9/(G12*60+H12) -> 4.4642857 | J12: =(I12/E12)*100 -> 82.142857 | K12: =AVERAGE($J$10:$J$12) -> 87.993795 | L12: =(J12-K12) -> -5.8509379
C14: RICHTTIJD | F14: Afstand | J14: indiv. | K14: gem.
C15: MIN | D15: SEC | E15: m/s | F15: 2000 | G15: MIN | H15: SEC | I15: m/s | J15: perc. | K15: perc. | L15: verschil
A16: EJL 8+ | B16: LB 8+ | C16: 6 | D16: 19 | E16: =1/((SUM(C16*60,D16))/2000) -> 5.2770449 | G16: 6 | H16: 34 | I16: =$F$15/(G16*60+H16) -> 5.0761421 | J16: =(I16/E16)*100 -> 96.192893 | K16: =AVERAGE($J$16:$J$18) -> 93.847003 | L16: =(J16-K16) -> 2.3458905
A17: EJD 8+ | B17: DB 8+ | C17: 7 | D17: 1 | E17: =1/((SUM(C17*60,D17))/2000) -> 4.7505938 | G17: 7 | H17: 31 | I17: =$F$15/(G17*60+H17) -> 4.4345898 | J17: =(I17/E17)*100 -> 93.348115 | K17: =AVERAGE($J$16:$J$18) -> 93.847003 | L17: =(J17-K17) -> -0.4988876
A18: EJZ 8+ | B18: B 8+ | C18: 6 | D18: 8 | E18: =1/((SUM(C18*60,D18))/2000) -> 5.4347826 | G18: 6 | H18: 40 | I18: =$F$15/(G18*60+H18) -> 5 | J18: =(I18/E18)*100 -> 92 | K18: =AVERAGE($J$16:$J$18) -> 93.847003 | L18: =(J18-K18) -> -1.8470029

Sheet 30-12-20015 (Saurus Rex)
A1: Maastricht REX
A3: Eerste - stroom mee
C4: RICHTTIJD | F4: Afstand | J4: indiv. | K4: gem.
C5: MIN | D5: SEC | E5: m/s | F5: 2000 | G5: MIN | H5: SEC | I5: m/s | J5: perc. | K5: perc. | L5: verschil
A6: Gerard | B6: N1x | C6: 7 | D6: 31 | E6: =1/((SUM(C6*60,D6))/2000) -> 4.4345898 | G6: 7 | H6: 16 | I6: =$F$5/(G6*60+H6) -> 4.587156 | J6: =(I6/E6)*100 -> 103.44037 | K6: =AVERAGE($J$6:$J$18) -> 99.927598 | L6: =(J6-K6) -> 3.5127685
A7: Geert | B7: N1x | C7: 7 | D7: 31 | E7: =1/((SUM(C7*60,D7))/2000) -> 4.4345898 | G7: 7 | H7: 20 | I7: =$F$5/(G7*60+H7) -> 4.5454545 | J7: =(I7/E7)*100 -> 102.5 | K7: =AVERAGE($J$6:$J$18) -> 99.927598 | L7: =(J7-K7) -> 2.5724015
A8: Rogier | B8: SA1x | C8: 7 | D8: 15 | E8: =1/((SUM(C8*60,D8))/2000) -> 4.5977011 | G8: 7 | H8: 6 | I8: =$F$5/(G8*60+H8) -> 4.6948357 | J8: =(I8/E8)*100 -> 102.11268 | K8: =AVERAGE($J$6:$J$18) -> 99.927598 | L8: =(J8-K8) -> 2.1850776
A9: EJD 8 | B9: DEJ8+ | C9: 6 | D9: 57 | E9: =1/((SUM(C9*60,D9))/2000) -> 4.7961631 | G9: 6 | H9: 49 | I9: =$F$5/(G9*60+H9) -> 4.8899756 | J9: =(I9/E9)*100 -> 101.95599 | K9: =AVERAGE($J$6:$J$18) -> 99.927598 | L9: =(J9-K9) -> 2.0283917
A10: EJLD 4 | B10: LDEJ4* | C10: 7 | D10: 40 | E10: =1/((SUM(C10*60,D10))/2000) -> 4.3478261 | G10: 7 | H10: 32 | I10: =$F$5/(G10*60+H10) -> 4.4247788 | J10: =(I10/E10)*100 -> 101.76991 | K10: =AVERAGE($J$6:$J$18) -> 99.927598 | L10: =(J10-K10) -> 1.842313
A11: EJL 8 | B11: LEJ8+ | C11: 6 | D11: 17 | E11: =1/((SUM(C11*60,D11))/2000) -> 5.3050398 | G11: 6 | H11: 11 | I11: =$F$5/(G11*60+H11) -> 5.3908356 | J11: =(I11/E11)*100 -> 101.61725 | K11: =AVERAGE($J$6:$J$18) -> 99.927598 | L11: =(J11-K11) -> 1.6896522
A12: EJD 4 | B12: DB4+ | C12: 7 | D12: 53 | E12: =1/((SUM(C12*60,D12))/2000) -> 4.2283298 | G12: 7 | H12: 50 | I12: =$F$5/(G12*60+H12) -> 4.2553191 | J12: =(I12/E12)*100 -> 100.6383 | K12: =AVERAGE($J$6:$J$18) -> 99.927598 | L12: =(J12-K12) -> 0.71069939
A13: MGD 4- | B13: DO4- | C13: 7 | D13: 13 | E13: =1/((SUM(C13*60,D13))/2000) -> 4.6189376 | G13: 7 | H13: 17 | I13: =$F$5/(G13*60+H13) -> 4.576659 | J13: =(I13/E13)*100 -> 99.084668 | K13: =AVERAGE($J$6:$J$18) -> 99.927598 | L13: =(J13-K13) -> -0.84293029
A14: Anke | B14: DB1x | C14: 8 | D14: 28 | E14: =1/((SUM(C14*60,D14))/2000) -> 3.9370079 | G14: 8 | H14: 38 | I14: =$F$5/(G14*60+H14) -> 3.8610039 | J14: =(I14/E14)*100 -> 98.069498 | K14: =AVERAGE($J$6:$J$18) -> 99.927598 | L14: =(J14-K14) -> -1.8581004
A15: MGZ 4+ | B15: O4+ | C15: 6 | D15: 43 | E15: =1/((SUM(C15*60,D15))/2000) -> 4.9627792 | G15: 6 | H15: 52 | I15: =$F$5/(G15*60+H15) -> 4.8543689 | J15: =(I15/E15)*100 -> 97.815534 | K15: =AVERAGE($J$6:$J$18) -> 99.927598 | L15: =(J15-K15) -> -2.1120645
A16: MGL 2- | B16: LO2- | C16: 7 | D16: 13 | E16: =1/((SUM(C16*60,D16))/2000) -> 4.6189376 | G16: 7 | H16: 25 | I16: =$F$5/(G16*60+H16) -> 4.494382 | J16: =(I16/E16)*100 -> 97.303371 | K16: =AVERAGE($J$6:$J$18) -> 99.927598 | L16: =(J16-K16) -> -2.6242277
A17: Damion | B17: LSA1x | C17: 7 | D17: 24 | E17: =1/((SUM(C17*60,D17))/2000) -> 4.5045045 | G17: 7 | H17: 37 | I17: =$F$5/(G17*60+H17) -> 4.3763676 | J17: =(I17/E17)*100 -> 97.155361 | K17: =AVERAGE($J$6:$J$18) -> 99.927598 | L17: =(J17-K17) -> -2.7722374
A18: EjZ 8 | B18: EJ8+ | C18: 6 | D18: 9 | E18: =1/((SUM(C18*60,D18))/2000) -> 5.4200542 | G18: 6 | H18: 26 | I18: =$F$5/(G18*60+H18) -> 5.1813472 | J18: =(I18/E18)*100 -> 95.595855 | K18: =AVERAGE($J$6:$J$18) -> 99.927598 | L18: =(J18-K18) -> -4.3317436
A21: tweede - stroom tegen
C22: RICHTTIJD | F22: Afstand | J22: indiv. | K22: gem.
C23: MIN | D23: SEC | E23: m/s | F23: 2000 | G23: MIN | H23: SEC | I23: m/s | J23: perc. | K23: perc. | L23: verschil
A24: Gerard | B24: N1x | C24: 7 | D24: 31 | E24: =1/((SUM(C24*60,D24))/2000) -> 4.4345898 | G24: 8 | H24: 7 | I24: =$F$5/(G24*60+H24) -> 4.1067762 | J24: =(I24/E24)*100 -> 92.607803 | K24: =AVERAGE($J$24:$J$33) -> 89.155415 | L24: =(J24-K24) -> 3.4523874
A25: MGD 4- | B25: DO4- | C25: 7 | D25: 13 | E25: =1/((SUM(C25*60,D25))/2000) -> 4.6189376 | G25: 7 | H25: 57 | I25: =$F$5/(G25*60+H25) -> 4.1928721 | J25: =(I25/E25)*100 -> 90.775681 | K25: =AVERAGE($J$24:$J$33) -> 89.155415 | L25: =(J25-K25) -> 1.6202659
A26: EJLD 4 | B26: LDEJ4* | C26: 7 | D26: 40 | E26: =1/((SUM(C26*60,D26))/2000) -> 4.3478261 | G26: 8 | H26: 28 | I26: =$F$5/(G26*60+H26) -> 3.9370079 | J26: =(I26/E26)*100 -> 90.551181 | K26: =AVERAGE($J$24:$J$33) -> 89.155415 | L26: =(J26-K26) -> 1.3957656
A27: EJD 8 | B27: DEJ8+ | C27: 6 | D27: 57 | E27: =1/((SUM(C27*60,D27))/2000) -> 4.7961631 | G27: 7 | H27: 44 | I27: =$F$5/(G27*60+H27) -> 4.3103448 | J27: =(I27/E27)*100 -> 89.87069 | K27: =AVERAGE($J$24:$J$33) -> 89.155415 | L27: =(J27-K27) -> 0.71527418
A28: EJL 8 | B28: LEJ8+ | C28: 6 | D28: 17 | E28: =1/((SUM(C28*60,D28))/2000) -> 5.3050398 | G28: 7 | H28: 0 | I28: =$F$5/(G28*60+H28) -> 4.7619048 | J28: =(I28/E28)*100 -> 89.761905 | K28: =AVERAGE($J$24:$J$33) -> 89.155415 | L28: =(J28-K28) -> 0.60648928
A29: MGL 2- | B29: LO2- | C29: 7 | D29: 13 | E29: =1/((SUM(C29*60,D29))/2000) -> 4.6189376 | G29: 8 | H29: 9 | I29: =$F$5/(G29*60+H29) -> 4.0899796 | J29: =(I29/E29)*100 -> 88.548057 | K29: =AVERAGE($J$24:$J$33) -> 89.155415 | L29: =(J29-K29) -> -0.60735822
A30: EJD 4 | B30: DB4+ | C30: 7 | D30: 53 | E30: =1/((SUM(C30*60,D30))/2000) -> 4.2283298 | G30: 8 | H30: 57 | I30: =$F$5/(G30*60+H30) -> 3.7243948 | J30: =(I30/E30)*100 -> 88.081937 | K30: =AVERAGE($J$24:$J$33) -> 89.155415 | L30: =(J30-K30) -> -1.0734788
A31: EjZ 8 | B31: EJ8+ | C31: 6 | D31: 9 | E31: =1/((SUM(C31*60,D31))/2000) -> 5.4200542 | G31: 7 | H31: 2 | I31: =$F$5/(G31*60+H31) -> 4.7393365 | J31: =(I31/E31)*100 -> 87.440758 | K31: =AVERAGE($J$24:$J$33) -> 89.155415 | L31: =(J31-K31) -> -1.7146572
A32: Anke | B32: DB1x | C32: 8 | D32: 28 | E32: =1/((SUM(C32*60,D32))/2000) -> 3.9370079 | G32: 9 | H32: 41 | I32: =$F$5/(G32*60+H32) -> 3.4423408 | J32: =(I32/E32)*100 -> 87.435456 | K32: =AVERAGE($J$24:$J$33) -> 89.155415 | L32: =(J32-K32) -> -1.7199594
A33: MGZ 4+ | B33: O4+ | C33: 6 | D33: 43 | E33: =1/((SUM(C33*60,D33))/2000) -> 4.9627792 | G33: 7 | H33: 46 | I33: =$F$5/(G33*60+H33) -> 4.2918455 | J33: =(I33/E33)*100 -> 86.480687 | K33: =AVERAGE($J$24:$J$33) -> 89.155415 | L33: =(J33-K33) -> -2.6747288

Sheet 25-01-2016 (midwinter)
A1: Midwinter REX
A3: Ochtend: | B3: 1e (2e - 3e brug)
A4: Naam | B4: Veld | C4: Streeftijd | E4: m/s | F4: 3000 | G4: Gevaren tijd | I4: m/s | J4: Percentage | K4: Gemiddeld% | L4: Verschil
A5: Just | B5: LSA1x | C5: 7 | D5: 24 | E5: =1/((SUM(C5*60,D5))/2000) -> 4.5045045 | F5: 3000 | G5: 12 | H5: 17 | I5: =$F$4/(G5*60+H5) -> 4.0705563 | J5: =(I5/E5)*100 -> 90.36635 | K5: =AVERAGE($J$5:$J$14) -> 88.799906 | L5: =(J5-K5) -> 1.5664444
A6: Baukje | B6: DSA1x | C6: 8 | D6: 4 | E6: =1/((SUM(C6*60,D6))/2000) -> 4.1322314 | F6: 3000 | G6: 13 | H6: 26 | I6: =$F$4/(G6*60+H6) -> 3.7220844 | J6: =(I6/E6)*100 -> 90.074442 | K6: =AVERAGE($J$5:$J$14) -> 88.799906 | L6: =(J6-K6) -> 1.274536
A7: Vincent | B7: LSA1x | C7: 7 | D7: 24 | E7: =1/((SUM(C7*60,D7))/2000) -> 4.5045045 | F7: 3000 | G7: 12 | H7: 22 | I7: =$F$4/(G7*60+H7) -> 4.0431267 | J7: =(I7/E7)*100 -> 89.757412 | K7: =AVERAGE($J$5:$J$14) -> 88.799906 | L7: =(J7-K7) -> 0.95750675
A8: Luuk | B8: SA1x | C8: 7 | D8: 15 | E8: =1/((SUM(C8*60,D8))/2000) -> 4.5977011 | F8: 3000 | G8: 12 | H8: 13 | I8: =$F$4/(G8*60+H8) -> 4.0927694 | J8: =(I8/E8)*100 -> 89.017735 | K8: =AVERAGE($J$5:$J$14) -> 88.799906 | L8: =(J8-K8) -> 0.21782968
A9: Nils | B9: LSA1x | C9: 7 | D9: 24 | E9: =1/((SUM(C9*60,D9))/2000) -> 4.5045045 | F9: 3000 | G9: 12 | H9: 29 | I9: =$F$4/(G9*60+H9) -> 4.0053405 | J9: =(I9/E9)*100 -> 88.918558 | K9: =AVERAGE($J$5:$J$14) -> 88.799906 | L9: =(J9-K9) -> 0.11865243
A10: Sybren | B10: LSA1x | C10: 7 | D10: 24 | E10: =1/((SUM(C10*60,D10))/2000) -> 4.5045045 | F10: 3000 | G10: 12 | H10: 33 | I10: =$F$4/(G10*60+H10) -> 3.9840637 | J10: =(I10/E10)*100 -> 88.446215 | K10: =AVERAGE($J$5:$J$14) -> 88.799906 | L10: =(J10-K10) -> -0.35369051
A11: Eline en Ymkje | B11: DSA2- | C11: 7 | D11: 41 | E11: =1/((SUM(C11*60,D11))/2000) -> 4.3383948 | F11: 3000 | G11: 13 | H11: 4 | I11: =$F$4/(G11*60+H11) -> 3.8265306 | J11: =(I11/E11)*100 -> 88.201531 | K11: =AVERAGE($J$5:$J$14) -> 88.799906 | L11: =(J11-K11) -> -0.59837504
A12: Koen en Tim | B12: SA2- | C12: 6 | D12: 52 | E12: =1/((SUM(C12*60,D12))/2000) -> 4.8543689 | F12: 3000 | G12: 11 | H12: 41 | I12: =$F$4/(G12*60+H12) -> 4.2796006 | J12: =(I12/E12)*100 -> 88.159772 | K12: =AVERAGE($J$5:$J$14) -> 88.799906 | L12: =(J12-K12) -> -0.6401339
A13: Jolmer | B13: LSA1x | C13: 7 | D13: 24 | E13: =1/((SUM(C13*60,D13))/2000) -> 4.5045045 | F13: 3000 | G13: 12 | H13: 38 | I13: =$F$4/(G13*60+H13) -> 3.9577836 | J13: =(I13/E13)*100 -> 87.862797 | K13: =AVERAGE($J$5:$J$14) -> 88.799906 | L13: =(J13-K13) -> -0.93710882
A14: MGZ 4 | B14: O4+ | C14: 6 | D14: 44 | E14: =1/((SUM(C14*60,D14))/2000) -> 4.950495 | F14: 3000 | G14: 11 | H14: 35 | I14: =$F$4/(G14*60+H14) -> 4.3165468 | J14: =(I14/E14)*100 -> 87.194245 | K14: =AVERAGE($J$5:$J$14) -> 88.799906 | L14: =(J14-K14) -> -1.605661
A16: 2e (3e - 2e brug)
A17: Naam | B17: Veld | C17: Streeftijd | E17: m/s | F17: 3000 | G17: Gevaren tijd | I17: m/s | J17: Percentage | K17: Gemiddeld% | L17: Verschil
A18: Just | B18: LSA1x | C18: 7 | D18: 24 | E18: =1/((SUM(C18*60,D18))/2000) -> 4.5045045 | F18: 3000 | G18: 12 | H18: 3 | I18: =$F$4/(G18*60+H18) -> 4.1493776 | J18: =(I18/E18)*100 -> 92.116183 | K18: =AVERAGE($J$18:$J$28) -> 90.071457 | L18: =(J18-K18) -> 2.0447251
A19: Baukje | B19: DSA1x | C19: 8 | D19: 4 | E19: =1/((SUM(C19*60,D19))/2000) -> 4.1322314 | F19: 3000 | G19: 13 | H19: 10 | I19: =$F$4/(G19*60+H19) -> 3.7974684 | J19: =(I19/E19)*100 -> 91.898734 | K19: =AVERAGE($J$18:$J$28) -> 90.071457 | L19: =(J19-K19) -> 1.8272767
A20: Vincent | B20: LSA1x | C20: 7 | D20: 24 | E20: =1/((SUM(C20*60,D20))/2000) -> 4.5045045 | F20: 3000 | G20: 12 | H20: 8 | I20: =$F$4/(G20*60+H20) -> 4.1208791 | J20: =(I20/E20)*100 -> 91.483516 | K20: =AVERAGE($J$18:$J$28) -> 90.071457 | L20: =(J20-K20) -> 1.412059
A21: Nils | B21: LSA1x | C21: 7 | D21: 24 | E21: =1/((SUM(C21*60,D21))/2000) -> 4.5045045 | F21: 3000 | G21: 12 | H21: 10 | I21: =$F$4/(G21*60+H21) -> 4.109589 | J21: =(I21/E21)*100 -> 91.232877 | K21: =AVERAGE($J$18:$J$28) -> 90.071457 | L21: =(J21-K21) -> 1.1614192
A22: Koen en Tim | B22: SA2- | C22: 6 | D22: 52 | E22: =1/((SUM(C22*60,D22))/2000) -> 4.8543689 | F22: 3000 | G22: 11 | H22: 20 | I22: =$F$4/(G22*60+H22) -> 4.4117647 | J22: =(I22/E22)*100 -> 90.882353 | K22: =AVERAGE($J$18:$J$28) -> 90.071457 | L22: =(J22-K22) -> 0.81089546
A23: Eline en Ymkje | B23: DSA2- | C23: 7 | D23: 41 | E23: =1/((SUM(C23*60,D23))/2000) -> 4.3383948 | F23: 3000 | G23: 12 | H23: 48 | I23: =$F$4/(G23*60+H23) -> 3.90625 | J23: =(I23/E23)*100 -> 90.039062 | K23: =AVERAGE($J$18:$J$28) -> 90.071457 | L23: =(J23-K23) -> -0.032394981
A24: Sybren | B24: LSA1x | C24: 7 | D24: 24 | E24: =1/((SUM(C24*60,D24))/2000) -> 4.5045045 | F24: 3000 | G24: 12 | H24: 23 | I24: =$F$4/(G24*60+H24) -> 4.0376851 | J24: =(I24/E24)*100 -> 89.636608 | K24: =AVERAGE($J$18:$J$28) -> 90.071457 | L24: =(J24-K24) -> -0.43484914
A25: Luuk | B25: SA1x | C25: 7 | D25: 15 | E25: =1/((SUM(C25*60,D25))/2000) -> 4.5977011 | F25: 3000 | G25: 12 | H25: 8 | I25: =$F$4/(G25*60+H25) -> 4.1208791 | J25: =(I25/E25)*100 -> 89.629121 | K25: =AVERAGE($J$18:$J$28) -> 90.071457 | L25: =(J25-K25) -> -0.4423366
A26: MGZ 4 | B26: O4+ | C26: 6 | D26: 44 | E26: =1/((SUM(C26*60,D26))/2000) -> 4.950495 | F26: 3000 | G26: 11 | H26: 21 | I26: =$F$4/(G26*60+H26) -> 4.4052863 | J26: =(I26/E26)*100 -> 88.986784 | K26: =AVERAGE($J$18:$J$28) -> 90.071457 | L26: =(J26-K26) -> -1.0846733
A27: Damion | B27: LSA1x | C27: 7 | D27: 24 | E27: =1/((SUM(C27*60,D27))/2000) -> 4.5045045 | F27: 3000 | G27: 12 | H27: 39 | I27: =$F$4/(G27*60+H27) -> 3.9525692 | J27: =(I27/E27)*100 -> 87.747036 | K27: =AVERAGE($J$18:$J$28) -> 90.071457 | L27: =(J27-K27) -> -2.3244219
A28: Raymon | B28: B1x | C28: 7 | D28: 36 | E28: =1/((SUM(C28*60,D28))/2000) -> 4.3859649 | F28: 3000 | G28: 13 | H28: 5 | I28: =$F$4/(G28*60+H28) -> 3.8216561 | J28: =(I28/E28)*100 -> 87.133758 | K28: =AVERAGE($J$18:$J$28) -> 90.071457 | L28: =(J28-K28) -> -2.9376995
A31: Middag: | B31: 1e (2e - 3e brug)
A32: Naam | B32: Veld | C32: Streeftijd | E32: m/s | F32: 3000 | G32: Gevaren tijd | I32: m/s | J32: Percentage | K32: Gemiddeld% | L32: Verschil
A33: EJLD4* | B33: LDEJ4* | C33: 7 | D33: 40 | E33: =1/((SUM(C33*60,D33))/2000) -> 4.3478261 | F33: 3000 | G33: 12 | H33: 23 | I33: =$F$5/(G33*60+H33) -> 4.0376851 | J33: =(I33/E33)*100 -> 92.866756 | K33: =AVERAGE($J$6:$J$11) -> 89.069316 | L33: =(J33-K33) -> 3.7974409
A34: EJD4+ | B34: DB4+ | C34: 7 | D34: 53 | E34: =1/((SUM(C34*60,D34))/2000) -> 4.2283298 | F34: 3000 | G34: 12 | H34: 54 | I34: =$F$5/(G34*60+H34) -> 3.875969 | J34: =(I34/E34)*100 -> 91.666667 | K34: =AVERAGE($J$6:$J$11) -> 89.069316 | L34: =(J34-K34) -> 2.5973511
A35: Sarika | B35: LDB1x | C35: 8 | D35: 40 | E35: =1/((SUM(C35*60,D35))/2000) -> 3.8461538 | F35: 3000 | G35: 14 | H35: 24 | I35: =$F$5/(G35*60+H35) -> 3.4722222 | J35: =(I35/E35)*100 -> 90.277778 | K35: =AVERAGE($J$6:$J$11) -> 89.069316 | L35: =(J35-K35) -> 1.2084622
A36: EJD8+ | B36: DB8+ | C36: 7 | D36: 0 | E36: =1/((SUM(C36*60,D36))/2000) -> 4.7619048 | F36: 3000 | G36: 11 | H36: 38 | I36: =$F$5/(G36*60+H36) -> 4.2979943 | J36: =(I36/E36)*100 -> 90.25788 | K36: =AVERAGE($J$6:$J$11) -> 89.069316 | L36: =(J36-K36) -> 1.1885641
A37: EJL8+ | B37: LB8+ | C37: 6 | D37: 19 | E37: =1/((SUM(C37*60,D37))/2000) -> 5.2770449 | F37: 3000 | G37: 10 | H37: 30 | I37: =$F$5/(G37*60+H37) -> 4.7619048 | J37: =(I37/E37)*100 -> 90.238095 | K37: =AVERAGE($J$6:$J$11) -> 89.069316 | L37: =(J37-K37) -> 1.1687797
A38: EJZ8+ | B38: B8+ | C38: 6 | D38: 8 | E38: =1/((SUM(C38*60,D38))/2000) -> 5.4347826 | F38: 3000 | G38: 10 | H38: 23 | I38: =$F$5/(G38*60+H38) -> 4.8154093 | J38: =(I38/E38)*100 -> 88.603531 | K38: =AVERAGE($J$6:$J$11) -> 89.069316 | L38: =(J38-K38) -> -0.46578424
A40: 2e (3e - 2e brug)
A41: Naam | B41: Veld | C41: Streeftijd | E41: m/s | F41: 3000 | G41: Gevaren tijd | I41: m/s | J41: Percentage | K41: Gemiddeld% | L41: Verschil
A42: EJLD4* | B42: LDEJ4* | C42: 7 | D42: 40 | E42: =1/((SUM(C42*60,D42))/2000) -> 4.3478261 | F42: 3000 | G42: 12 | H42: 18 | I42: =$F$5/(G42*60+H42) -> 4.0650407 | J42: =(I42/E42)*100 -> 93.495935 | K42: =AVERAGE($J$15:$J$20) -> 91.832811 | L42: =(J42-K42) -> 1.6631239
A43: EJD8+ | B43: DB8+ | C43: 7 | D43: 0 | E43: =1/((SUM(C43*60,D43))/2000) -> 4.7619048 | F43: 3000 | G43: 11 | H43: 18 | I43: =$F$5/(G43*60+H43) -> 4.4247788 | J43: =(I43/E43)*100 -> 92.920354 | K43: =AVERAGE($J$15:$J$20) -> 91.832811 | L43: =(J43-K43) -> 1.0875429
A44: Sarika | B44: LDB1x | C44: 8 | D44: 40 | E44: =1/((SUM(C44*60,D44))/2000) -> 3.8461538 | F44: 3000 | G44: 14 | H44: 2 | I44: =$F$5/(G44*60+H44) -> 3.5629454 | J44: =(I44/E44)*100 -> 92.63658 | K44: =AVERAGE($J$15:$J$20) -> 91.832811 | L44: =(J44-K44) -> 0.80376849
A45: EJD4+ | B45: DB4+ | C45: 7 | D45: 53 | E45: =1/((SUM(C45*60,D45))/2000) -> 4.2283298 | F45: 3000 | G45: 12 | H45: 46 | I45: =$F$5/(G45*60+H45) -> 3.9164491 | J45: =(I45/E45)*100 -> 92.624021 | K45: =AVERAGE($J$15:$J$20) -> 91.832811 | L45: =(J45-K45) -> 0.79120981
...

Sheet 10-01-2016 (Aegir Rex)
A1: Aegir REX
A4: EERSTE | C4: RICHTTIJD | F4: Afstand | J4: indiv. | K4: gem. | N4: GEMIDDELDE | P4: RICHTTIJD | S4: Afstand | W4: indiv. | X4: gem.
C5: MIN | D5: SEC | E5: m/s | F5: 2000 | G5: MIN | H5: SEC | I5: m/s | J5: perc. | K5: perc. | L5: verschil | P5: MIN | Q5: SEC | R5: m/s | S5: 2000 | T5: MIN | U5: SEC | V5: m/s | W5: perc. | X5: perc. | Y5: verschil
A6: A1 EJD 4+ | B6: DB4+ | C6: 7 | D6: 53 | E6: =1/((SUM(C6*60,D6))/2000) -> 4.2283298 | G6: 8 | H6: 1 | I6: =$F$5/(G6*60+H6) -> 4.1580042 | J6: =(I6/E6)*100 -> 98.336798 | K6: =AVERAGE($J$6:$J$16) -> 93.703356 | L6: =(J6-K6) -> 4.633442 | N6: A1 EJD 4+ | O6: DB4+ | P6: 7 | Q6: 53 | R6: =1/((SUM(P6*60,Q6))/2000) -> 4.2283298 | T6: 8 | U6: 15 | V6: =$F$5/(T6*60+U6) -> 4.040404 | W6: =(V6/R6)*100 -> 95.555556 | X6: =AVERAGE($W$6:$W$16) -> 91.754974 | Y6: =(W6-X6) -> 3.8005813
A7: G EJD 4+ | B7: DB4+ | C7: 7 | D7: 53 | E7: =1/((SUM(C7*60,D7))/2000) -> 4.2283298 | G7: 8 | H7: 9 | I7: =$F$5/(G7*60+H7) -> 4.0899796 | J7: =(I7/E7)*100 -> 96.728016 | K7: =AVERAGE($J$6:$J$16) -> 93.703356 | L7: =(J7-K7) -> 3.0246601 | N7: G EJD 4+ | O7: DB4+ | P7: 7 | Q7: 53 | R7: =1/((SUM(P7*60,Q7))/2000) -> 4.2283298 | T7: 8 | U7: 21 | V7: =$F$5/(T7*60+U7) -> 3.992016 | W7: =(V7/R7)*100 -> 94.411178 | X7: =AVERAGE($W$6:$W$16) -> 91.754974 | Y7: =(W7-X7) -> 2.6562034
A8: G EJD 8+ | B8: DB8+ | C8: 7 | D8: 0 | E8: =1/((SUM(C8*60,D8))/2000) -> 4.7619048 | G8: 7 | H8: 18 | I8: =$F$5/(G8*60+H8) -> 4.56621 | J8: =(I8/E8)*100 -> 95.890411 | K8: =AVERAGE($J$6:$J$16) -> 93.703356 | L8: =(J8-K8) -> 2.1870547 | N8: G EJL 8+ | O8: LB 8+ | P8: 6 | Q8: 19 | R8: =1/((SUM(P8*60,Q8))/2000) -> 5.2770449 | T8: 6 | U8: 46 | V8: =$F$5/(T8*60+U8) -> 4.9261084 | W8: =(V8/R8)*100 -> 93.349754 | X8: =AVERAGE($W$6:$W$16) -> 91.754974 | Y8: =(W8-X8) -> 1.5947795
A9: G EJLD 4* | B9: LDEJ4* | C9: 7 | D9: 40 | E9: =1/((SUM(C9*60,D9))/2000) -> 4.3478261 | G9: 8 | H9: 1 | I9: =$F$5/(G9*60+H9) -> 4.1580042 | J9: =(I9/E9)*100 -> 95.634096 | K9: =AVERAGE($J$6:$J$16) -> 93.703356 | L9: =(J9-K9) -> 1.9307393 | N9: G EJLD 4* | O9: LDEJ4* | P9: 7 | Q9: 40 | R9: =1/((SUM(P9*60,Q9))/2000) -> 4.3478261 | T9: 8 | U9: 15 | V9: =$F$5/(T9*60+U9) -> 4.040404 | W9: =(V9/R9)*100 -> 92.929293 | X9: =AVERAGE($W$6:$W$16) -> 91.754974 | Y9: =(W9-X9) -> 1.1743187
A10: A2 EJD 4+ | B10: DB4+ | C10: 7 | D10: 53 | E10: =1/((SUM(C10*60,D10))/2000) -> 4.2283298 | G10: 8 | H10: 16 | I10: =$F$5/(G10*60+H10) -> 4.0322581 | J10: =(I10/E10)*100 -> 95.362903 | K10: =AVERAGE($J$6:$J$16) -> 93.703356 | L10: =(J10-K10) -> 1.6595469 | N10: G EJD 8+ | O10: DB8+ | P10: 7 | Q10: 0 | R10: =1/((SUM(P10*60,Q10))/2000) -> 4.7619048 | T10: 7 | U10: 34 | V10: =$F$5/(T10*60+U10) -> 4.4052863 | W10: =(V10/R10)*100 -> 92.511013 | X10: =AVERAGE($W$6:$W$16) -> 91.754974 | Y10: =(W10-X10) -> 0.75603897
A11: G MGD 4- | B11: DO4- | C11: 7 | D11: 13 | E11: =1/((SUM(C11*60,D11))/2000) -> 4.6189376 | G11: 7 | H11: 40 | I11: =$F$5/(G11*60+H11) -> 4.3478261 | J11: =(I11/E11)*100 -> 94.130435 | K11: =AVERAGE($J$6:$J$16) -> 93.703356 | L11: =(J11-K11) -> 0.42707847 | N11: A2 EJD 4+ | O11: DB4+ | P11: 7 | Q11: 53 | R11: =1/((SUM(P11*60,Q11))/2000) -> 4.2283298 | T11: 8 | U11: 33 | V11: =$F$5/(T11*60+U11) -> 3.8986355 | W11: =(V11/R11)*100 -> 92.202729 | X11: =AVERAGE($W$6:$W$16) -> 91.754974 | Y11: =(W11-X11) -> 0.4477548
A12: G EJL 8+ | B12: LB 8+ | C12: 6 | D12: 19 | E12: =1/((SUM(C12*60,D12))/2000) -> 5.2770449 | G12: 6 | H12: 43 | I12: =$F$5/(G12*60+H12) -> 4.9627792 | J12: =(I12/E12)*100 -> 94.044665 | K12: =AVERAGE($J$6:$J$16) -> 93.703356 | L12: =(J12-K12) -> 0.3413087 | N12: A EJL 8+ | O12: LB 8+ | P12: 6 | Q12: 19 | R12: =1/((SUM(P12*60,Q12))/2000) -> 5.2770449 | T12: 6 | U12: 52 | V12: =$F$5/(T12*60+U12) -> 4.8543689 | W12: =(V12/R12)*100 -> 91.990291 | X12: =AVERAGE($W$6:$W$16) -> 91.754974 | Y12: =(W12-X12) -> 0.23531702
A13: A EJL 8+ | B13: LB 8+ | C13: 6 | D13: 19 | E13: =1/((SUM(C13*60,D13))/2000) -> 5.2770449 | G13: 6 | H13: 50 | I13: =$F$5/(G13*60+H13) -> 4.8780488 | J13: =(I13/E13)*100 -> 92.439024 | K13: =AVERAGE($J$6:$J$16) -> 93.703356 | L13: =(J13-K13) -> -1.2643319 | N13: G MGD 4- | O13: DO4- | P13: 7 | Q13: 13 | R13: =1/((SUM(P13*60,Q13))/2000) -> 4.6189376 | T13: 7 | U13: 52 | V13: =$F$5/(T13*60+U13) -> 4.2372881 | W13: =(V13/R13)*100 -> 91.737288 | X13: =AVERAGE($W$6:$W$16) -> 91.754974 | Y13: =(W13-X13) -> -0.017686107
A14: G DCL 8+ | B14: DB8+ | C14: 7 | D14: 10 | E14: =1/((SUM(C14*60,D14))/2000) -> 4.6511628 | G14: 7 | H14: 58 | I14: =$F$5/(G14*60+H14) -> 4.1841004 | J14: =(I14/E14)*100 -> 89.958159 | K14: =AVERAGE($J$6:$J$16) -> 93.703356 | L14: =(J14-K14) -> -3.7451973 | N14: G EJZ 8+ | O14: B8+ | P14: 6 | Q14: 8 | R14: =1/((SUM(P14*60,Q14))/2000) -> 5.4347826 | T14: 6 | U14: 55 | V14: =$F$5/(T14*60+U14) -> 4.8192771 | W14: =(V14/R14)*100 -> 88.674699 | X14: =AVERAGE($W$6:$W$16) -> 91.754974 | Y14: =(W14-X14) -> -3.0802754
A15: G EJZ 8+ | B15: B8+ | C15: 6 | D15: 8 | E15: =1/((SUM(C15*60,D15))/2000) -> 5.4347826 | G15: 6 | H15: 51 | I15: =$F$5/(G15*60+H15) -> 4.86618 | J15: =(I15/E15)*100 -> 89.537713 | K15: =AVERAGE($J$6:$J$16) -> 93.703356 | L15: =(J15-K15) -> -4.1656434 | N15: G DCL 8+ | O15: DB8+ | P15: 7 | Q15: 10 | R15: =1/((SUM(P15*60,Q15))/2000) -> 4.6511628 | T15: 8 | U15: 8 | V15: =$F$5/(T15*60+U15) -> 4.0983607 | W15: =(V15/R15)*100 -> 88.114754 | X15: =AVERAGE($W$6:$W$16) -> 91.754974 | Y15: =(W15-X15) -> -3.6402201
A16: A EJZ 8+ | B16: B8+ | C16: 6 | D16: 8 | E16: =1/((SUM(C16*60,D16))/2000) -> 5.4347826 | G16: 6 | H16: 55 | I16: =$F$5/(G16*60+H16) -> 4.8192771 | J16: =(I16/E16)*100 -> 88.674699 | K16: =AVERAGE($J$6:$J$16) -> 93.703356 | L16: =(J16-K16) -> -5.0286575 | N16: A EJZ 8+ | O16: B8+ | P16: 6 | Q16: 8 | R16: =1/((SUM(P16*60,Q16))/2000) -> 5.4347826 | T16: 6 | U16: 59 | V16: =$F$5/(T16*60+U16) -> 4.7732697 | W16: =(V16/R16)*100 -> 87.828162 | X16: =AVERAGE($W$6:$W$16) -> 91.754974 | Y16: =(W16-X16) -> -3.926812
A19: TWEEDE
C20: MIN | D20: SEC | E20: m/s | F20: 2000 | G20: MIN | H20: SEC | I20: m/s | J20: perc. | K20: perc. | L20: verschil
A21: A1 EJD 4+ | B21: DB4+ | C21: 7 | D21: 53 | E21: =1/((SUM(C21*60,D21))/2000) -> 4.2283298 | G21: 8 | H21: 29 | I21: =$F$5/(G21*60+H21) -> 3.9292731 | J21: =(I21/E21)*100 -> 92.927308 | K21: =AVERAGE($J$21:$J$31) -> 89.741133 | L21: =(J21-K21) -> 3.1861755
A22: G EJL 8+ | B22: LB 8+ | C22: 6 | D22: 19 | E22: =1/((SUM(C22*60,D22))/2000) -> 5.2770449 | G22: 6 | H22: 54 | I22: =$F$5/(G22*60+H22) -> 4.8309179 | J22: =(I22/E22)*100 -> 91.545894 | K22: =AVERAGE($J$21:$J$31) -> 89.741133 | L22: =(J22-K22) -> 1.8047608
A23: G EJD 4+ | B23: DB4+ | C23: 7 | D23: 53 | E23: =1/((SUM(C23*60,D23))/2000) -> 4.2283298 | G23: 8 | H23: 38 | I23: =$F$5/(G23*60+H23) -> 3.8610039 | J23: =(I23/E23)*100 -> 91.312741 | K23: =AVERAGE($J$21:$J$31) -> 89.741133 | L23: =(J23-K23) -> 1.5716084
A24: A EJL 8+ | B24: LB 8+ | C24: 6 | D24: 19 | E24: =1/((SUM(C24*60,D24))/2000) -> 5.2770449 | G24: 6 | H24: 59 | I24: =$F$5/(G24*60+H24) -> 4.7732697 | J24: =(I24/E24)*100 -> 90.453461 | K24: =AVERAGE($J$21:$J$31) -> 89.741133 | L24: =(J24-K24) -> 0.71232769
A25: G EJLD 4* | B25: LDEJ4* | C25: 7 | D25: 40 | E25: =1/((SUM(C25*60,D25))/2000) -> 4.3478261 | G25: 8 | H25: 30 | I25: =$F$5/(G25*60+H25) -> 3.9215686 | J25: =(I25/E25)*100 -> 90.196078 | K25: =AVERAGE($J$21:$J$31) -> 89.741133 | L25: =(J25-K25) -> 0.4549455
A26: A2 EJD 4+ | B26: DB4+ | C26: 7 | D26: 53 | E26: =1/((SUM(C26*60,D26))/2000) -> 4.2283298 | G26: 8 | H26: 45 | I26: =$F$5/(G26*60+H26) -> 3.8095238 | J26: =(I26/E26)*100 -> 90.095238 | K26: =AVERAGE($J$21:$J$31) -> 89.741133 | L26: =(J26-K26) -> 0.35410516
A27: G EJD 8+ | B27: DB8+ | C27: 7 | D27: 0 | E27: =1/((SUM(C27*60,D27))/2000) -> 4.7619048 | G27: 7 | H27: 48 | I27: =$F$5/(G27*60+H27) -> 4.2735043 | J27: =(I27/E27)*100 -> 89.74359 | K27: =AVERAGE($J$21:$J$31) -> 89.741133 | L27: =(J27-K27) -> 0.0024568096
A28: G MGD 4- | B28: DO4- | C28: 7 | D28: 13 | E28: =1/((SUM(C28*60,D28))/2000) -> 4.6189376 | G28: 8 | H28: 5 | I28: =$F$5/(G28*60+H28) -> 4.1237113 | J28: =(I28/E28)*100 -> 89.278351 | K28: =AVERAGE($J$21:$J$31) -> 89.741133 | L28: =(J28-K28) -> -0.46278242
A29: G DCL 8+ | B29: DB8+ | C29: 7 | D29: 10 | E29: =1/((SUM(C29*60,D29))/2000) -> 4.6511628 | G29: 8 | H29: 12 | I29: =$F$5/(G29*60+H29) -> 4.0650407 | J29: =(I29/E29)*100 -> 87.398374 | K29: =AVERAGE($J$21:$J$31) -> 89.741133 | L29: =(J29-K29) -> -2.342759
A30: G EJZ 8+ | B30: B8+ | C30: 6 | D30: 8 | E30: =1/((SUM(C30*60,D30))/2000) -> 5.4347826 | G30: 7 | H30: 2 | I30: =$F$5/(G30*60+H30) -> 4.7393365 | J30: =(I30/E30)*100 -> 87.203791 | K30: =AVERAGE($J$21:$J$31) -> 89.741133 | L30: =(J30-K30) -> -2.5373415
A31: A EJZ 8+ | B31: B8+ | C31: 6 | D31: 8 | E31: =1/((SUM(C31*60,D31))/2000) -> 5.4347826 | G31: 7 | H31: 3 | I31: =$F$5/(G31*60+H31) -> 4.7281324 | J31: =(I31/E31)*100 -> 86.997636 | K31: =AVERAGE($J$21:$J$31) -> 89.741133 | L31: =(J31-K31) -> -2.743497
A34: DERDE
C35: MIN | D35: SEC | E35: m/s | F35: 2000 | G35: MIN | H35: SEC | I35: m/s | J35: perc. | K35: perc. | L35: verschil
A36: A1 EJD 4+ | B36: DB4+ | C36: 7 | D36: 53 | E36: =1/((SUM(C36*60,D36))/2000) -> 4.2283298 | G36: 8 | H36: 14 | I36: =$F$5/(G36*60+H36) -> 4.048583 | J36: =(I36/E36)*100 -> 95.748988 | K36: =AVERAGE($J$36:$J$46) -> 92.062656 | L36: =(J36-K36) -> 3.6863314
A37: G EJD 4+ | B37: DB4+ | C37: 7 | D37: 53 | E37: =1/((SUM(C37*60,D37))/2000) -> 4.2283298 | G37: 8 | H37: 17 | I37: =$F$5/(G37*60+H37) -> 4.0241449 | J37: =(I37/E37)*100 -> 95.171026 | K37: =AVERAGE($J$36:$J$46) -> 92.062656 | L37: =(J37-K37) -> 3.1083697
A38: G EJL 8+ | B38: LB 8+ | C38: 6 | D38: 19 | E38: =1/((SUM(C38*60,D38))/2000) -> 5.2770449 | G38: 6 | H38: 40 | I38: =$F$5/(G38*60+H38) -> 5 | J38: =(I38/E38)*100 -> 94.75 | K38: =AVERAGE($J$36:$J$46) -> 92.062656 | L38: =(J38-K38) -> 2.6873436
A39: G EJLD 4* | B39: LDEJ4* | C39: 7 | D39: 40 | E39: =1/((SUM(C39*60,D39))/2000) -> 4.3478261 | G39: 8 | H39: 13 | I39: =$F$5/(G39*60+H39) -> 4.0567951 | J39: =(I39/E39)*100 -> 93.306288 | K39: =AVERAGE($J$36:$J$46) -> 92.062656 | L39: =(J39-K39) -> 1.2436316
A40: A EJL 8+ | B40: LB 8+ | C40: 6 | D40: 19 | E40: =1/((SUM(C40*60,D40))/2000) -> 5.2770449 | G40: 6 | H40: 47 | I40: =$F$5/(G40*60+H40) -> 4.9140049 | J40: =(I40/E40)*100 -> 93.120393 | K40: =AVERAGE($J$36:$J$46) -> 92.062656 | L40: =(J40-K40) -> 1.0577367
A41: G EJD 8+ | B41: DB8+ | C41: 7 | D41: 0 | E41: =1/((SUM(C41*60,D41))/2000) -> 4.7619048 | G41: 7 | H41: 34 | I41: =$F$5/(G41*60+H41) -> 4.4052863 | J41: =(I41/E41)*100 -> 92.511013 | K41: =AVERAGE($J$36:$J$46) -> 92.062656 | L41: =(J41-K41) -> 0.44835678
A42: G MGD 4- | B42: DO4- | C42: 7 | D42: 13 | E42: =1/((SUM(C42*60,D42))/2000) -> 4.6189376 | G42: 7 | H42: 49 | I42: =$F$5/(G42*60+H42) -> 4.2643923 | J42: =(I42/E42)*100 -> 92.324094 | K42: =AVERAGE($J$36:$J$46) -> 92.062656 | L42: =(J42-K42) -> 0.26143738
A43: A2 EJD 4+ | B43: DB4+ | C43: 7 | D43: 53 | E43: =1/((SUM(C43*60,D43))/2000) -> 4.2283298 | G43: 8 | H43: 38 | I43: =$F$5/(G43*60+H43) -> 3.8610039 | J43: =(I43/E43)*100 -> 91.312741 | K43: =AVERAGE($J$36:$J$46) -> 92.062656 | L43: =(J43-K43) -> -0.74991512
A44: G EJZ 8+ | B44: B8+ | C44: 6 | D44: 8 | E44: =1/((SUM(C44*60,D44))/2000) -> 5.4347826 | G44: 6 | H44: 51 | I44: =$F$5/(G44*60+H44) -> 4.86618 | J44: =(I44/E44)*100 -> 89.537713 | K44: =AVERAGE($J$36:$J$46) -> 92.062656 | L44: =(J44-K44) -> -2.5249435
A45: A EJZ 8+ | B45: B8+ | C45: 6 | D45: 8 | E45: =1/((SUM(C45*60,D45))/2000) -> 5.4347826 | G45: 6 | H45: 58 | I45: =$F$5/(G45*60+H45) -> 4.784689 | J45: =(I45/E45)*100 -> 88.038278 | K45: =AVERAGE($J$36:$J$46) -> 92.062656 | L45: =(J45-K45) -> -4.0243789
A46: G DCL 8+ | B46: DB8+ | C46: 7 | D46: 10 | E46: =1/((SUM(C46*60,D46))/2000) -> 4.6511628 | G46: 8 | H46: 15 | I46: =$F$5/(G46*60+H46) -> 4.040404 | J46: =(I46/E46)*100 -> 86.868687 | K46: =AVERAGE($J$36:$J$46) -> 92.062656 | L46: =(J46-K46) -> -5.1939696

Sheet 7-2-2016 (Skoll Rex)
A1: Skoll Rex
C3: MIN | D3: SEC | E3: m/s | F3: 4500 | G3: MIN | H3: SEC | I3: m/s | J3: perc. | K3: perc. | L3: verschil
A4: G EJD 8+ | B4: DB8+ | C4: 7 | D4: 0 | E4: =1/((SUM(C4*60,D4))/2000) -> 4.7619048 | G4: 14 | H4: 58 | I4: =$F$3/(G4*60+H4) -> 5.0111359 | J4: =(I4/E4)*100 -> 105.23385 | K4: =AVERAGE($J$4:$J$12) -> 101.19261 | L4: =(J4-K4) -> 4.0412477
A5: G EJLD 4* | B5: LDEJ4* | C5: 7 | D5: 40 | E5: =1/((SUM(C5*60,D5))/2000) -> 4.3478261 | G5: 16 | H5: 34 | I5: =$F$3/(G5*60+H5) -> 4.527163 | J5: =(I5/E5)*100 -> 104.12475 | K5: =AVERAGE($J$4:$J$12) -> 101.19261 | L5: =(J5-K5) -> 2.9321432
A6: G EJL 8+ | B6: LB 8+ | C6: 6 | D6: 19 | E6: =1/((SUM(C6*60,D6))/2000) -> 5.2770449 | G6: 13 | H6: 57 | I6: =$F$3/(G6*60+H6) -> 5.3763441 | J6: =(I6/E6)*100 -> 101.88172 | K6: =AVERAGE($J$4:$J$12) -> 101.19261 | L6: =(J6-K6) -> 0.68911512
A7: S EJLD 4* | B7: LDEJ4* | C7: 7 | D7: 40 | E7: =1/((SUM(C7*60,D7))/2000) -> 4.3478261 | G7: 17 | H7: 1 | I7: =$F$3/(G7*60+H7) -> 4.4074437 | J7: =(I7/E7)*100 -> 101.3712 | K7: =AVERAGE($J$4:$J$12) -> 101.19261 | L7: =(J7-K7) -> 0.17859939
A8: S EJL 8+ | B8: LB 8+ | C8: 6 | D8: 19 | E8: =1/((SUM(C8*60,D8))/2000) -> 5.2770449 | G8: 14 | H8: 5 | I8: =$F$3/(G8*60+H8) -> 5.3254438 | J8: =(I8/E8)*100 -> 100.91716 | K8: =AVERAGE($J$4:$J$12) -> 101.19261 | L8: =(J8-K8) -> -0.27544554
A9: S EJD 8+ | B9: DB8+ | C9: 7 | D9: 0 | E9: =1/((SUM(C9*60,D9))/2000) -> 4.7619048 | G9: 15 | H9: 39 | I9: =$F$3/(G9*60+H9) -> 4.7923323 | J9: =(I9/E9)*100 -> 100.63898 | K9: =AVERAGE($J$4:$J$12) -> 101.19261 | L9: =(J9-K9) -> -0.55362767
A10: G EJD 4+ | B10: DB4+ | C10: 7 | D10: 53 | E10: =1/((SUM(C10*60,D10))/2000) -> 4.2283298 | G10: 17 | H10: 43 | I10: =$F$3/(G10*60+H10) -> 4.233302 | J10: =(I10/E10)*100 -> 100.11759 | K10: =AVERAGE($J$4:$J$12) -> 101.19261 | L10: =(J10-K10) -> -1.0750136
A11: S EJZ 8+ | B11: B8+ | C11: 6 | D11: 8 | E11: =1/((SUM(C11*60,D11))/2000) -> 5.4347826 | G11: 13 | H11: 58 | I11: =$F$3/(G11*60+H11) -> 5.3699284 | J11: =(I11/E11)*100 -> 98.806683 | K11: =AVERAGE($J$4:$J$12) -> 101.19261 | L11: =(J11-K11) -> -2.3859227
A12: G EJZ 8+ | B12: B8+ | C12: 6 | D12: 8 | E12: =1/((SUM(C12*60,D12))/2000) -> 5.4347826 | G12: 14 | H12: 8 | I12: =$F$3/(G12*60+H12) -> 5.3066038 | J12: =(I12/E12)*100 -> 97.641509 | K12: =AVERAGE($J$4:$J$12) -> 101.19261 | L12: =(J12-K12) -> -3.5510959

Sheet Sheet1

Sheet Sheet2

Sheet 14-2-2016 (WWrex)
A1: Winterwedstrijden Rex 14 februari 2016
A4: EERSTE | C4: RICHTTIJD | F4: Afstand | J4: indiv. | K4: gem.
B5: Veld | C5: MIN | D5: SEC | E5: m/s | F5: 3000 | G5: MIN | H5: SEC | I5: m/s | J5: perc. | K5: perc. | L5: verschil | N5: Resultaat WW | O5: Ploegen in veld
A6: Gyas EJLD | B6: LDEj4* | C6: 7 | D6: 40 | E6: =1/((SUM(C6*60,D6))/2000) -> 4.3478261 | G6: 12 | H6: 13 | I6: =$F$5/(G6*60+H6) -> 4.0927694 | J6: =(I6/E6)*100 -> 94.133697 | K6: =AVERAGE($J$6:$J$17) -> 90.945663 | L6: =(J6-K6) -> 3.1880339 | N6: 1 | O6: 16
A7: Aegir EJD | B7: DB8+ | C7: 7 | D7: 0 | E7: =1/((SUM(C7*60,D7))/2000) -> 4.7619048 | G7: 11 | H7: 16 | I7: =$F$5/(G7*60+H7) -> 4.4378698 | J7: =(I7/E7)*100 -> 93.195266 | K7: =AVERAGE($J$6:$J$17) -> 90.945663 | L7: =(J7-K7) -> 2.249603 | N7: 1 | O7: 14
A8: Aegir EJLD | B8: LDEj4* | C8: 7 | D8: 40 | E8: =1/((SUM(C8*60,D8))/2000) -> 4.3478261 | G8: 12 | H8: 26 | I8: =$F$5/(G8*60+H8) -> 4.0214477 | J8: =(I8/E8)*100 -> 92.493298 | K8: =AVERAGE($J$6:$J$17) -> 90.945663 | L8: =(J8-K8) -> 1.5476343 | N8: 9 | O8: 16
A9: Gyas EJD | B9: DB4+ | C9: 7 | D9: 53 | E9: =1/((SUM(C9*60,D9))/2000) -> 4.2283298 | G9: 12 | H9: 48 | I9: =$F$5/(G9*60+H9) -> 3.90625 | J9: =(I9/E9)*100 -> 92.382812 | K9: =AVERAGE($J$6:$J$17) -> 90.945663 | L9: =(J9-K9) -> 1.4371492 | N9: 4 | O9: 7
A10: Gyas EJD | B10: DB8+ | C10: 7 | D10: 0 | E10: =1/((SUM(C10*60,D10))/2000) -> 4.7619048 | G10: 11 | H10: 27 | I10: =$F$5/(G10*60+H10) -> 4.3668122 | J10: =(I10/E10)*100 -> 91.703057 | K10: =AVERAGE($J$6:$J$17) -> 90.945663 | L10: =(J10-K10) -> 0.75739351 | N10: 4 | O10: 14
A11: Aegir EJL | B11: LB8+ | C11: 6 | D11: 19 | E11: =1/((SUM(C11*60,D11))/2000) -> 5.2770449 | G11: 10 | H11: 24 | I11: =$F$5/(G11*60+H11) -> 4.8076923 | J11: =(I11/E11)*100 -> 91.105769 | K11: =AVERAGE($J$6:$J$17) -> 90.945663 | L11: =(J11-K11) -> 0.16010597 | N11: 3 | O11: 16
A12: Gyas EJL | B12: LB8+ | C12: 6 | D12: 19 | E12: =1/((SUM(C12*60,D12))/2000) -> 5.2770449 | G12: 10 | H12: 28 | I12: =$F$5/(G12*60+H12) -> 4.7770701 | J12: =(I12/E12)*100 -> 90.525478 | K12: =AVERAGE($J$6:$J$17) -> 90.945663 | L12: =(J12-K12) -> -0.42018555 | N12: 4 | O12: 16
A13: Melvin | B13: SA1x | C13: 7 | D13: 15 | E13: =1/((SUM(C13*60,D13))/2000) -> 4.5977011 | G13: 12 | H13: 2 | I13: =$F$5/(G13*60+H13) -> 4.1551247 | J13: =(I13/E13)*100 -> 90.373961 | K13: =AVERAGE($J$6:$J$17) -> 90.945663 | L13: =(J13-K13) -> -0.57170204
A14: Gyas EJZ | B14: B8+ | C14: 6 | D14: 8 | E14: =1/((SUM(C14*60,D14))/2000) -> 5.4347826 | G14: 10 | H14: 11 | I14: =$F$5/(G14*60+H14) -> 4.9099836 | J14: =(I14/E14)*100 -> 90.343699 | K14: =AVERAGE($J$6:$J$17) -> 90.945663 | L14: =(J14-K14) -> -0.60196441 | N14: 4 | O14: 18
A15: Triton/Gyas/Aegir EJLD | B15: LDEj4* | C15: 7 | D15: 40 | E15: =1/((SUM(C15*60,D15))/2000) -> 4.3478261 | G15: 12 | H15: 44 | I15: =$F$5/(G15*60+H15) -> 3.9267016 | J15: =(I15/E15)*100 -> 90.314136 | K15: =AVERAGE($J$6:$J$17) -> 90.945663 | L15: =(J15-K15) -> -0.63152713 | N15: 10 | O15: 16
A16: Jacob | B16: B1x | C16: 7 | D16: 36 | E16: =1/((SUM(C16*60,D16))/2000) -> 4.3859649 | G16: 12 | H16: 48 | I16: =$F$5/(G16*60+H16) -> 3.90625 | J16: =(I16/E16)*100 -> 89.0625 | K16: =AVERAGE($J$6:$J$17) -> 90.945663 | L16: =(J16-K16) -> -1.8831633
A17: Aegir EJZ | B17: B8+ | C17: 6 | D17: 8 | E17: =1/((SUM(C17*60,D17))/2000) -> 5.4347826 | G17: 10 | H17: 44 | I17: =$F$5/(G17*60+H17) -> 4.6583851 | J17: =(I17/E17)*100 -> 85.714286 | K17: =AVERAGE($J$6:$J$17) -> 90.945663 | L17: =(J17-K17) -> -5.2313775 | N17: 6 | O17: 18
A20: Tweede | C20: RICHTTIJD | F20: Afstand | J20: indiv. | K20: gem.
B21: Veld | C21: MIN | D21: SEC | E21: m/s | F21: 3000 | G21: MIN | H21: SEC | I21: m/s | J21: perc. | K21: perc. | L21: verschil
A22: Gyas EJLD | B22: LDEj4* | C22: 7 | D22: 40 | E22: =1/((SUM(C22*60,D22))/2000) -> 4.3478261 | G22: 12 | H22: 44 | I22: =$F$5/(G22*60+H22) -> 3.9267016 | J22: =(I22/E22)*100 -> 90.314136 | K22: =AVERAGE($J$22:$J$33) -> 87.430555 | L22: =(J22-K22) -> 2.8835815 | N22: 1
A23: Aegir EJLD | B23: LDEj4* | C23: 7 | D23: 40 | E23: =1/((SUM(C23*60,D23))/2000) -> 4.3478261 | G23: 12 | H23: 52 | I23: =$F$5/(G23*60+H23) -> 3.8860104 | J23: =(I23/E23)*100 -> 89.378238 | K23: =AVERAGE($J$22:$J$33) -> 87.430555 | L23: =(J23-K23) -> 1.9476838 | N23: 9
A24: Aegir EJD | B24: DB8+ | C24: 7 | D24: 0 | E24: =1/((SUM(C24*60,D24))/2000) -> 4.7619048 | G24: 11 | H24: 51 | I24: =$F$5/(G24*60+H24) -> 4.2194093 | J24: =(I24/E24)*100 -> 88.607595 | K24: =AVERAGE($J$22:$J$33) -> 87.430555 | L24: =(J24-K24) -> 1.1770403 | N24: 1
A25: Jacob | B25: B1x | C25: 7 | D25: 36 | E25: =1/((SUM(C25*60,D25))/2000) -> 4.3859649 | G25: 12 | H25: 52 | I25: =$F$5/(G25*60+H25) -> 3.8860104 | J25: =(I25/E25)*100 -> 88.601036 | K25: =AVERAGE($J$22:$J$33) -> 87.430555 | L25: =(J25-K25) -> 1.1704817 | N25: DNS
A26: Aegir EJL | B26: LB8+ | C26: 6 | D26: 19 | E26: =1/((SUM(C26*60,D26))/2000) -> 5.2770449 | G26: 10 | H26: 48 | I26: =$F$5/(G26*60+H26) -> 4.6296296 | J26: =(I26/E26)*100 -> 87.731481 | K26: =AVERAGE($J$22:$J$33) -> 87.430555 | L26: =(J26-K26) -> 0.30092689 | N26: 3
A27: Gyas EJD | B27: DB4+ | C27: 7 | D27: 53 | E27: =1/((SUM(C27*60,D27))/2000) -> 4.2283298 | G27: 13 | H27: 35 | I27: =$F$5/(G27*60+H27) -> 3.6809816 | J27: =(I27/E27)*100 -> 87.055215 | K27: =AVERAGE($J$22:$J$33) -> 87.430555 | L27: =(J27-K27) -> -0.37533986 | N27: 4
A28: Triton/Gyas/Aegir EJLD | B28: LDEj4* | C28: 7 | D28: 40 | E28: =1/((SUM(C28*60,D28))/2000) -> 4.3478261 | G28: 13 | H28: 14 | I28: =$F$5/(G28*60+H28) -> 3.7783375 | J28: =(I28/E28)*100 -> 86.901763 | K28: =AVERAGE($J$22:$J$33) -> 87.430555 | L28: =(J28-K28) -> -0.52879136 | N28: 10
A29: Melvin | B29: SA1x | C29: 7 | D29: 15 | E29: =1/((SUM(C29*60,D29))/2000) -> 4.5977011 | G29: 12 | H29: 31 | I29: =$F$5/(G29*60+H29) -> 3.9946738 | J29: =(I29/E29)*100 -> 86.884154 | K29: =AVERAGE($J$22:$J$33) -> 87.430555 | L29: =(J29-K29) -> -0.54640013 | N29: DNS
A30: Gyas EJD | B30: DB8+ | C30: 7 | D30: 0 | E30: =1/((SUM(C30*60,D30))/2000) -> 4.7619048 | G30: 12 | H30: 7 | I30: =$F$5/(G30*60+H30) -> 4.1265475 | J30: =(I30/E30)*100 -> 86.657497 | K30: =AVERAGE($J$22:$J$33) -> 87.430555 | L30: =(J30-K30) -> -0.77305803 | N30: 4
A31: Gyas EJL | B31: LB8+ | C31: 6 | D31: 19 | E31: =1/((SUM(C31*60,D31))/2000) -> 5.2770449 | G31: 10 | H31: 58 | I31: =$F$5/(G31*60+H31) -> 4.5592705 | J31: =(I31/E31)*100 -> 86.398176 | K31: =AVERAGE($J$22:$J$33) -> 87.430555 | L31: =(J31-K31) -> -1.0323783 | N31: 4
A32: Gyas EJZ | B32: B8+ | C32: 6 | D32: 8 | E32: =1/((SUM(C32*60,D32))/2000) -> 5.4347826 | G32: 10 | H32: 44 | I32: =$F$5/(G32*60+H32) -> 4.6583851 | J32: =(I32/E32)*100 -> 85.714286 | K32: =AVERAGE($J$22:$J$33) -> 87.430555 | L32: =(J32-K32) -> -1.7162689 | N32: 4
A33: Aegir EJZ | B33: B8+ | C33: 6 | D33: 8 | E33: =1/((SUM(C33*60,D33))/2000) -> 5.4347826 | G33: 10 | H33: 50 | I33: =$F$5/(G33*60+H33) -> 4.6153846 | J33: =(I33/E33)*100 -> 84.923077 | K33: =AVERAGE($J$22:$J$33) -> 87.430555 | L33: =(J33-K33) -> -2.5074777 | N33: 6

Sheet 6-3-2016 (H4K rex)
A1: 700 meters 6 maart 2016
A4: Richting Gyas | C4: Streeftijd 2k | F4: Afstand | G4: Tijd over 700m | J4: indiv. | K4: gem. | L4: Resultaat
A5: Ploeg | B5: Veld | C5: MIN | D5: SEC | E5: m/s | F5: 700 | G5: MIN3 | H5: SEC4 | I5: m/s5 | J5: perc. | K5: perc.6 | L5: verschil
A6: OJL | B6: LSA8+ | C6: 6 | D6: 5 | E6: =1/((SUM(C6*60,D6))/2000) -> 5.4794521 | G6: 2 | H6: 2 | I6: =$F$5/(G6*60+H6) -> 5.7377049 | J6: =(I6/E6)*100 -> 104.71311 | K6: =AVERAGE($J$6:$J$10) -> 102.47133 | L6: =(J6-K6) -> 2.2417854
A7: EJD | B7: DB8+ | C7: 7 | D7: 0 | E7: =1/((SUM(C7*60,D7))/2000) -> 4.7619048 | G7: 2 | H7: 23 | I7: =$F$5/(G7*60+H7) -> 4.8951049 | J7: =(I7/E7)*100 -> 102.7972 | K7: =AVERAGE($J$6:$J$9) -> 102.47133 | L7: =(J7-K7) -> 0.32587341
A8: OJZ | B8: SA8+ | C8: 5 | D8: 51 | E8: =1/((SUM(C8*60,D8))/2000) -> 5.6980057 | G8: 2 | H8: 0 | I8: =$F$5/(G8*60+H8) -> 5.8333333 | J8: =(I8/E8)*100 -> 102.375 | K8: =AVERAGE($J$6:$J$10) -> 102.47133 | L8: =(J8-K8) -> -0.096329388
A9: EJD Combi | B9: DB8+ | C9: 7 | D9: 0 | E9: =1/((SUM(C9*60,D9))/2000) -> 4.7619048 | G9: 2 | H9: 27 | I9: =$F$5/(G9*60+H9) -> 4.7619048 | J9: =(I9/E9)*100 -> 100 | K9: =AVERAGE($J$6:$J$10) -> 102.47133 | L9: =(J9-K9) -> -2.4713294
A10: Richting Haren
A11: Ploeg | B11: Veld | C11: MIN | D11: SEC | E11: m/s | F11: 700 | G11: MIN3 | H11: SEC4 | I11: m/s5 | J11: perc. | K11: perc.6 | L11: verschil
A12: OJL | B12: LSA8+ | C12: 6 | D12: 5 | E12: =1/((SUM(C12*60,D12))/2000) -> 5.4794521 | G12: 2 | H12: 10 | I12: =$F$5/(G12*60+H12) -> 5.3846154 | J12: =(I12/E12)*100 -> 98.269231 | K12: =AVERAGE($J$12:$J$15) -> 96.233576 | L12: =(J12-K12) -> 2.0356551
A13: EJD | B13: DB8+ | C13: 7 | D13: 0 | E13: =1/((SUM(C13*60,D13))/2000) -> 4.7619048 | G13: 2 | H13: 32 | I13: =$F$5/(G13*60+H13) -> 4.6052632 | J13: =(I13/E13)*100 -> 96.710526 | K13: =AVERAGE($J$12:$J$15) -> 96.233576 | L13: =(J13-K13) -> 0.47695068
A14: EJD Combi | B14: DB8+ | C14: 7 | D14: 0 | E14: =1/((SUM(C14*60,D14))/2000) -> 4.7619048 | G14: 2 | H14: 34 | I14: =$F$5/(G14*60+H14) -> 4.5454545 | J14: =(I14/E14)*100 -> 95.454545 | K14: =AVERAGE($J$12:$J$15) -> 96.233576 | L14: =(J14-K14) -> -0.77903018
A15: OJZ | B15: SA8+ | C15: 5 | D15: 51 | E15: =1/((SUM(C15*60,D15))/2000) -> 5.6980057 | G15: 2 | H15: 10 | I15: =$F$5/(G15*60+H15) -> 5.3846154 | J15: =(I15/E15)*100 -> 94.5 | K15: =AVERAGE($J$12:$J$15) -> 96.233576 | L15: =(J15-K15) -> -1.7335756
A18: Richting Gyas | B18: 700m | F18: Afstand | J18: indiv. | K18: gem.
A19: Kolom1 | B19: Kolom2 | C19: MIN | D19: SEC | E19: m/s | F19: 700 | G19: MIN3 | H19: SEC4 | I19: m/s5 | J19: perc. | K19: perc.6 | L19: verschil
A20: OJD | B20: DSA8+ | C20: 6 | D20: 39 | E20: =1/((SUM(C20*60,D20))/2000) -> 5.0125313 | G20: 2 | H20: 16 | I20: =$F$5/(G20*60+H20) -> 5.1470588 | J20: =(I20/E20)*100 -> 102.68382 | K20: =AVERAGE($J$20:$J$25) -> 98.412191 | L20: =(J20-K20) -> 4.2716328
A21: EJL | B21: LB8+ | C21: 6 | D21: 19 | E21: =1/((SUM(C21*60,D21))/2000) -> 5.2770449 | G21: 2 | H21: 12 | I21: =$F$5/(G21*60+H21) -> 5.3030303 | J21: =(I21/E21)*100 -> 100.49242 | K21: =AVERAGE($J$20:$J$25) -> 98.412191 | L21: =(J21-K21) -> 2.0802335
A22: ELJD 2X | B22: LDN2X | C22: 7 | D22: 58 | E22: =1/((SUM(C22*60,D22))/2000) -> 4.1841004 | G22: 2 | H22: 52 | I22: =$F$5/(G22*60+H22) -> 4.0697674 | J22: =(I22/E22)*100 -> 97.267442 | K22: =AVERAGE($J$20:$J$25) -> 98.412191 | L22: =(J22-K22) -> -1.1447489
A23: EJZ | B23: B8+ | C23: 6 | D23: 8 | E23: =1/((SUM(C23*60,D23))/2000) -> 5.4347826 | G23: 2 | H23: 12 | I23: =$F$5/(G23*60+H23) -> 5.3030303 | J23: =(I23/E23)*100 -> 97.575758 | K23: =AVERAGE($J$20:$J$25) -> 98.412191 | L23: =(J23-K23) -> -0.83643317
A24: EJLD 4* | B24: LDEJ4* | C24: 7 | D24: 40 | E24: =1/((SUM(C24*60,D24))/2000) -> 4.3478261 | G24: 2 | H24: 47 | I24: =$F$5/(G24*60+H24) -> 4.1916168 | J24: =(I24/E24)*100 -> 96.407186 | K24: =AVERAGE($J$20:$J$25) -> 98.412191 | L24: =(J24-K24) -> -2.0050051
A25: CLUB 4* | B25: DCL4* | C25: 7 | D25: 52 | E25: =1/((SUM(C25*60,D25))/2000) -> 4.2372881 | G25: 2 | H25: 52 | I25: =$F$5/(G25*60+H25) -> 4.0697674 | J25: =(I25/E25)*100 -> 96.046512 | K25: =AVERAGE($J$20:$J$25) -> 98.412191 | L25: =(J25-K25) -> -2.3656791
A26: Richting Haren
A27: Kolom1 | B27: Kolom2 | C27: Kolom3 | D27: Kolom4 | E27: Kolom5 | F27: Kolom6 | G27: Kolom7 | H27: Kolom8 | I27: Kolom9 | J27: Kolom10 | K27: Kolom11 | L27: Kolom12
A28: OJD | B28: DSA8+ | C28: 6 | D28: 39 | E28: =1/((SUM(C28*60,D28))/2000) -> 5.0125313 | G28: 2 | H28: 13 | I28: =$F$5/(G28*60+H28) -> 5.2631579 | J28: =(I28/E28)*100 -> 105 | K28: =AVERAGE($J$28:$J$34) -> 99.901034 | L28: =(J28-K28) -> 5.0989658
A29: EJL | B29: LB8+ | C29: 6 | D29: 19 | E29: =1/((SUM(C29*60,D29))/2000) -> 5.2770449 | G29: 2 | H29: 9 | I29: =$F$5/(G29*60+H29) -> 5.4263566 | J29: =(I29/E29)*100 -> 102.82946 | K29: =AVERAGE($J$28:$J$34) -> 99.901034 | L29: =(J29-K29) -> 2.9284232
A30: EJZ | B30: B8+ | C30: 6 | D30: 8 | E30: =1/((SUM(C30*60,D30))/2000) -> 5.4347826 | G30: 2 | H30: 8 | I30: =$F$5/(G30*60+H30) -> 5.46875 | J30: =(I30/E30)*100 -> 100.625 | K30: =AVERAGE($J$28:$J$34) -> 99.901034 | L30: =(J30-K30) -> 0.72396583
A31: EJLD 4* | B31: LDEJ4* | C31: 7 | D31: 40 | E31: =1/((SUM(C31*60,D31))/2000) -> 4.3478261 | G31: 2 | H31: 41 | I31: =$F$5/(G31*60+H31) -> 4.3478261 | J31: =(I31/E31)*100 -> 100 | K31: =AVERAGE($J$28:$J$34) -> 99.901034 | L31: =(J31-K31) -> 0.098965835
A32: GEERT | B32: N1X | C32: 7 | D32: 31 | E32: =1/((SUM(C32*60,D32))/2000) -> 4.4345898 | G32: 2 | H32: 40 | I32: =$F$5/(G32*60+H32) -> 4.375 | J32: =(I32/E32)*100 -> 98.65625 | K32: =AVERAGE($J$28:$J$34) -> 99.901034 | L32: =(J32-K32) -> -1.2447842
A33: ELJD 2X | B33: LDN2X | C33: 7 | D33: 58 | E33: =1/((SUM(C33*60,D33))/2000) -> 4.1841004 | G33: 2 | H33: 53 | I33: =$F$5/(G33*60+H33) -> 4.0462428 | J33: =(I33/E33)*100 -> 96.705202 | K33: =AVERAGE($J$28:$J$34) -> 99.901034 | L33: =(J33-K33) -> -3.1958319
A34: CLUB 4* | B34: DCL4* | C34: 7 | D34: 52 | E34: =1/((SUM(C34*60,D34))/2000) -> 4.2372881 | G34: 2 | H34: 53 | I34: =$F$5/(G34*60+H34) -> 4.0462428 | J34: =(I34/E34)*100 -> 95.491329 | K34: =AVERAGE($J$28:$J$34) -> 99.901034 | L34: =(J34-K34) -> -4.4097047
A38: Totaal (2 bij elkaar op) | F38: Gemiddelde beide heats | J38: indiv. | K38: gem. | N38: Resultaat H4K 750m | O38: Ploegen in veld
A39: Kolom1 | B39: Kolom2 | C39: MIN | D39: SEC | E39: m/s | F39: 700 | G39: MIN3 | H39: SEC4 | I39: m/s5 | J39: perc. | K39: perc.6 | L39: verschil
A40: OJD | B40: DSA8+ | C40: 6 | D40: 39 | E40: =1/((SUM(C40*60,D40))/2000) -> 5.0125313 | G40: 2 | H40: 15 | I40: =$F$39/(G40*60+H40) -> 5.1851852 | J40: =(I40/E40)*100 -> 103.44444 | K40: =AVERAGE($J$40:$J$49) -> 99.116806 | L40: =(J40-K40) -> 4.3276389 | N40: 1 | O40: 5
A41: OJL | B41: LSA8+ | C41: 6 | D41: 5 | E41: =1/((SUM(C41*60,D41))/2000) -> 5.4794521 | G41: 2 | H41: 6 | I41: =$F$39/(G41*60+H41) -> 5.5555556 | J41: =(I41/E41)*100 -> 101.38889 | K41: =AVERAGE($J$40:$J$49) -> 99.116806 | L41: =(J41-K41) -> 2.2720834 | N41: 2 | O41: 4
A42: EJL | B42: LB8+ | C42: 6 | D42: 19 | E42: =1/((SUM(C42*60,D42))/2000) -> 5.2770449 | G42: 2 | H42: 11 | I42: =$F$39/(G42*60+H42) -> 5.3435115 | J42: =(I42/E42)*100 -> 101.25954 | K42: =AVERAGE($J$40:$J$49) -> 99.116806 | L42: =(J42-K42) -> 2.1427365 | N42: 1 | O42: 18
A43: EJD | B43: DB8+ | C43: 7 | D43: 0 | E43: =1/((SUM(C43*60,D43))/2000) -> 4.7619048 | G43: 2 | H43: 27 | I43: =$F$39/(G43*60+H43) -> 4.7619048 | J43: =(I43/E43)*100 -> 100 | K43: =AVERAGE($J$40:$J$49) -> 99.116806 | L43: =(J43-K43) -> 0.88319447 | N43: 1 | O43: 17
A44: EJZ | B44: B8+ | C44: 6 | D44: 8 | E44: =1/((SUM(C44*60,D44))/2000) -> 5.4347826 | G44: 2 | H44: 10 | I44: =$F$39/(G44*60+H44) -> 5.3846154 | J44: =(I44/E44)*100 -> 99.076923 | K44: =AVERAGE($J$40:$J$49) -> 99.116806 | L44: =(J44-K44) -> -0.03988245 | N44: 3 | O44: 19
A45: OJZ | B45: SA8+ | C45: 5 | D45: 51 | E45: =1/((SUM(C45*60,D45))/2000) -> 5.6980057 | G45: 2 | H45: 5 | I45: =$F$39/(G45*60+H45) -> 5.6 | J45: =(I45/E45)*100 -> 98.28 | K45: =AVERAGE($J$40:$J$49) -> 99.116806 | L45: =(J45-K45) -> -0.83680553 | N45: dns
A46: EJLD 4* | B46: LDEJ4* | C46: 7 | D46: 40 | E46: =1/((SUM(C46*60,D46))/2000) -> 4.3478261 | G46: 2 | H46: 44 | I46: =$F$39/(G46*60+H46) -> 4.2682927 | J46: =(I46/E46)*100 -> 98.170732 | K46: =AVERAGE($J$40:$J$49) -> 99.116806 | L46: =(J46-K46) -> -0.94607382 | N46: 1 | O46: 19
A47: EJD Combi | B47: DB8+ | C47: 7 | D47: 0 | E47: =1/((SUM(C47*60,D47))/2000) -> 4.7619048 | G47: 2 | H47: 31 | I47: =$F$39/(G47*60+H47) -> 4.6357616 | J47: =(I47/E47)*100 -> 97.350993 | K47: =AVERAGE($J$40:$J$49) -> 99.116806 | L47: =(J47-K47) -> -1.7658121 | N47: 1 | O47: 25 | P47: clubveld
...

Sheet 3-4-2016 (Bosbaan rex)
A1: Bosbaan rex 3 april 2016
A2: 1500m en 1000m vanuit vaste start (startlijn Bosbaan)
A3: 1500 | C3: RICHTTIJD | F3: Afstand | J3: indiv. | K3: gem. | N3: Resultaat Varsity | O3: # deelnemers
B4: Veld | C4: MIN | D4: SEC | E4: m/s | F4: 1500 | G4: MIN | H4: SEC | I4: m/s | J4: perc. | K4: perc. | L4: verschil
A5: Gyas EJL8 | B5: LB8+ | C5: 6 | D5: 19 | E5: =1/((SUM(C5*60,D5))/2000) -> 5.2770449 | G5: 4 | H5: 32 | I5: =$F$4/(G5*60+H5) -> 5.5147059 | J5: =(I5/E5)*100 -> 104.50368 | K5: =AVERAGE($J$5:$J$17) -> 100.81644 | L5: =(J5-K5) -> 3.6872315 | N5: -
A6: Gyas EJD8 | B6: DB8+ | C6: 7 | D6: 0 | E6: =1/((SUM(C6*60,D6))/2000) -> 4.7619048 | G6: 5 | H6: 4 | I6: =$F$4/(G6*60+H6) -> 4.9342105 | J6: =(I6/E6)*100 -> 103.61842 | K6: =AVERAGE($J$5:$J$17) -> 100.81644 | L6: =(J6-K6) -> 2.8019761 | N6: 1 | O6: 15
A7: Gyas EJZ 8 | B7: B8+ | C7: 6 | D7: 8 | E7: =1/((SUM(C7*60,D7))/2000) -> 5.4347826 | G7: 4 | H7: 27 | I7: =$F$4/(G7*60+H7) -> 5.6179775 | J7: =(I7/E7)*100 -> 103.37079 | K7: =AVERAGE($J$5:$J$17) -> 100.81644 | L7: =(J7-K7) -> 2.5543415 | N7: 6 | O7: 14
A8: Okeanos MGL2- | B8: LN2- | C8: 7 | D8: 27 | E8: =1/((SUM(C8*60,D8))/2000) -> 4.4742729 | G8: 5 | H8: 29 | I8: =$F$4/(G8*60+H8) -> 4.5592705 | J8: =(I8/E8)*100 -> 101.8997 | K8: =AVERAGE($J$5:$J$17) -> 100.81644 | L8: =(J8-K8) -> 1.0832511 | N8: 1 | O8: 6
A9: Gyas EJD4+ | B9: DB4+ | C9: 7 | D9: 53 | E9: =1/((SUM(C9*60,D9))/2000) -> 4.2283298 | G9: 5 | H9: 49 | I9: =$F$4/(G9*60+H9) -> 4.2979943 | J9: =(I9/E9)*100 -> 101.64756 | K9: =AVERAGE($J$5:$J$17) -> 100.81644 | L9: =(J9-K9) -> 0.83111948 | N9: 7 | O9: 11
A10: Okeanos MGZ 2- | B10: N2- | C10: 7 | D10: 20 | E10: =1/((SUM(C10*60,D10))/2000) -> 4.5454545 | G10: 5 | H10: 27 | I10: =$F$4/(G10*60+H10) -> 4.587156 | J10: =(I10/E10)*100 -> 100.91743 | K10: =AVERAGE($J$5:$J$17) -> 100.81644 | L10: =(J10-K10) -> 0.1009862 | N10: -
A11: Skoll EJL8 | B11: LB8+ | C11: 6 | D11: 19 | E11: =1/((SUM(C11*60,D11))/2000) -> 5.2770449 | G11: 4 | H11: 42 | I11: =$F$4/(G11*60+H11) -> 5.3191489 | J11: =(I11/E11)*100 -> 100.79787 | K11: =AVERAGE($J$5:$J$17) -> 100.81644 | L11: =(J11-K11) -> -0.018572651 | N11: 8 | O11: 15
A12: Skoll EJZ8 | B12: B8+ | C12: 6 | D12: 8 | E12: =1/((SUM(C12*60,D12))/2000) -> 5.4347826 | G12: 4 | H12: 34 | I12: =$F$4/(G12*60+H12) -> 5.4744526 | J12: =(I12/E12)*100 -> 100.72993 | K12: =AVERAGE($J$5:$J$17) -> 100.81644 | L12: =(J12-K12) -> -0.086517984 | N12: 3 | O12: 14
A13: Phocas EJL8 | B13: LB8+ | C13: 6 | D13: 19 | E13: =1/((SUM(C13*60,D13))/2000) -> 5.2770449 | G13: 4 | H13: 44 | I13: =$F$4/(G13*60+H13) -> 5.2816901 | J13: =(I13/E13)*100 -> 100.08803 | K13: =AVERAGE($J$5:$J$17) -> 100.81644 | L13: =(J13-K13) -> -0.72841682 | N13: 12 | O13: 15
A14: Gyas EJLD 2x | B14: LDN2x | C14: 7 | D14: 58 | E14: =1/((SUM(C14*60,D14))/2000) -> 4.1841004 | G14: 5 | H14: 59 | I14: =$F$4/(G14*60+H14) -> 4.178273 | J14: =(I14/E14)*100 -> 99.860724 | K14: =AVERAGE($J$5:$J$17) -> 100.81644 | L14: =(J14-K14) -> -0.95572076
