Workbook

Sheet 14-11-2015 (Hel Rex)
A1: Hel REX
A4: Eerste blok (1e) | C4: RICHTTIJD | F4: Afstand | J4: indiv. | K4: gem.
C5: MIN | D5: SEC | E5: m/s | F5: 3000 | G5: MIN | H5: SEC | I5: m/s | J5: perc. | K5: perc. | L5: verschil
A6: Just | B6: LSA1x | C6: 7 | D6: 24 | E6: =1/((SUM(C6*60,D6))/2000) -> 4.5045045 | G6: 11 | H6: 57 | I6: =$F$5/(G6*60+H6) -> 4.1841004 | J6: =(I6/E6)*100 -> 92.887029 | K6: =AVERAGE($J$6:$J$19) -> 89.719936 | L6: =(J6-K6) -> 3.1670936
A7: Vincent | B7: LSA1x | C7: 7 | D7: 24 | E7: =1/((SUM(C7*60,D7))/2000) -> 4.5045045 | G7: 12 | H7: 5 | I7: =$F$5/(G7*60+H7) -> 4.137931 | J7: =(I7/E7)*100 -> 91.862069 | K7: =AVERAGE($J$6:$J$19) -> 89.719936 | L7: =(J7-K7) -> 2.1421333
A8: Koen en Tim | B8: Sa2- | C8: 6 | D8: 52 | E8: =1/((SUM(C8*60,D8))/2000) -> 4.8543689 | G8: 11 | H8: 17 | I8: =$F$5/(G8*60+H8) -> 4.4313146 | J8: =(I8/E8)*100 -> 91.285081 | K8: =AVERAGE($J$6:$J$19) -> 89.719936 | L8: =(J8-K8) -> 1.5651455
A9: Luuk en Mart | B9: Sa2- | C9: 6 | D9: 52 | E9: =1/((SUM(C9*60,D9))/2000) -> 4.8543689 | G9: 11 | H9: 18 | I9: =$F$5/(G9*60+H9) -> 4.4247788 | J9: =(I9/E9)*100 -> 91.150442 | K9: =AVERAGE($J$6:$J$19) -> 89.719936 | L9: =(J9-K9) -> 1.4305068
A10: Damion | B10: LSA1x | C10: 7 | D10: 24 | E10: =1/((SUM(C10*60,D10))/2000) -> 4.5045045 | G10: 12 | H10: 12 | I10: =$F$5/(G10*60+H10) -> 4.0983607 | J10: =(I10/E10)*100 -> 90.983607 | K10: =AVERAGE($J$6:$J$19) -> 89.719936 | L10: =(J10-K10) -> 1.2636709
A11: Daan | B11: B1x | C11: 7 | D11: 36 | E11: =1/((SUM(C11*60,D11))/2000) -> 4.3859649 | G11: 12 | H11: 33 | I11: =$F$5/(G11*60+H11) -> 3.9840637 | J11: =(I11/E11)*100 -> 90.836653 | K11: =AVERAGE($J$6:$J$19) -> 89.719936 | L11: =(J11-K11) -> 1.1167177
A12: Ids | B12: LB1x | C12: 7 | D12: 44 | E12: =1/((SUM(C12*60,D12))/2000) -> 4.3103448 | G12: 12 | H12: 47 | I12: =$F$5/(G12*60+H12) -> 3.9113429 | J12: =(I12/E12)*100 -> 90.743155 | K12: =AVERAGE($J$6:$J$19) -> 89.719936 | L12: =(J12-K12) -> 1.0232195
A13: Jolmer | B13: LSA1x | C13: 7 | D13: 24 | E13: =1/((SUM(C13*60,D13))/2000) -> 4.5045045 | G13: 12 | H13: 14 | I13: =$F$5/(G13*60+H13) -> 4.0871935 | J13: =(I13/E13)*100 -> 90.735695 | K13: =AVERAGE($J$6:$J$19) -> 89.719936 | L13: =(J13-K13) -> 1.0157591
A14: Nils | B14: LSA1x | C14: 7 | D14: 24 | E14: =1/((SUM(C14*60,D14))/2000) -> 4.5045045 | G14: 12 | H14: 16 | I14: =$F$5/(G14*60+H14) -> 4.076087 | J14: =(I14/E14)*100 -> 90.48913 | K14: =AVERAGE($J$6:$J$19) -> 89.719936 | L14: =(J14-K14) -> 0.76919473
A15: Oscar en Jacob | B15: O2- | C15: 7 | D15: 6 | E15: =1/((SUM(C15*60,D15))/2000) -> 4.6948357 | G15: 12 | H15: 2 | I15: =$F$5/(G15*60+H15) -> 4.1551247 | J15: =(I15/E15)*100 -> 88.504155 | K15: =AVERAGE($J$6:$J$19) -> 89.719936 | L15: =(J15-K15) -> -1.2157806
A16: Jorn | B16: B1x | C16: 7 | D16: 36 | E16: =1/((SUM(C16*60,D16))/2000) -> 4.3859649 | G16: 13 | H16: 3 | I16: =$F$5/(G16*60+H16) -> 3.8314176 | J16: =(I16/E16)*100 -> 87.356322 | K16: =AVERAGE($J$6:$J$19) -> 89.719936 | L16: =(J16-K16) -> -2.3636139
A17: Raymon | B17: B1x | C17: 7 | D17: 36 | E17: =1/((SUM(C17*60,D17))/2000) -> 4.3859649 | G17: 13 | H17: 9 | I17: =$F$5/(G17*60+H17) -> 3.8022814 | J17: =(I17/E17)*100 -> 86.692015 | K17: =AVERAGE($J$6:$J$19) -> 89.719936 | L17: =(J17-K17) -> -3.0279205
... A19: Geert | B19: Sa1x | C19: 7 | D19: 15 | E19: =1/((SUM(C19*60,D19))/2000) -> 4.5977011 | G19: 12 | H19: 39 | I19: =$F$5/(G19*60+H19) -> 3.9525692 | J19: =(I19/E19)*100 -> 85.968379 | K19: =AVERAGE($J$6:$J$19) -> 89.719936 | L19: =(J19-K19) -> -3.7515563
A22: Eerste blok (2de) | C22: RICHTTIJD | F22: Afstand | J22: indiv. | K22: gem.
C23: MIN | D23: SEC | E23: m/s | F23: 3000 | G23: MIN | H23: SEC | I23: m/s | J23: perc. | K23: perc. | L23: verschil
A24: Daan | B24: B1x | C24: 7 | D24: 36 | E24: =1/((SUM(C24*60,D24))/2000) -> 4.3859649 | G24: 12 | H24: 7 | I24: =$F$23/(G24*60+H24) -> 4.1265475 | J24: =(I24/E24)*100 -> 94.085282 | K24: =AVERAGE($J$24:$J$37) -> 92.130064 | L24: =(J24-K24) -> 1.9552177
A25: Just | B25: LSA1x | C25: 7 | D25: 24 | E25: =1/((SUM(C25*60,D25))/2000) -> 4.5045045 | G25: 11 | H25: 49 | I25: =$F$23/(G25*60+H25) -> 4.2313117 | J25: =(I25/E25)*100 -> 93.93512 | K25: =AVERAGE($J$24:$J$37) -> 92.130064 | L25: =(J25-K25) -> 1.8050556
A26: Koen en Tim | B26: Sa2- | C26: 6 | D26: 52 | E26: =1/((SUM(C26*60,D26))/2000) -> 4.8543689 | G26: 10 | H26: 59 | I26: =$F$23/(G26*60+H26) -> 4.552352 | J26: =(I26/E26)*100 -> 93.778452 | K26: =AVERAGE($J$24:$J$37) -> 92.130064 | L26: =(J26-K26) -> 1.6483879
A27: Luuk en Mart | B27: Sa2- | C27: 6 | D27: 52 | E27: =1/((SUM(C27*60,D27))/2000) -> 4.8543689 | G27: 11 | H27: 0 | I27: =$F$23/(G27*60+H27) -> 4.5454545 | J27: =(I27/E27)*100 -> 93.636364 | K27: =AVERAGE($J$24:$J$37) -> 92.130064 | L27: =(J27-K27) -> 1.5062993
A28: Jolmer | B28: LSA1x | C28: 7 | D28: 24 | E28: =1/((SUM(C28*60,D28))/2000) -> 4.5045045 | G28: 11 | H28: 56 | I28: =$F$23/(G28*60+H28) -> 4.1899441 | J28: =(I28/E28)*100 -> 93.01676 | K28: =AVERAGE($J$24:$J$37) -> 92.130064 | L28: =(J28-K28) -> 0.88669548
A29: Vincent | B29: LSA1x | C29: 7 | D29: 24 | E29: =1/((SUM(C29*60,D29))/2000) -> 4.5045045 | G29: 11 | H29: 58 | I29: =$F$23/(G29*60+H29) -> 4.178273 | J29: =(I29/E29)*100 -> 92.75766 | K29: =AVERAGE($J$24:$J$37) -> 92.130064 | L29: =(J29-K29) -> 0.62759587
A30: Ids | B30: LB1x | C30: 7 | D30: 44 | E30: =1/((SUM(C30*60,D30))/2000) -> 4.3103448 | G30: 12 | H30: 31 | I30: =$F$23/(G30*60+H30) -> 3.9946738 | J30: =(I30/E30)*100 -> 92.676431 | K30: =AVERAGE($J$24:$J$37) -> 92.130064 | L30: =(J30-K30) -> 0.54636712
A31: Damion | B31: LSA1x | C31: 7 | D31: 24 | E31: =1/((SUM(C31*60,D31))/2000) -> 4.5045045 | G31: 11 | H31: 59 | I31: =$F$23/(G31*60+H31) -> 4.1724618 | J31: =(I31/E31)*100 -> 92.628651 | K31: =AVERAGE($J$24:$J$37) -> 92.130064 | L31: =(J31-K31) -> 0.4985866
A32: Jorn | B32: B1x | C32: 7 | D32: 36 | E32: =1/((SUM(C32*60,D32))/2000) -> 4.3859649 | G32: 12 | H32: 22 | I32: =$F$23/(G32*60+H32) -> 4.0431267 | J32: =(I32/E32)*100 -> 92.183288 | K32: =AVERAGE($J$24:$J$37) -> 92.130064 | L32: =(J32-K32) -> 0.053224109
A33: Oscar en Jacob | B33: O2- | C33: 7 | D33: 6 | E33: =1/((SUM(C33*60,D33))/2000) -> 4.6948357 | G33: 11 | H33: 40 | I33: =$F$23/(G33*60+H33) -> 4.2857143 | J33: =(I33/E33)*100 -> 91.285714 | K33: =AVERAGE($J$24:$J$37) -> 92.130064 | L33: =(J33-K33) -> -0.84435002
A34: Nils | B34: LSA1x | C34: 7 | D34: 24 | E34: =1/((SUM(C34*60,D34))/2000) -> 4.5045045 | G34: 12 | H34: 11 | I34: =$F$23/(G34*60+H34) -> 4.1039672 | J34: =(I34/E34)*100 -> 91.108071 | K34: =AVERAGE($J$24:$J$37) -> 92.130064 | L34: =(J34-K34) -> -1.0219932
A35: Raymon | B35: B1x | C35: 7 | D35: 36 | E35: =1/((SUM(C35*60,D35))/2000) -> 4.3859649 | G35: 12 | H35: 35 | I35: =$F$23/(G35*60+H35) -> 3.9735099 | J35: =(I35/E35)*100 -> 90.596026 | K35: =AVERAGE($J$24:$J$37) -> 92.130064 | L35: =(J35-K35) -> -1.5340378
... A37: Ernst en Tijmen | B37: O2- | C37: 7 | D37: 6 | E37: =1/((SUM(C37*60,D37))/2000) -> 4.6948357 | G37: 12 | H37: 1 | I37: =$F$23/(G37*60+H37) -> 4.1608877 | J37: =(I37/E37)*100 -> 88.626907 | K37: =AVERAGE($J$24:$J$37) -> 92.130064 | L37: =(J37-K37) -> -3.5031572
A40: Tweede blok (1e) | C40: RICHTTIJD | F40: Afstand | J40: indiv. | K40: gem.
C41: MIN | D41: SEC | E41: m/s | F41: 3000 | G41: MIN | H41: SEC | I41: m/s | J41: perc. | K41: perc. | L41: verschil
A42: Marloes | B42: DSA1x | C42: 8 | D42: 4 | E42: =1/((SUM(C42*60,D42))/2000) -> 4.1322314 | G42: 12 | H42: 56 | I42: =$F$41/(G42*60+H42) -> 3.8659794 | J42: =(I42/E42)*100 -> 93.556701 | K42: =AVERAGE($J$42:$J$50) -> 87.963599 | L42: =(J42-K42) -> 5.5931025
A43: Nienke | B43: LDN1x | C43: 8 | D43: 32 | E43: =1/((SUM(C43*60,D43))/2000) -> 3.90625 | G43: 13 | H43: 58 | I43: =$F$41/(G43*60+H43) -> 3.5799523 | J43: =(I43/E43)*100 -> 91.646778 | K43: =AVERAGE($J$42:$J$50) -> 87.963599 | L43: =(J43-K43) -> 3.6831795
A44: Baukje | B44: DSA1x | C44: 8 | D44: 4 | E44: =1/((SUM(C44*60,D44))/2000) -> 4.1322314 | G44: 13 | H44: 19 | I44: =$F$41/(G44*60+H44) -> 3.7546934 | J44: =(I44/E44)*100 -> 90.863579 | K44: =AVERAGE($J$42:$J$50) -> 87.963599 | L44: =(J44-K44) -> 2.8999809
A45: Merel | B45: DN1x | C45: 8 | D45: 21 | E45: =1/((SUM(C45*60,D45))/2000) -> 3.992016 | G45: 14 | H45: 6 | I45: =$F$41/(G45*60+H45) -> 3.5460993 | J45: =(I45/E45)*100 -> 88.829787 | K45: =AVERAGE($J$42:$J$50) -> 87.963599 | L45: =(J45-K45) -> 0.86618868
A46: EJD 8+ | B46: D8+ | C46: 7 | D46: 0 | E46: =1/((SUM(C46*60,D46))/2000) -> 4.7619048 | G46: 11 | H46: 51 | I46: =$F$41/(G46*60+H46) -> 4.2194093 | J46: =(I46/E46)*100 -> 88.607595 | K46: =AVERAGE($J$42:$J$50) -> 87.963599 | L46: =(J46-K46) -> 0.64399638
A47: Eline | B47: DSA1x | C47: 8 | D47: 4 | E47: =1/((SUM(C47*60,D47))/2000) -> 4.1322314 | G47: 13 | H47: 48 | I47: =$F$41/(G47*60+H47) -> 3.6231884 | J47: =(I47/E47)*100 -> 87.681159 | K47: =AVERAGE($J$42:$J$50) -> 87.963599 | L47: =(J47-K47) -> -0.28243913
A48: EJL 8+ | B48: LB8+ | C48: 6 | D48: 18 | E48: =1/((SUM(C48*60,D48))/2000) -> 5.2910053 | G48: 10 | H48: 49 | I48: =$F$41/(G48*60+H48) -> 4.6224961 | J48: =(I48/E48)*100 -> 87.365177 | K48: =AVERAGE($J$42:$J$50) -> 87.963599 | L48: =(J48-K48) -> -0.59842136
A49: EJLD 4* | B49: LDEJ 4* | C49: 7 | D49: 37 | E49: =1/((SUM(C49*60,D49))/2000) -> 4.3763676 | G49: 13 | H49: 23 | I49: =$F$41/(G49*60+H49) -> 3.73599 | J49: =(I49/E49)*100 -> 85.367372 | K49: =AVERAGE($J$42:$J$50) -> 87.963599 | L49: =(J49-K49) -> -2.5962262
A50: EJZ 8+ | B50: B8+ | C50: 6 | D50: 7 | E50: =1/((SUM(C50*60,D50))/2000) -> 5.4495913 | G50: 11 | H50: 48 | I50: =$F$41/(G50*60+H50) -> 4.2372881 | J50: =(I50/E50)*100 -> 77.754237 | K50: =AVERAGE($J$42:$J$50) -> 87.963599 | L50: =(J50-K50) -> -10.209361
A53: Tweede blok (2de) | C53: RICHTTIJD | F53: Afstand | J53: indiv. | K53: gem.
C54: MIN | D54: SEC | E54: m/s | F54: 3000 | G54: MIN | H54: SEC | I54: m/s | J54: perc. | K54: perc. | L54: verschil
A55: Nienke | B55: LDN1x | C55: 8 | D55: 32 | E55: =1/((SUM(C55*60,D55))/2000) -> 3.90625 | G55: 12 | H55: 56 | I55: =$F$54/(G55*60+H55) -> 3.8659794 | J55: =(I55/E55)*100 -> 98.969072 | K55: =AVERAGE($J$55:$J$63) -> 94.642588 | L55: =(J55-K55) -> 4.3264839
A56: Marloes | B56: DSA1x | C56: 8 | D56: 4 | E56: =1/((SUM(C56*60,D56))/2000) -> 4.1322314 | G56: 12 | H56: 14 | I56: =$F$54/(G56*60+H56) -> 4.0871935 | J56: =(I56/E56)*100 -> 98.910082 | K56: =AVERAGE($J$55:$J$63) -> 94.642588 | L56: =(J56-K56) -> 4.2674935
A57: Baukje | B57: DSA1x | C57: 8 | D57: 4 | E57: =1/((SUM(C57*60,D57))/2000) -> 4.1322314 | G57: 12 | H57: 26 | I57: =$F$54/(G57*60+H57) -> 4.0214477 | J57: =(I57/E57)*100 -> 97.319035 | K57: =AVERAGE($J$55:$J$63) -> 94.642588 | L57: =(J57-K57) -> 2.6764466
A58: Eline | B58: DSA1x | C58: 8 | D58: 4 | E58: =1/((SUM(C58*60,D58))/2000) -> 4.1322314 | G58: 12 | H58: 43 | I58: =$F$54/(G58*60+H58) -> 3.931848 | J58: =(I58/E58)*100 -> 95.150721 | K58: =AVERAGE($J$55:$J$63) -> 94.642588 | L58: =(J58-K58) -> 0.50813256
A59: Merel | B59: DN1x | C59: 8 | D59: 21 | E59: =1/((SUM(C59*60,D59))/2000) -> 3.992016 | G59: 13 | H59: 11 | I59: =$F$54/(G59*60+H59) -> 3.7926675 | J59: =(I59/E59)*100 -> 95.006321 | K59: =AVERAGE($J$55:$J$63) -> 94.642588 | L59: =(J59-K59) -> 0.36373283
A60: EJD 8+ | B60: D8+ | C60: 7 | D60: 0 | E60: =1/((SUM(C60*60,D60))/2000) -> 4.7619048 | G60: 11 | H60: 9 | I60: =$F$54/(G60*60+H60) -> 4.4843049 | J60: =(I60/E60)*100 -> 94.170404 | K60: =AVERAGE($J$55:$J$63) -> 94.642588 | L60: =(J60-K60) -> -0.47218469
A61: EJLD 4* | B61: LDEJ 4* | C61: 7 | D61: 37 | E61: =1/((SUM(C61*60,D61))/2000) -> 4.3763676 | G61: 12 | H61: 16 | I61: =$F$54/(G61*60+H61) -> 4.076087 | J61: =(I61/E61)*100 -> 93.138587 | K61: =AVERAGE($J$55:$J$63) -> 94.642588 | L61: =(J61-K61) -> -1.5040013
A62: EJL 8+ | B62: LB8+ | C62: 6 | D62: 18 | E62: =1/((SUM(C62*60,D62))/2000) -> 5.2910053 | G62: 10 | H62: 9 | I62: =$F$54/(G62*60+H62) -> 4.9261084 | J62: =(I62/E62)*100 -> 93.103448 | K62: =AVERAGE($J$55:$J$63) -> 94.642588 | L62: =(J62-K62) -> -1.53914
A63: EJZ 8+ | B63: B8+ | C63: 6 | D63: 7 | E63: =1/((SUM(C63*60,D63))/2000) -> 5.4495913 | G63: 10 | H63: 40 | I63: =$F$54/(G63*60+H63) -> 4.6875 | J63: =(I63/E63)*100 -> 86.015625 | K63: =AVERAGE($J$55:$J$63) -> 94.642588 | L63: =(J63-K63) -> -8.6269633

Sheet 17-12-2015 (intraining rex)
A1: Intraining REX 2015
C3: RICHTTIJD | F3: Afstand | J3: indiv. | K3: gem.
C4: MIN | D4: SEC | E4: m/s | F4: 2000 | G4: MIN | H4: SEC | I4: m/s | J4: perc. | K4: perc. | L4: verschil
A5: EJL 8+ | B5: LB 8+ | C5: 6 | D5: 19 | E5: =1/((SUM(C5*60,D5))/2000) -> 5.2770449 | G5: 6 | H5: 24 | I5: =F4/(G5*60+H5) -> 5.2083333 | J5: =(I5/E5)*100 -> 98.697917 | K5: =AVERAGE($J$5:$J$6) -> 95.931237 | L5: =(J5-K5) -> 2.7666799
A6: EJZ 8+ | B6: B 8+ | C6: 6 | D6: 8 | E6: =1/((SUM(C6*60,D6))/2000) -> 5.4347826 | G6: 6 | H6: 35 | I6: =F4/(G6*60+H6) -> 5.0632911 | J6: =(I6/E6)*100 -> 93.164557 | K6: =AVERAGE($J$5:$J$6) -> 95.931237 | L6: =(J6-K6) -> -2.7666799
C8: RICHTTIJD | F8: Afstand | J8: indiv. | K8: gem.
C9: MIN | D9: SEC | E9: m/s | F9: 2000 | G9: MIN | H9: SEC | I9: m/s | J9: perc. | K9: perc. | L9: verschil
A10: EJL 8+ | B10: LB 8+ | C10: 6 | D10: 19 | E10: =1/((SUM(C10*60,D10))/2000) -> 5.2770449 | G10: 6 | H10: 56 | I10: =$F$9/(G10*60+H10) -> 4.8076923 | J10: =(I10/E10)*100 -> 91.105769 | K10: =AVERAGE($J$10:$J$12) -> 87.993795 | L10: =(J10-K10) -> 3.1119742
A11: EJD 8+ | B11: DB 8+ | C11: 7 | D11: 1 | E11: =1/((SUM(C11*60,D11))/2000) -> 4.7505938 | G11: 7 | H11: 44 | I11: =$F$9/(G11*60+H11) -> 4.3103448 | J11: =(I11/E11)*100 -> 90.732759 | K11: =AVERAGE($J$10:$J$12) -> 87.993795 | L11: =(J11-K11) -> 2.7389636
A12: EJZ 8+ | B12: B 8+ | C12: 6 | D12: 8 | E12: =1/((SUM(C12*60,D12))/2000) -> 5.4347826 | G12: 7 | H12: 28 | I12: =$F$9/(G12*60+H12) -> 4.4642857 | J12: =(I12/E12)*100 -> 82.142857 | K12: =AVERAGE($J$10:$J$12) -> 87.993795 | L12: =(J12-K12) -> -5.8509379
C14: RICHTTIJD | F14: Afstand | J14: indiv. | K14: gem.
C15: MIN | D15: SEC | E15: m/s | F15: 2000 | G15: MIN | H15: SEC | I15: m/s | J15: perc. | K15: perc. | L15: verschil
A16: EJL 8+ | B16: LB 8+ | C16: 6 | D16: 19 | E16: =1/((SUM(C16*60,D16))/2000) -> 5.2770449 | G16: 6 | H16: 34 | I16: =$F$15/(G16*60+H16) -> 5.0761421 | J16: =(I16/E16)*100 -> 96.192893 | K16: =AVERAGE($J$16:$J$18) -> 93.847003 | L16: =(J16-K16) -> 2.3458905
A17: EJD 8+ | B17: DB 8+ | C17: 7 | D17: 1 | E17: =1/((SUM(C17*60,D17))/2000) -> 4.7505938 | G17: 7 | H17: 31 | I17: =$F$15/(G17*60+H17) -> 4.4345898 | J17: =(I17/E17)*100 -> 93.348115 | K17: =AVERAGE($J$16:$J$18) -> 93.847003 | L17: =(J17-K17) -> -0.4988876
A18: EJZ 8+ | B18: B 8+ | C18: 6 | D18: 8 | E18: =1/((SUM(C18*60,D18))/2000) -> 5.4347826 | G18: 6 | H18: 40 | I18: =$F$15/(G18*60+H18) -> 5 | J18: =(I18/E18)*100 -> 92 | K18: =AVERAGE($J$16:$J$18) -> 93.847003 | L18: =(J18-K18) -> -1.8470029

Sheet 30-12-20015 (Saurus Rex)
A1: Maastricht REX
A3: Eerste - stroom mee
C4: RICHTTIJD | F4: Afstand | J4: indiv. | K4: gem.
C5: MIN | D5: SEC | E5: m/s | F5: 2000 | G5: MIN | H5: SEC | I5: m/s | J5: perc. | K5: perc. | L5: verschil
A6: Gerard | B6: N1x | C6: 7 | D6: 31 | E6: =1/((SUM(C6*60,D6))/2000) -> 4.4345898 | G6: 7 | H6: 16 | I6: =$F$5/(G6*60+H6) -> 4.587156 | J6: =(I6/E6)*100 -> 103.44037 | K6: =AVERAGE($J$6:$J$18) -> 99.927598 | L6: =(J6-K6) -> 3.5127685
A7: Geert | B7: N1x | C7: 7 | D7: 31 | E7: =1/((SUM(C7*60,D7))/2000) -> 4.4345898 | G7: 7 | H7: 20 | I7: =$F$5/(G7*60+H7) -> 4.5454545 | J7: =(I7/E7)*100 -> 102.5 | K7: =AVERAGE($J$6:$J$18) -> 99.927598 | L7: =(J7-K7) -> 2.5724015
A8: Rogier | B8: SA1x | C8: 7 | D8: 15 | E8: =1/((SUM(C8*60,D8))/2000) -> 4.5977011 | G8: 7 | H8: 6 | I8: =$F$5/(G8*60+H8) -> 4.6948357 | J8: =(I8/E8)*100 -> 102.11268 | K8: =AVERAGE($J$6:$J$18) -> 99.927598 | L8: =(J8-K8) -> 2.1850776
A9: EJD 8 | B9: DEJ8+ | C9: 6 | D9: 57 | E9: =1/((SUM(C9*60,D9))/2000) -> 4.7961631 | G9: 6 | H9: 49 | I9: =$F$5/(G9*60+H9) -> 4.8899756 | J9: =(I9/E9)*100 -> 101.95599 | K9: =AVERAGE($J$6:$J$18) -> 99.927598 | L9: =(J9-K9) -> 2.0283917
A10: EJLD 4 | B10: LDEJ4* | C10: 7 | D10: 40 | E10: =1/((SUM(C10*60,D10))/2000) -> 4.3478261 | G10: 7 | H10: 32 | I10: =$F$5/(G10*60+H10) -> 4.4247788 | J10: =(I10/E10)*100 -> 101.76991 | K10: =AVERAGE($J$6:$J$18) -> 99.927598 | L10: =(J10-K10) -> 1.842313
A11: EJL 8 | B11: LEJ8+ | C11: 6 | D11: 17 | E11: =1/((SUM(C11*60,D11))/2000) -> 5.3050398 | G11: 6 | H11: 11 | I11: =$F$5/(G11*60+H11) -> 5.3908356 | J11: =(I11/E11)*100 -> 101.61725 | K11: =AVERAGE($J$6:$J$18) -> 99.927598 | L11: =(J11-K11) -> 1.6896522
A12: EJD 4 | B12: DB4+ | C12: 7 | D12: 53 | E12: =1/((SUM(C12*60,D12))/2000) -> 4.2283298 | G12: 7 | H12: 50 | I12: =$F$5/(G12*60+H12) -> 4.2553191 | J12: =(I12/E12)*100 -> 100.6383 | K12: =AVERAGE($J$6:$J$18) -> 99.927598 | L12: =(J12-K12) -> 0.71069939
A13: MGD 4- | B13: DO4- | C13: 7 | D13: 13 | E13: =1/((SUM(C13*60,D13))/2000) -> 4.6189376 | G13: 7 | H13: 17 | I13: =$F$5/(G13*60+H13) -> 4.576659 | J13: =(I13/E13)*100 -> 99.084668 | K13: =AVERAGE($J$6:$J$18) -> 99.927598 | L13: =(J13-K13) -> -0.84293029
A14: Anke | B14: DB1x | C14: 8 | D14: 28 | E14: =1/((SUM(C14*60,D14))/2000) -> 3.9370079 | G14: 8 | H14: 38 | I14: =$F$5/(G14*60+H14) -> 3.8610039 | J14: =(I14/E14)*100 -> 98.069498 | K14: =AVERAGE($J$6:$J$18) -> 99.927598 | L14: =(J14-K14) -> -1.8581004
A15: MGZ 4+ | B15: O4+ | C15: 6 | D15: 43 | E15: =1/((SUM(C15*60,D15))/2000) -> 4.9627792 | G15: 6 | H15: 52 | I15: =$F$5/(G15*60+H15) -> 4.8543689 | J15: =(I15/E15)*100 -> 97.815534 | K15: =AVERAGE($J$6:$J$18) -> 99.927598 | L15: =(J15-K15) -> -2.1120645
A16: MGL 2- | B16: LO2- | C16: 7 | D16: 13 | E16: =1/((SUM(C16*60,D16))/2000) -> 4.6189376 | G16: 7 | H16: 25 | I16: =$F$5/(G16*60+H16) -> 4.494382 | J16: =(I16/E16)*100 -> 97.303371 | K16: =AVERAGE($J$6:$J$18) -> 99.927598 | L16: =(J16-K16) -> -2.6242277
A17: Damion | B17: LSA1x | C17: 7 | D17: 24 | E17: =1/((SUM(C17*60,D17))/2000) -> 4.5045045 | G17: 7 | H17: 37 | I17: =$F$5/(G17*60+H17) -> 4.3763676 | J17: =(I17/E17)*100 -> 97.155361 | K17: =AVERAGE($J$6:$J$18) -> 99.927598 | L17: =(J17-K17) -> -2.7722374
A18: EjZ 8 | B18: EJ8+ | C18: 6 | D18: 9 | E18: =1/((SUM(C18*60,D18))/2000) -> 5.4200542 | G18: 6 | H18: 26 | I18: =$F$5/(G18*60+H18) -> 5.1813472 | J18: =(I18/E18)*100 -> 95.595855 | K18: =AVERAGE($J$6:$J$18) -> 99.927598 | L18: =(J18-K18) -> -4.3317436
A21: tweede - stroom tegen
C22: RICHTTIJD | F22: Afstand | J22: indiv. | K22: gem.
C23: MIN | D23: SEC | E23: m/s | F23: 2000 | G23: MIN | H23: SEC | I23: m/s | J23: perc. | K23: perc. | L23: verschil
A24: Gerard | B24: N1x | C24: 7 | D24: 31 | E24: =1/((SUM(C24*60,D24))/2000) -> 4.4345898 | G24: 8 | H24: 7 | I24: =$F$5/(G24*60+H24) -> 4.1067762 | J24: =(I24/E24)*100 -> 92.607803 | K24: =AVERAGE($J$24:$J$33) -> 89.155415 | L24: =(J24-K24) -> 3.4523874
A25: MGD 4- | B25: DO4- | C25: 7 | D25: 13 | E25: =1/((SUM(C25*60,D25))/2000) -> 4.6189376 | G25: 7 | H25: 57 | I25: =$F$5/(G25*60+H25) -> 4.1928721 | J25: =(I25/E25)*100 -> 90.775681 | K25: =AVERAGE($J$24:$J$33) -> 89.155415 | L25: =(J25-K25) -> 1.6202659
A26: EJLD 4 | B26: LDEJ4* | C26: 7 | D26: 40 | E26: =1/((SUM(C26*60,D26))/2000) -> 4.3478261 | G26: 8 | H26: 28 | I26: =$F$5/(G26*60+H26) -> 3.9370079 | J26: =(I26/E26)*100 -> 90.551181 | K26: =AVERAGE($J$24:$J$33) -> 89.155415 | L26: =(J26-K26) -> 1.3957656
A27: EJD 8 | B27: DEJ8+ | C27: 6 | D27: 57 | E27: =1/((SUM(C27*60,D27))/2000) -> 4.7961631 | G27: 7 | H27: 44 | I27: =$F$5/(G27*60+H27) -> 4.3103448 | J27: =(I27/E27)*100 -> 89.87069 | K27: =AVERAGE($J$24:$J$33) -> 89.155415 | L27: =(J27-K27) -> 0.71527418
A28: EJL 8 | B28: LEJ8+ | C28: 6 | D28: 17 | E28: =1/((SUM(C28*60,D28))/2000) -> 5.3050398 | G28: 7 | H28: 0 | I28: =$F$5/(G28*60+H28) -> 4.7619048 | J28: =(I28/E28)*100 -> 89.761905 | K28: =AVERAGE($J$24:$J$33) -> 89.155415 | L28: =(J28-K28) -> 0.60648928
A29: MGL 2- | B29: LO2- | C29: 7 | D29: 13 | E29: =1/((SUM(C29*60,D29))/2000) -> 4.6189376 | G29: 8 | H29: 9 | I29: =$F$5/(G29*60+H29) -> 4.0899796 | J29: =(I29/E29)*100 -> 88.548057 | K29: =AVERAGE($J$24:$J$33) -> 89.155415 | L29: =(J29-K29) -> -0.60735822
A30: EJD 4 | B30: DB4+ | C30: 7 | D30: 53 | E30: =1/((SUM(C30*60,D30))/2000) -> 4.2283298 | G30: 8 | H30: 57 | I30: =$F$5/(G30*60+H30) -> 3.7243948 | J30: =(I30/E30)*100 -> 88.081937 | K30: =AVERAGE($J$24:$J$33) -> 89.155415 | L30: =(J30-K30) -> -1.0734788
A31: EjZ 8 | B31: EJ8+ | C31: 6 | D31: 9 | E31: =1/((SUM(C31*60,D31))/2000) -> 5.4200542 | G31: 7 | H31: 2 | I31: =$F$5/(G31*60+H31) -> 4.7393365 | J31: =(I31/E31)*100 -> 87.440758 | K31: =AVERAGE($J$24:$J$33) -> 89.155415 | L31: =(J31-K31) -> -1.7146572
A32: Anke | B32: DB1x | C32: 8 | D32: 28 | E32: =1/((SUM(C32*60,D32))/2000) -> 3.9370079 | G32: 9 | H32: 41 | I32: =$F$5/(G32*60+H32) -> 3.4423408 | J32: =(I32/E32)*100 -> 87.435456 | K32: =AVERAGE($J$24:$J$33) -> 89.155415 | L32: =(J32-K32) -> -1.7199594
A33: MGZ 4+ | B33: O4+ | C33: 6 | D33: 43 | E33: =1/((SUM(C33*60,D33))/2000) -> 4.9627792 | G33: 7 | H33: 46 | I33: =$F$5/(G33*60+H33) -> 4.2918455 | J33: =(I33/E33)*100 -> 86.480687 | K33: =AVERAGE($J$24:$J$33) -> 89.155415 | L33: =(J33-K33) -> -2.6747288

Sheet 25-01-2016 (midwinter)
A1: Midwinter REX
A3: Ochtend: | B3: 1e (2e - 3e brug)
A4: Naam | B4: Veld | C4: Streeftijd | E4: m/s | F4: 3000 | G4: Gevaren tijd | I4: m/s | J4: Percentage | K4: Gemiddeld% | L4: Verschil
A5: Just | B5: LSA1x | C5: 7 | D5: 24 | E5: =1/((SUM(C5*60,D5))/2000) -> 4.5045045 | F5: 3000 | G5: 12 | H5: 17 | I5: =$F$4/(G5*60+H5) -> 4.0705563 | J5: =(I5/E5)*100 -> 90.36635 | K5: =AVERAGE($J$5:$J$14) -> 88.799906 | L5: =(J5-K5) -> 1.5664444
A6: Baukje | B6: DSA1x | C6: 8 | D6: 4 | E6: =1/((SUM(C6*60,D6))/2000) -> 4.1322314 | F6: 3000 | G6: 13 | H6: 26 | I6: =$F$4/(G6*60+H6) -> 3.7220844 | J6: =(I6/E6)*100 -> 90.074442 | K6: =AVERAGE($J$5:$J$14) -> 88.799906 | L6: =(J6-K6) -> 1.274536
A7: Vincent | B7: LSA1x | C7: 7 | D7: 24 | E7: =1/((SUM(C7*60,D7))/2000) -> 4.5045045 | F7: 3000 | G7: 12 | H7: 22 | I7: =$F$4/(G7*60+H7) -> 4.0431267 | J7: =(I7/E7)*100 -> 89.757412 | K7: =AVERAGE($J$5:$J$14) -> 88.799906 | L7: =(J7-K7) -> 0.95750675
A8: Luuk | B8: SA1x | C8: 7 | D8: 15 | E8: =1/((SUM(C8*60,D8))/2000) -> 4.5977011 | F8: 3000 | G8: 12 | H8: 13 | I8: =$F$4/(G8*60+H8) -> 4.0927694 | J8: =(I8/E8)*100 -> 89.017735 | K8: =AVERAGE($J$5:$J$14) -> 88.799906 | L8: =(J8-K8) -> 0.21782968
A9: Nils | B9: LSA1x | C9: 7 | D9: 24 | E9: =1/((SUM(C9*60,D9))/2000) -> 4.5045045 | F9: 3000 | G9: 12 | H9: 29 | I9: =$F$4/(G9*60+H9) -> 4.0053405 | J9: =(I9/E9)*100 -> 88.918558 | K9: =AVERAGE($J$5:$J$14) -> 88.799906 | L9: =(J9-K9) -> 0.11865243
A10: Sybren | B10: LSA1x | C10: 7 | D10: 24 | E10: =1/((SUM(C10*60,D10))/2000) -> 4.5045045 | F10: 3000 | G10: 12 | H10: 33 | I10: =$F$4/(G10*60+H10) -> 3.9840637 | J10: =(I10/E10)*100 -> 88.446215 | K10: =AVERAGE($J$5:$J$14) -> 88.799906 | L10: =(J10-K10) -> -0.35369051
A11: Eline en Ymkje | B11: DSA2- | C11: 7 | D11: 41 | E11: =1/((SUM(C11*60,D11))/2000) -> 4.3383948 | F11: 3000 | G11: 13 | H11: 4 | I11: =$F$4/(G11*60+H11) -> 3.8265306 | J11: =(I11/E11)*100 -> 88.201531 | K11: =AVERAGE($J$5:$J$14) -> 88.799906 | L11: =(J11-K11) -> -0.59837504
A12: Koen en Tim | B12: SA2- | C12: 6 | D12: 52 | E12: =1/((SUM(C12*60,D12))/2000) -> 4.8543689 | F12: 3000 | G12: 11 | H12: 41 | I12: =$F$4/(G12*60+H12) -> 4.2796006 | J12: =(I12/E12)*100 -> 88.159772 | K12: =AVERAGE($J$5:$J$14) -> 88.799906 | L12: =(J12-K12) -> -0.6401339
A13: Jolmer | B13: LSA1x | C13: 7 | D13: 24 | E13: =1/((SUM(C13*60,D13))/2000) -> 4.5045045 | F13: 3000 | G13: 12 | H13: 38 | I13: =$F$4/(G13*60+H13) -> 3.9577836 | J13: =(I13/E13)*100 -> 87.862797 | K13: =AVERAGE($J$5:$J$14) -> 88.799906 | L13: =(J13-K13) -> -0.93710882
A14: MGZ 4 | B14: O4+ | C14: 6 | D14: 44 | E14: =1/((SUM(C14*60,D14))/2000) -> 4.950495 | F14: 3000 | G14: 11 | H14: 35 | I14: =$F$4/(G14*60+H14) -> 4.3165468 | J14: =(I14/E14)*100 -> 87.194245 | K14: =AVERAGE($J$5:$J$14) -> 88.799906 | L14: =(J14-K14) -> -1.605661
A16: 2e (3e - 2e brug)
A17: Naam | B17: Veld | C17: Streeftijd | E17: m/s | F17: 3000 | G17: Gevaren tijd | I17: m/s | J17: Percentage | K17: Gemiddeld% | L17: Verschil
A18: Just | B18: LSA1x | C18: 7 | D18: 24 | E18: =1/((SUM(C18*60,D18))/2000) -> 4.5045045 | F18: 3000 | G18: 12 | H18: 3 | I18: =$F$4/(G18*60+H18) -> 4.1493776 | J18: =(I18/E18)*100 -> 92.116183 | K18: =AVERAGE($J$18:$J$28) -> 90.071457 | L18: =(J18-K18) -> 2.0447251
A19: Baukje | B19: DSA1x | C19: 8 | D19: 4 | E19: =1/((SUM(C19*60,D19))/2000) -> 4.1322314 | F19: 3000 | G19: 13 | H19: 10 | I19: =$F$4/(G19*60+H19) -> 3.7974684 | J19: =(I19/E19)*100 -> 91.898734 | K19: =AVERAGE($J$18:$J$28) -> 90.071457 | L19: =(J19-K19) -> 1.8272767
A20: Vincent | B20: LSA1x | C20: 7 | D20: 24 | E20: =1/((SUM(C20*60,D20))/2000) -> 4.5045045 | F20: 3000 | G20: 12 | H20: 8 | I20: =$F$4/(G20*60+H20) -> 4.1208791 | J20: =(I20/E20)*100 -> 91.483516 | K20: =AVERAGE($J$18:$J$28) -> 90.071457 | L20: =(J20-K20) -> 1.412059
A21: Nils | B21: LSA1x | C21: 7 | D21: 24 | E21: =1/((SUM(C21*60,D21))/2000) -> 4.5045045 | F21: 3000 | G21: 12 | H21: 10 | I21: =$F$4/(G21*60+H21) -> 4.109589 | J21: =(I21/E21)*100 -> 91.232877 | K21: =AVERAGE($J$18:$J$28) -> 90.071457 | L21: =(J21-K21) -> 1.1614192
A22: Koen en Tim | B22: SA2- | C22: 6 | D22: 52 | E22: =1/((SUM(C22*60,D22))/2000) -> 4.8543689 | F22: 3000 | G22: 11 | H22: 20 | I22: =$F$4/(G22*60+H22) -> 4.4117647 | J22: =(I22/E22)*100 -> 90.882353 | K22: =AVERAGE($J$18:$J$28) -> 90.071457 | L22: =(J22-K22) -> 0.81089546
A23: Eline en Ymkje | B23: DSA2- | C23: 7 | D23: 41 | E23: =1/((SUM(C23*60,D23))/2000) -> 4.3383948 | F23: 3000 | G23: 12 | H23: 48 | I23: =$F$4/(G23*60+H23) -> 3.90625 | J23: =(I23/E23)*100 -> 90.039062 | K23: =AVERAGE($J$18:$J$28) -> 90.071457 | L23: =(J23-K23) -> -0.032394981
A24: Sybren | B24: LSA1x | C24: 7 | D24: 24 | E24: =1/((SUM(C24*60,D24))/2000) -> 4.5045045 | F24: 3000 | G24: 12 | H24: 23 | I24: =$F$4/(G24*60+H24) -> 4.0376851 | J24: =(I24/E24)*100 -> 89.636608 | K24: =AVERAGE($J$18:$J$28) -> 90.071457 | L24: =(J24-K24) -> -0.43484914
A25: Luuk | B25: SA1x | C25: 7 | D25: 15 | E25: =1/((SUM(C25*60,D25))/2000) -> 4.5977011 | F25: 3000 | G25: 12 | H25: 8 | I25: =$F$4/(G25*60+H25) -> 4.1208791 | J25: =(I25/E25)*100 -> 89.629121 | K25: =AVERAGE($J$18:$J$28) -> 90.071457 | L25: =(J25-K25) -> -0.4423366
A26: MGZ 4 | B26: O4+ | C26: 6 | D26: 44 | E26: =1/((SUM(C26*60,D26))/2000) -> 4.950495 | F26: 3000 | G26: 11 | H26: 21 | I26: =$F$4/(G26*60+H26) -> 4.4052863 | J26: =(I26/E26)*100 -> 88.986784 | K26: =AVERAGE($J$18:$J$28) -> 90.071457 | L26: =(J26-K26) -> -1.0846733
A27: Damion | B27: LSA1x | C27: 7 | D27: 24 | E27: =1/((SUM(C27*60,D27))/2000) -> 4.5045045 | F27: 3000 | G27: 12 | H27: 39 | I27: =$F$4/(G27*60+H27) -> 3.9525692 | J27: =(I27/E27)*100 -> 87.747036 | K27: =AVERAGE($J$18:$J$28) -> 90.071457 | L27: =(J27-K27) -> -2.3244219
A28: Raymon | B28: B1x | C28: 7 | D28: 36 | E28: =1/((SUM(C28*60,D28))/2000) -> 4.3859649 | F28: 3000 | G28: 13 | H28: 5 | I28: =$F$4/(G28*60+H28) -> 3.8216561 | J28: =(I28/E28)*100 -> 87.133758 | K28: =AVERAGE($J$18:$J$28) -> 90.071457 | L28: =(J28-K28) -> -2.9376995
A31: Middag: | B31: 1e (2e - 3e brug)
A32: Naam | B32: Veld | C32: Streeftijd | E32: m/s | F32: 3000 | G32: Gevaren tijd | I32: m/s | J32: Percentage | K32: Gemiddeld% | L32: Verschil
A33: EJLD4* | B33: LDEJ4* | C33: 7 | D33: 40 | E33: =1/((SUM(C33*60,D33))/2000) -> 4.3478261 | F33: 3000 | G33: 12 | H33: 23 | I33: =$F$5/(G33*60+H33) -> 4.0376851 | J33: =(I33/E33)*100 -> 92.866756 | K33: =AVERAGE($J$6:$J$11) -> 89.069316 | L33: =(J33-K33) -> 3.7974409
A34: EJD4+ | B34: DB4+ | C34: 7 | D34: 53 | E34: =1/((SUM(C34*60,D34))/2000) -> 4.2283298 | F34: 3000 | G34: 12 | H34: 54 | I34: =$F$5/(G34*60+H34) -> 3.875969 | J34: =(I34/E34)*100 -> 91.666667 | K34: =AVERAGE($J$6:$J$11) -> 89.069316 | L34: =(J34-K34) -> 2.5973511
A35: Sarika | B35: LDB1x | C35: 8 | D35: 40 | E35: =1/((SUM(C35*60,D35))/2000) -> 3.8461538 | F35: 3000 | G35: 14 | H35: 24 | I35: =$F$5/(G35*60+H35) -> 3.4722222 | J35: =(I35/E35)*100 -> 90.277778 | K35: =AVERAGE($J$6:$J$11) -> 89.069316 | L35: =(J35-K35) -> 1.2084622
A36: EJD8+ | B36: DB8+ | C36: 7 | D36: 0 | E36: =1/((SUM(C36*60,D36))/2000) -> 4.7619048 | F36: 3000 | G36: 11 | H36: 38 | I36: =$F$5/(G36*60+H36) -> 4.2979943 | J36: =(I36/E36)*100 -> 90.25788 | K36: =AVERAGE($J$6:$J$11) -> 89.069316 | L36: =(J36-K36) -> 1.1885641
A37: EJL8+ | B37: LB8+ | C37: 6 | D37: 19 | E37: =1/((SUM(C37*60,D37))/2000) -> 5.2770449 | F37: 3000 | G37: 10 | H37: 30 | I37: =$F$5/(G37*60+H37) -> 4.7619048 | J37: =(I37/E37)*100 -> 90.238095 | K37: =AVERAGE($J$6:$J$11) -> 89.069316 | L37: =(J37-K37) -> 1.1687797
A38: EJZ8+ | B38: B8+ | C38: 6 | D38: 8 | E38: =1/((SUM(C38*60,D38))/2000) -> 5.4347826 | F38: 3000 | G38: 10 | H38: 23 | I38: =$F$5/(G38*60+H38) -> 4.8154093 | J38: =(I38/E38)*100 -> 88.603531 | K38: =AVERAGE($J$6:$J$11) -> 89.069316 | L38: =(J38-K38) -> -0.46578424
A40: 2e (3e - 2e brug)
A41: Naam | B41: Veld | C41: Streeftijd | E41: m/s | F41: 3000 | G41: Gevaren tijd | I41: m/s | J41: Percentage | K41: Gemiddeld% | L41: Verschil
A42: EJLD4* | B42: LDEJ4* | C42: 7 | D42: 40 | E42: =1/((SUM(C42*60,D42))/2000) -> 4.3478261 | F42: 3000 | G42: 12 | H42: 18 | I42: =$F$5/(G42*60+H42) -> 4.0650407 | J42: =(I42/E42)*100 -> 93.495935 | K42: =AVERAGE($J$15:$J$20) -> 91.832811 | L42: =(J42-K42) -> 1.6631239
A43: EJD8+ | B43: DB8+ | C43: 7 | D43: 0 | E43: =1/((SUM(C43*60,D43))/2000) -> 4.7619048 | F43: 3000 | G43: 11 | H43: 18 | I43: =$F$5/(G43*60+H43) -> 4.4247788 | J43: =(I43/E43)*100 -> 92.920354 | K43: =AVERAGE($J$15:$J$20) -> 91.832811 | L43: =(J43-K43) -> 1.0875429
A44: Sarika | B44: LDB1x | C44: 8 | D44: 40 | E44: =1/((SUM(C44*60,D44))/2000) -> 3.8461538 | F44: 3000 | G44: 14 | H44: 2 | I44: =$F$5/(G44*60+H44) -> 3.5629454 | J44: =(I44/E44)*100 -> 92.63658 | K44: =AVERAGE($J$15:$J$20) -> 91.832811 | L44: =(J44-K44) -> 0.80376849
A45: EJD4+ | B45: DB4+ | C45: 7 | D45: 53 | E45: =1/((SUM(C45*60,D45))/2000) -> 4.2283298 | F45: 3000 | G45: 12 | H45: 46 | I45: =$F$5/(G45*60+H45) -> 3.9164491 | J45: =(I45/E45)*100 -> 92.624021 | K45: =AVERAGE($J$15:$J$20) -> 91.832811 | L45: =(J45-K45) -> 0.79120981
A46: EJL8+ | B46: LB8+ | C46: 6 | D46: 19 | E46: =1/((SUM(C46*60,D46))/2000) -> 5.2770449 | F46: 3000 | G46: 10 | H46: 24 | I46: =$F$5/(G46*60+H46) -> 4.8076923 | J46: =(I46/E46)*100 -> 91.105769 | K46: =AVERAGE($J$15:$J$20) -> 91.832811 | L46: =(J46-K46) -> -0.72704185
A47: EJZ8+ | B47: B8+ | C47: 6 | D47: 8 | E47: =1/((SUM(C47*60,D47))/2000) -> 5.4347826 | F47: 3000 | G47: 10 | H47: 17 | I47: =$F$5/(G47*60+H47) -> 4.8622366 | J47: =(I47/E47)*100 -> 89.465154 | K47: =AVERAGE($J$15:$J$20) -> 91.832811 | L47: =(J47-K47) -> -2.3676571
A50: Gezamenlijk
A51: 1e (2e - 3e brug)
A52: Naam | B52: Veld | C52: Streeftijd | E52: m/s | F52: 3000 | G52: Gevaren tijd | I52: m/s | J52: Percentage | K52: Gemiddeld% | L52: Verschil
A53: EJLD4* | B53: LDEJ4* | C53: 7 | D53: 40 | E53: 4.3478261 | F53: 3000 | G53: 12 | H53: 23 | I53: =$F$5/(G53*60+H53) -> 4.0376851 | J53: 92.866756 | K53: =AVERAGE($J$4:$J$19) -> 89.334498 | L53: =(J53-K53) -> 3.5322586
A54: EJD4+ | B54: DB4+ | C54: 7 | D54: 53 | E54: 4.2283298 | F54: 3000 | G54: 12 | H54: 54 | I54: =$F$5/(G54*60+H54) -> 3.875969 | J54: 91.666667 | K54: =AVERAGE($J$4:$J$19) -> 89.334498 | L54: =(J54-K54) -> 2.3321689
A55: Just | B55: LSA1x | C55: 7 | D55: 24 | E55: =1/((SUM(C55*60,D55))/2000) -> 4.5045045 | F55: 3000 | G55: 12 | H55: 17 | I55: =$F$5/(G55*60+H55) -> 4.0705563 | J55: =(I55/E55)*100 -> 90.36635 | K55: =AVERAGE($J$4:$J$19) -> 89.334498 | L55: =(J55-K55) -> 1.0318523
A56: Sarika | B56: LDB1x | C56: 8 | D56: 40 | E56: 3.8461538 | F56: 3000 | G56: 14 | H56: 24 | I56: =$F$5/(G56*60+H56) -> 3.4722222 | J56: 90.277778 | K56: =AVERAGE($J$4:$J$19) -> 89.334498 | L56: =(J56-K56) -> 0.94328001
A57: EJD8+ | B57: DB8+ | C57: 7 | D57: 0 | E57: 4.7619048 | F57: 3000 | G57: 11 | H57: 38 | I57: =$F$5/(G57*60+H57) -> 4.2979943 | J57: 90.25788 | K57: =AVERAGE($J$4:$J$19) -> 89.334498 | L57: =(J57-K57) -> 0.92338188
A58: EJL8+ | B58: LB8+ | C58: 6 | D58: 19 | E58: 5.2770449 | F58: 3000 | G58: 10 | H58: 30 | I58: =$F$5/(G58*60+H58) -> 4.7619048 | J58: 90.238095 | K58: =AVERAGE($J$4:$J$19) -> 89.334498 | L58: =(J58-K58) -> 0.90359747
A59: Baukje | B59: DSA1x | C59: 8 | D59: 4 | E59: =1/((SUM(C59*60,D59))/2000) -> 4.1322314 | F59: 3000 | G59: 13 | H59: 26 | I59: =$F$5/(G59*60+H59) -> 3.7220844 | J59: =(I59/E59)*100 -> 90.074442 | K59: =AVERAGE($J$4:$J$19) -> 89.334498 | L59: =(J59-K59) -> 0.73994392
A60: Vincent | B60: LSA1x | C60: 7 | D60: 24 | E60: =1/((SUM(C60*60,D60))/2000) -> 4.5045045 | F60: 3000 | G60: 12 | H60: 22 | I60: =$F$5/(G60*60+H60) -> 4.0431267 | J60: =(I60/E60)*100 -> 89.757412 | K60: =AVERAGE($J$4:$J$19) -> 89.334498 | L60: =(J60-K60) -> 0.42291463
A61: Luuk | B61: SA1x | C61: 7 | D61: 15 | E61: =1/((SUM(C61*60,D61))/2000) -> 4.5977011 | F61: 3000 | G61: 12 | H61: 13 | I61: =$F$5/(G61*60+H61) -> 4.0927694 | J61: =(I61/E61)*100 -> 89.017735 | K61: =AVERAGE($J$4:$J$19) -> 89.334498 | L61: =(J61-K61) -> -0.31676244
A62: Nils | B62: LSA1x | C62: 7 | D62: 24 | E62: =1/((SUM(C62*60,D62))/2000) -> 4.5045045 | F62: 3000 | G62: 12 | H62: 29 | I62: =$F$5/(G62*60+H62) -> 4.0053405 | J62: =(I62/E62)*100 -> 88.918558 | K62: =AVERAGE($J$4:$J$19) -> 89.334498 | L62: =(J62-K62) -> -0.41593969
A63: EJZ8+ | B63: B8+ | C63: 6 | D63: 8 | E63: 5.4347826 | F63: 3000 | G63: 10 | H63: 23 | I63: =$F$5/(G63*60+H63) -> 4.8154093 | J63: 88.603531 | K63: =AVERAGE($J$4:$J$19) -> 89.334498 | L63: =(J63-K63) -> -0.73096647
A64: Sybren | B64: LSA1x | C64: 7 | D64: 24 | E64: =1/((SUM(C64*60,D64))/2000) -> 4.5045045 | F64: 3000 | G64: 12 | H64: 33 | I64: =$F$5/(G64*60+H64) -> 3.9840637 | J64: =(I64/E64)*100 -> 88.446215 | K64: =AVERAGE($J$4:$J$19) -> 89.334498 | L64: =(J64-K64) -> -0.88828263
A65: Eline en Ymkje | B65: DSA2- | C65: 7 | D65: 41 | E65: =1/((SUM(C65*60,D65))/2000) -> 4.3383948 | F65: 3000 | G65: 13 | H65: 4 | I65: =$F$5/(G65*60+H65) -> 3.8265306 | J65: =(I65/E65)*100 -> 88.201531 | K65: =AVERAGE($J$4:$J$19) -> 89.334498 | L65: =(J65-K65) -> -1.1329672
A66: Koen en Tim | B66: SA2- | C66: 6 | D66: 52 | E66: =1/((SUM(C66*60,D66))/2000) -> 4.8543689 | F66: 3000 | G66: 11 | H66: 41 | I66: =$F$5/(G66*60+H66) -> 4.2796006 | J66: =(I66/E66)*100 -> 88.159772 | K66: =AVERAGE($J$4:$J$19) -> 89.334498 | L66: =(J66-K66) -> -1.174726
A67: Jolmer | B67: LSA1x | C67: 7 | D67: 24 | E67: =1/((SUM(C67*60,D67))/2000) -> 4.5045045 | F67: 3000 | G67: 12 | H67: 38 | I67: =$F$5/(G67*60+H67) -> 3.9577836 | J67: =(I67/E67)*100 -> 87.862797 | K67: =AVERAGE($J$4:$J$19) -> 89.334498 | L67: =(J67-K67) -> -1.4717009
A68: MGZ 4 | B68: O4+ | C68: 6 | D68: 44 | E68: =1/((SUM(C68*60,D68))/2000) -> 4.950495 | F68: 3000 | G68: 11 | H68: 35 | I68: =$F$5/(G68*60+H68) -> 4.3165468 | J68: =(I68/E68)*100 -> 87.194245 | K68: =AVERAGE($J$4:$J$19) -> 89.334498 | L68: =(J68-K68) -> -2.1402532
A70: 2e (3e - 2e brug)
A71: Naam | B71: Veld | C71: Streeftijd | E71: m/s | F71: 3000 | G71: Gevaren tijd | I71: m/s | J71: Percentage | K71: Gemiddeld% | L71: Verschil
A72: EJLD4* | B72: LDEJ4* | C72: 7 | D72: 40 | E72: =1/((SUM(C72*60,D72))/2000) -> 4.3478261 | F72: 3000 | G72: 12 | H72: 18 | I72: =$F$5/(G72*60+H72) -> 4.0650407 | J72: =(I72/E72)*100 -> 93.495935 | K72: =AVERAGE($J$23:$J$39) -> 89.756923 | L72: =(J72-K72) -> 3.7390119
A73: EJD8+ | B73: DB8+ | C73: 7 | D73: 0 | E73: =1/((SUM(C73*60,D73))/2000) -> 4.7619048 | F73: 3000 | G73: 11 | H73: 18 | I73: =$F$5/(G73*60+H73) -> 4.4247788 | J73: =(I73/E73)*100 -> 92.920354 | K73: =AVERAGE($J$23:$J$39) -> 89.756923 | L73: =(J73-K73) -> 3.1634309
A74: Sarika | B74: LDB1x | C74: 8 | D74: 40 | E74: =1/((SUM(C74*60,D74))/2000) -> 3.8461538 | F74: 3000 | G74: 14 | H74: 2 | I74: =$F$5/(G74*60+H74) -> 3.5629454 | J74: =(I74/E74)*100 -> 92.63658 | K74: =AVERAGE($J$23:$J$39) -> 89.756923 | L74: =(J74-K74) -> 2.8796565
A75: EJD4+ | B75: DB4+ | C75: 7 | D75: 53 | E75: =1/((SUM(C75*60,D75))/2000) -> 4.2283298 | F75: 3000 | G75: 12 | H75: 46 | I75: =$F$5/(G75*60+H75) -> 3.9164491 | J75: =(I75/E75)*100 -> 92.624021 | K75: =AVERAGE($J$23:$J$39) -> 89.756923 | L75: =(J75-K75) -> 2.8670979
A76: Just | B76: LSA1x | C76: 7 | D76: 24 | E76: =1/((SUM(C76*60,D76))/2000) -> 4.5045045 | F76: 3000 | G76: 12 | H76: 3 | I76: =$F$5/(G76*60+H76) -> 4.1493776 | J76: =(I76/E76)*100 -> 92.116183 | K76: =AVERAGE($J$23:$J$39) -> 89.756923 | L76: =(J76-K76) -> 2.3592595
A77: Baukje | B77: DSA1x | C77: 8 | D77: 4 | E77: =1/((SUM(C77*60,D77))/2000) -> 4.1322314 | F77: 3000 | G77: 13 | H77: 10 | I77: =$F$5/(G77*60+H77) -> 3.7974684 | J77: =(I77/E77)*100 -> 91.898734 | K77: =AVERAGE($J$23:$J$39) -> 89.756923 | L77: =(J77-K77) -> 2.1418111
A78: Vincent | B78: LSA1x | C78: 7 | D78: 24 | E78: =1/((SUM(C78*60,D78))/2000) -> 4.5045045 | F78: 3000 | G78: 12 | H78: 8 | I78: =$F$5/(G78*60+H78) -> 4.1208791 | J78: =(I78/E78)*100 -> 91.483516 | K78: =AVERAGE($J$23:$J$39) -> 89.756923 | L78: =(J78-K78) -> 1.7265934
A79: Nils | B79: LSA1x | C79: 7 | D79: 24 | E79: =1/((SUM(C79*60,D79))/2000) -> 4.5045045 | F79: 3000 | G79: 12 | H79: 10 | I79: =$F$5/(G79*60+H79) -> 4.109589 | J79: =(I79/E79)*100 -> 91.232877 | K79: =AVERAGE($J$23:$J$39) -> 89.756923 | L79: =(J79-K79) -> 1.4759537
A80: EJL8+ | B80: LB8+ | C80: 6 | D80: 19 | E80: =1/((SUM(C80*60,D80))/2000) -> 5.2770449 | F80: 3000 | G80: 10 | H80: 24 | I80: =$F$5/(G80*60+H80) -> 4.8076923 | J80: =(I80/E80)*100 -> 91.105769 | K80: =AVERAGE($J$23:$J$39) -> 89.756923 | L80: =(J80-K80) -> 1.3488462
A81: Koen en Tim | B81: SA2- | C81: 6 | D81: 52 | E81: =1/((SUM(C81*60,D81))/2000) -> 4.8543689 | F81: 3000 | G81: 11 | H81: 20 | I81: =$F$5/(G81*60+H81) -> 4.4117647 | J81: =(I81/E81)*100 -> 90.882353 | K81: =AVERAGE($J$23:$J$39) -> 89.756923 | L81: =(J81-K81) -> 1.1254299
A82: Eline en Ymkje | B82: DSA2- | C82: 7 | D82: 41 | E82: =1/((SUM(C82*60,D82))/2000) -> 4.3383948 | F82: 3000 | G82: 12 | H82: 48 | I82: =$F$5/(G82*60+H82) -> 3.90625 | J82: =(I82/E82)*100 -> 90.039062 | K82: =AVERAGE($J$23:$J$39) -> 89.756923 | L82: =(J82-K82) -> 0.28213946
A83: Sybren | B83: LSA1x | C83: 7 | D83: 24 | E83: =1/((SUM(C83*60,D83))/2000) -> 4.5045045 | F83: 3000 | G83: 12 | H83: 23 | I83: =$F$5/(G83*60+H83) -> 4.0376851 | J83: =(I83/E83)*100 -> 89.636608 | K83: =AVERAGE($J$23:$J$39) -> 89.756923 | L83: =(J83-K83) -> -0.12031469
... A88: Raymon | B88: B1x | C88: 7 | D88: 36 | E88: =1/((SUM(C88*60,D88))/2000) -> 4.3859649 | F88: 3000 | G88: 13 | H88: 5 | I88: =$F$5/(G88*60+H88) -> 3.8216561 | J88: =(I88/E88)*100 -> 87.133758 | K88: =AVERAGE($J$23:$J$39) -> 89.756923 | L88: =(J88-K88) -> -2.6231651

Sheet 10-01-2016 (Aegir Rex)
A1: Aegir REX
A4: EERSTE | C4: RICHTTIJD | F4: Afstand | J4: indiv. | K4: gem. | N4: GEMIDDELDE | P4: RICHTTIJD | S4: Afstand | W4: indiv. | X4: gem.
C5: MIN | D5: SEC | E5: m/s | F5: 2000 | G5: MIN | H5: SEC | I5: m/s | J5: perc. | K5: perc. | L5: verschil | P5: MIN | Q5: SEC | R5: m/s | S5: 2000 | T5: MIN | U5: SEC | V5: m/s | W5: perc. | X5: perc. | Y5: verschil
A6: A1 EJD 4+ | B6: DB4+ | C6: 7 | D6: 53 | E6: =1/((SUM(C6*60,D6))/2000) -> 4.2283298 | G6: 8 | H6: 1 | I6: =$F$5/(G6*60+H6) -> 4.1580042 | J6: =(I6/E6)*100 -> 98.336798 | K6: =AVERAGE($J$6:$J$16) -> 93.703356 | L6: =(J6-K6) -> 4.633442 | N6: A1 EJD 4+ | O6: DB4+ | P6: 7 | Q6: 53 | R6: =1/((SUM(P6*60,Q6))/2000) -> 4.2283298 | T6: 8 | U6: 15 | V6: =$F$5/(T6*60+U6) -> 4.040404 | W6: =(V6/R6)*100 -> 95.555556 | X6: =AVERAGE($W$6:$W$16) -> 91.754974 | Y6: =(W6-X6) -> 3.8005813
A7: G EJD 4+ | B7: DB4+ | C7: 7 | D7: 53 | E7: =1/((SUM(C7*60,D7))/2000) -> 4.2283298 | G7: 8 | H7: 9 | I7: =$F$5/(G7*60+H7) -> 4.0899796 | J7: =(I7/E7)*100 -> 96.728016 | K7: =AVERAGE($J$6:$J$16) -> 93.703356 | L7: =(J7-K7) -> 3.0246601 | N7: G EJD 4+ | O7: DB4+ | P7: 7 | Q7: 53 | R7: =1/((SUM(P7*60,Q7))/2000) -> 4.2283298 | T7: 8 | U7: 21 | V7: =$F$5/(T7*60+U7) -> 3.992016 | W7: =(V7/R7)*100 -> 94.411178 | X7: =AVERAGE($W$6:$W$16) -> 91.754974 | Y7: =(W7-X7) -> 2.6562034
A8: G EJD 8+ | B8: DB8+ | C8: 7 | D8: 0 | E8: =1/((SUM(C8*60,D8))/2000) -> 4.7619048 | G8: 7 | H8: 18 | I8: =$F$5/(G8*60+H8) -> 4.56621 | J8: =(I8/E8)*100 -> 95.890411 | K8: =AVERAGE($J$6:$J$16) -> 93.703356 | L8: =(J8-K8) -> 2.1870547 | N8: G EJL 8+ | O8: LB 8+ | P8: 6 | Q8: 19 | R8: =1/((SUM(P8*60,Q8))/2000) -> 5.2770449 | T8: 6 | U8: 46 | V8: =$F$5/(T8*60+U8) -> 4.9261084 | W8: =(V8/R8)*100 -> 93.349754 | X8: =AVERAGE($W$6:$W$16) -> 91.754974 | Y8: =(W8-X8) -> 1.5947795
A9: G EJLD 4* | B9: LDEJ4* | C9: 7 | D9: 40 | E9: =1/((SUM(C9*60,D9))/2000) -> 4.3478261 | G9: 8 | H9: 1 | I9: =$F$5/(G9*60+H9) -> 4.1580042 | J9: =(I9/E9)*100 -> 95.634096 | K9: =AVERAGE($J$6:$J$16) -> 93.703356 | L9: =(J9-K9) -> 1.9307393 | N9: G EJLD 4* | O9: LDEJ4* | P9: 7 | Q9: 40 | R9: =1/((SUM(P9*60,Q9))/2000) -> 4.3478261 | T9: 8 | U9: 15 | V9: =$F$5/(T9*60+U9) -> 4.040404 | W9: =(V9/R9)*100 -> 92.929293 | X9: =AVERAGE($W$6:$W$16) -> 91.754974 | Y9: =(W9-X9) -> 1.1743187
A10: A2 EJD 4+ | B10: DB4+ | C10: 7 | D10: 53 | E10: =1/((SUM(C10*60,D10))/2000) -> 4.2283298 | G10: 8 | H10: 16 | I10: =$F$5/(G10*60+H10) -> 4.0322581 | J10: =(I10/E10)*100 -> 95.362903 | K10: =AVERAGE($J$6:$J$16) -> 93.703356 | L10: =(J10-K10) -> 1.6595469 | N10: G EJD 8+ | O10: DB8+ | P10: 7 | Q10: 0 | R10: =1/((SUM(P10*60,Q10))/2000) -> 4.7619048 | T10: 7 | U10: 34 | V10: =$F$5/(T10*60+U10) -> 4.4052863 | W10: =(V10/R10)*100 -> 92.511013 | X10: =AVERAGE($W$6:$W$16) -> 91.754974 | Y10: =(W10-X10) -> 0.75603897
A11: G MGD 4- | B11: DO4- | C11: 7 | D11: 13 | E11: =1/((SUM(C11*60,D11))/2000) -> 4.6189376 | G11: 7 | H11: 40 | I11: =$F$5/(G11*60+H11) -> 4.3478261 | J11: =(I11/E11)*100 -> 94.130435 | K11: =AVERAGE($J$6:$J$16) -> 93.703356 | L11: =(J11-K11) -> 0.42707847 | N11: A2 EJD 4+ | O11: DB4+ | P11: 7 | Q11: 53 | R11: =1/((SUM(P11*60,Q11))/2000) -> 4.2283298 | T11: 8 | U11: 33 | V11: =$F$5/(T11*60+U11) -> 3.8986355 | W11: =(V11/R11)*100 -> 92.202729 | X11: =AVERAGE($W$6:$W$16) -> 91.754974 | Y11: =(W11-X11) -> 0.4477548
A12: G EJL 8+ | B12: LB 8+ | C12: 6 | D12: 19 | E12: =1/((SUM(C12*60,D12))/2000) -> 5.2770449 | G12: 6 | H12: 43 | I12: =$F$5/(G12*60+H12) -> 4.9627792 | J12: =(I12/E12)*100 -> 94.044665 | K12: =AVERAGE($J$6:$J$16) -> 93.703356 | L12: =(J12-K12) -> 0.3413087 | N12: A EJL 8+ | O12: LB 8+ | P12: 6 | Q12: 19 | R12: =1/((SUM(P12*60,Q12))/2000) -> 5.2770449 | T12: 6 | U12: 52 | V12: =$F$5/(T12*60+U12) -> 4.8543689 | W12: =(V12/R12)*100 -> 91.990291 | X12: =AVERAGE($W$6:$W$16) -> 91.754974 | Y12: =(W12-X12) -> 0.23531702
A13: A EJL 8+ | B13: LB 8+ | C13: 6 | D13: 19 | E13: =1/((SUM(C13*60,D13))/2000) -> 5.2770449 | G13: 6 | H13: 50 | I13: =$F$5/(G13*60+H13) -> 4.8780488 | J13: =(I13/E13)*100 -> 92.439024 | K13: =AVERAGE($J$6:$J$16) -> 93.703356 | L13: =(J13-K13) -> -1.2643319 | N13: G MGD 4- | O13: DO4- | P13: 7 | Q13: 13 | R13: =1/((SUM(P13*60,Q13))/2000) -> 4.6189376 | T13: 7 | U13: 52 | V13: =$F$5/(T13*60+U13) -> 4.2372881 | W13: =(V13/R13)*100 -> 91.737288 | X13: =AVERAGE($W$6:$W$16) -> 91.754974 | Y13: =(W13-X13) -> -0.017686107
A14: G DCL 8+ | B14: DB8+ | C14: 7 | D14: 10 | E14: =1/((SUM(C14*60,D14))/2000) -> 4.6511628 | G14: 7 | H14: 58 | I14: =$F$5/(G14*60+H14) -> 4.1841004 | J14: =(I14/E14)*100 -> 89.958159 | K14: =AVERAGE($J$6:$J$16) -> 93.703356 | L14: =(J14-K14) -> -3.7451973 | N14: G EJZ 8+ | O14: B8+ | P14: 6 | Q14: 8 | R14: =1/((SUM(P14*60,Q14))/2000) -> 5.4347826 | T14: 6 | U14: 55 | V14: =$F$5/(T14*60+U14) -> 4.8192771 | W14: =(V14/R14)*100 -> 88.674699 | X14: =AVERAGE($W$6:$W$16) -> 91.754974 | Y14: =(W14-X14) -> -3.0802754
A15: G EJZ 8+ | B15: B8+ | C15: 6 | D15: 8 | E15: =1/((SUM(C15*60,D15))/2000) -> 5.4347826 | G15: 6 | H15: 51 | I15: =$F$5/(G15*60+H15) -> 4.86618 | J15: =(I15/E15)*100 -> 89.537713 | K15: =AVERAGE($J$6:$J$16) -> 93.703356 | L15: =(J15-K15) -> -4.1656434 | N15: G DCL 8+ | O15: DB8+ | P15: 7 | Q15: 10 | R15: =1/((SUM(P15*60,Q15))/2000) -> 4.6511628 | T15: 8 | U15: 8 | V15: =$F$5/(T15*60+U15) -> 4.0983607 | W15: =(V15/R15)*100 -> 88.114754 | X15: =AVERAGE($W$6:$W$16) -> 91.754974 | Y15: =(W15-X15) -> -3.6402201
A16: A EJZ 8+ | B16: B8+ | C16: 6 | D16: 8 | E16: =1/((SUM(C16*60,D16))/2000) -> 5.4347826 | G16: 6 | H16: 55 | I16: =$F$5/(G16*60+H16) -> 4.8192771 | J16: =(I16/E16)*100 -> 88.674699 | K16: =AVERAGE($J$6:$J$16) -> 93.703356 | L16: =(J16-K16) -> -5.0286575 | N16: A EJZ 8+ | O16: B8+ | P16: 6 | Q16: 8 | R16: =1/((SUM(P16*60,Q16))/2000) -> 5.4347826 | T16: 6 | U16: 59 | V16: =$F$5/(T16*60+U16) -> 4.7732697 | W16: =(V16/R16)*100 -> 87.828162 | X16: =AVERAGE($W$6:$W$16) -> 91.754974 | Y16: =(W16-X16) -> -3.926812
A19: TWEEDE
C20: MIN | D20: SEC | E20: m/s | F20: 2000 | G20: MIN | H20: SEC | I20: m/s | J20: perc. | K20: perc. | L20: verschil
A21: A1 EJD 4+ | B21: DB4+ | C21: 7 | D21: 53 | E21: =1/((SUM(C21*60,D21))/2000) -> 4.2283298 | G21: 8 | H21: 29 | I21: =$F$5/(G21*60+H21) -> 3.9292731 | J21: =(I21/E21)*100 -> 92.927308 | K21: =AVERAGE($J$21:$J$31) -> 89.741133 | L21: =(J21-K21) -> 3.1861755
A22: G EJL 8+ | B22: LB 8+ | C22: 6 | D22: 19 | E22: =1/((SUM(C22*60,D22))/2000) -> 5.2770449 | G22: 6 | H22: 54 | I22: =$F$5/(G22*60+H22) -> 4.8309179 | J22: =(I22/E22)*100 -> 91.545894 | K22: =AVERAGE($J$21:$J$31) -> 89.741133 | L22: =(J22-K22) -> 1.8047608
A23: G EJD 4+ | B23: DB4+ | C23: 7 | D23: 53 | E23: =1/((SUM(C23*60,D23))/2000) -> 4.2283298 | G23: 8 | H23: 38 | I23: =$F$5/(G23*60+H23) -> 3.8610039 | J23: =(I23/E23)*100 -> 91.312741 | K23: =AVERAGE($J$21:$J$31) -> 89.741133 | L23: =(J23-K23) -> 1.5716084
A24: A EJL 8+ | B24: LB 8+ | C24: 6 | D24: 19 | E24: =1/((SUM(C24*60,D24))/2000) -> 5.2770449 | G24: 6 | H24: 59 | I24: =$F$5/(G24*60+H24) -> 4.7732697 | J24: =(I24/E24)*100 -> 90.453461 | K24: =AVERAGE($J$21:$J$31) -> 89.741133 | L24: =(J24-K24) -> 0.71232769
A25: G EJLD 4* | B25: LDEJ4* | C25: 7 | D25: 40 | E25: =1/((SUM(C25*60,D25))/2000) -> 4.3478261 | G25: 8 | H25: 30 | I25: =$F$5/(G25*60+H25) -> 3.9215686 | J25: =(I25/E25)*100 -> 90.196078 | K25: =AVERAGE($J$21:$J$31) -> 89.741133 | L25: =(J25-K25) -> 0.4549455
A26: A2 EJD 4+ | B26: DB4+ | C26: 7 | D26: 53 | E26: =1/((SUM(C26*60,D26))/2000) -> 4.2283298 | G26: 8 | H26: 45 | I26: =$F$5/(G26*60+H26) -> 3.8095238 | J26: =(I26/E26)*100 -> 90.095238 | K26: =AVERAGE($J$21:$J$31) -> 89.741133 | L26: =(J26-K26) -> 0.35410516
A27: G EJD 8+ | B27: DB8+ | C27: 7 | D27: 0 | E27: =1/((SUM(C27*60,D27))/2000) -> 4.7619048 | G27: 7 | H27: 48 | I27: =$F$5/(G27*60+H27) -> 4.2735043 | J27: =(I27/E27)*100 -> 89.74359 | K27: =AVERAGE($J$21:$J$31) -> 89.741133 | L27: =(J27-K27) -> 0.0024568096
A28: G MGD 4- | B28: DO4- | C28: 7 | D28: 13 | E28: =1/((SUM(C28*60,D28))/2000) -> 4.6189376 | G28: 8 | H28: 5 | I28: =$F$5/(G28*60+H28) -> 4.1237113 | J28: =(I28/E28)*100 -> 89.278351 | K28: =AVERAGE($J$21:$J$31) -> 89.741133 | L28: =(J28-K28) -> -0.46278242
A29: G DCL 8+ | B29: DB8+ | C29: 7 | D29: 10 | E29: =1/((SUM(C29*60,D29))/2000) -> 4.6511628 | G29: 8 | H29: 12 | I29: =$F$5/(G29*60+H29) -> 4.0650407 | J29: =(I29/E29)*100 -> 87.398374 | K29: =AVERAGE($J$21:$J$31) -> 89.741133 | L29: =(J29-K29) -> -2.342759
A30: G EJZ 8+ | B30: B8+ | C30: 6 | D30: 8 | E30: =1/((SUM(C30*60,D30))/2000) -> 5.4347826 | G30: 7 | H30: 2 | I30: =$F$5/(G30*60+H30) -> 4.7393365 | J30: =(I30/E30)*100 -> 87.203791 | K30: =AVERAGE($J$21:$J$31) -> 89.741133 | L30: =(J30-K30) -> -2.5373415
A31: A EJZ 8+ | B31: B8+ | C31: 6 | D31: 8 | E31: =1/((SUM(C31*60,D31))/2000) -> 5.4347826 | G31: 7 | H31: 3 | I31: =$F$5/(G31*60+H31) -> 4.7281324 | J31: =(I31/E31)*100 -> 86.997636 | K31: =AVERAGE($J$21:$J$31) -> 89.741133 | L31: =(J31-K31) -> -2.743497
A34: DERDE
C35: MIN | D35: SEC | E35: m/s | F35: 2000 | G35: MIN | H35: SEC | I35: m/s | J35: perc. | K35: perc. | L35: verschil
A36: A1 EJD 4+ | B36: DB4+ | C36: 7 | D36: 53 | E36: =1/((SUM(C36*60,D36))/2000) -> 4.2283298 | G36: 8 | H36: 14 | I36: =$F$5/(G36*60+H36) -> 4.048583 | J36: =(I36/E36)*100 -> 95.748988 | K36: =AVERAGE($J$36:$J$46) -> 92.062656 | L36: =(J36-K36) -> 3.6863314
A37: G EJD 4+ | B37: DB4+ | C37: 7 | D37: 53 | E37: =1/((SUM(C37*60,D37))/2000) -> 4.2283298 | G37: 8 | H37: 17 | I37: =$F$5/(G37*60+H37) -> 4.0241449 | J37: =(I37/E37)*100 -> 95.171026 | K37: =AVERAGE($J$36:$J$46) -> 92.062656 | L37: =(J37-K37) -> 3.1083697
A38: G EJL 8+ | B38: LB 8+ | C38: 6 | D38: 19 | E38: =1/((SUM(C38*60,D38))/2000) -> 5.2770449 | G38: 6 | H38: 40 | I38: =$F$5/(G38*60+H38) -> 5 | J38: =(I38/E38)*100 -> 94.75 | K38: =AVERAGE($J$36:$J$46) -> 92.062656 | L38: =(J38-K38) -> 2.6873436
A39: G EJLD 4* | B39: LDEJ4* | C39: 7 | D39: 40 | E39: =1/((SUM(C39*60,D39))/2000) -> 4.3478261 | G39: 8 | H39: 13 | I39: =$F$5/(G39*60+H39) -> 4.0567951 | J39: =(I39/E39)*100 -> 93.306288 | K39: =AVERAGE($J$36:$J$46) -> 92.062656 | L39: =(J39-K39) -> 1.2436316
A40: A EJL 8+ | B40: LB 8+ | C40: 6 | D40: 19 | E40: =1/((SUM(C40*60,D40))/2000) -> 5.2770449 | G40: 6 | H40: 47 | I40: =$F$5/(G40*60+H40) -> 4.9140049 | J40: =(I40/E40)*100 -> 93.120393 | K40: =AVERAGE($J$36:$J$46) -> 92.062656 | L40: =(J40-K40) -> 1.0577367
A41: G EJD 8+ | B41: DB8+ | C41: 7 | D41: 0 | E41: =1/((SUM(C41*60,D41))/2000) -> 4.7619048 | G41: 7 | H41: 34 | I41: =$F$5/(G41*60+H41) -> 4.4052863 | J41: =(I41/E41)*100 -> 92.511013 | K41: =AVERAGE($J$36:$J$46) -> 92.062656 | L41: =(J41-K41) -> 0.44835678
A42: G MGD 4- | B42: DO4- | C42: 7 | D42: 13 | E42: =1/((SUM(C42*60,D42))/2000) -> 4.6189376 | G42: 7 | H42: 49 | I42: =$F$5/(G42*60+H42) -> 4.2643923 | J42: =(I42/E42)*100 -> 92.324094 | K42: =AVERAGE($J$36:$J$46) -> 92.062656 | L42: =(J42-K42) -> 0.26143738
A43: A2 EJD 4+ | B43: DB4+ | C43: 7 | D43: 53 | E43: =1/((SUM(C43*60,D43))/2000) -> 4.2283298 | G43: 8 | H43: 38 | I43: =$F$5/(G43*60+H43) -> 3.8610039 | J43: =(I43/E43)*100 -> 91.312741 | K43: =AVERAGE($J$36:$J$46) -> 92.062656 | L43: =(J43-K43) -> -0.74991512
A44: G EJZ 8+ | B44: B8+ | C44: 6 | D44: 8 | E44: =1/((SUM(C44*60,D44))/2000) -> 5.4347826 | G44: 6 | H44: 51 | I44: =$F$5/(G44*60+H44) -> 4.86618 | J44: =(I44/E44)*100 -> 89.537713 | K44: =AVERAGE($J$36:$J$46) -> 92.062656 | L44: =(J44-K44) -> -2.5249435
A45: A EJZ 8+ | B45: B8+ | C45: 6 | D45: 8 | E45: =1/((SUM(C45*60,D45))/2000) -> 5.4347826 | G45: 6 | H45: 58 | I45: =$F$5/(G45*60+H45) -> 4.784689 | J45: =(I45/E45)*100 -> 88.038278 | K45: =AVERAGE($J$36:$J$46) -> 92.062656 | L45: =(J45-K45) -> -4.0243789
A46: G DCL 8+ | B46: DB8+ | C46: 7 | D46: 10 | E46: =1/((SUM(C46*60,D46))/2000) -> 4.6511628 | G46: 8 | H46: 15 | I46: =$F$5/(G46*60+H46) -> 4.040404 | J46: =(I46/E46)*100 -> 86.868687 | K46: =AVERAGE($J$36:$J$46) -> 92.062656 | L46: =(J46-K46) -> -5.1939696

Sheet 7-2-2016 (Skoll Rex)
A1: Skoll Rex
C3: MIN | D3: SEC | E3: m/s | F3: 4500 | G3: MIN | H3: SEC | I3: m/s | J3: perc. | K3: perc. | L3: verschil
A4: G EJD 8+ | B4: DB8+ | C4: 7 | D4: 0 | E4: =1/((SUM(C4*60,D4))/2000) -> 4.7619048 | G4: 14 | H4: 58 | I4: =$F$3/(G4*60+H4) -> 5.0111359 | J4: =(I4/E4)*100 -> 105.23385 | K4: =AVERAGE($J$4:$J$12) -> 101.19261 | L4: =(J4-K4) -> 4.0412477
A5: G EJLD 4* | B5: LDEJ4* | C5: 7 | D5: 40 | E5: =1/((SUM(C5*60,D5))/2000) -> 4.3478261 | G5: 16 | H5: 34 | I5: =$F$3/(G5*60+H5) -> 4.527163 | J5: =(I5/E5)*100 -> 104.12475 | K5: =AVERAGE($J$4:$J$12) -> 101.19261 | L5: =(J5-K5) -> 2.9321432
A6: G EJL 8+ | B6: LB 8+ | C6: 6 | D6: 19 | E6: =1/((SUM(C6*60,D6))/2000) -> 5.2770449 | G6: 13 | H6: 57 | I6: =$F$3/(G6*60+H6) -> 5.3763441 | J6: =(I6/E6)*100 -> 101.88172 | K6: =AVERAGE($J$4:$J$12) -> 101.19261 | L6: =(J6-K6) -> 0.68911512
A7: S EJLD 4* | B7: LDEJ4* | C7: 7 | D7: 40 | E7: =1/((SUM(C7*60,D7))/2000) -> 4.3478261 | G7: 17 | H7: 1 | I7: =$F$3/(G7*60+H7) -> 4.4074437 | J7: =(I7/E7)*100 -> 101.3712 | K7: =AVERAGE($J$4:$J$12) -> 101.19261 | L7: =(J7-K7) -> 0.17859939
A8: S EJL 8+ | B8: LB 8+ | C8: 6 | D8: 19 | E8: =1/((SUM(C8*60,D8))/2000) -> 5.2770449 | G8: 14 | H8: 5 | I8: =$F$3/(G8*60+H8) -> 5.3254438 | J8: =(I8/E8)*100 -> 100.91716 | K8: =AVERAGE($J$4:$J$12) -> 101.19261 | L8: =(J8-K8) -> -0.27544554
A9: S EJD 8+ | B9: DB8+ | C9: 7 | D9: 0 | E9: =1/((SUM(C9*60,D9))/2000) -> 4.7619048 | G9: 15 | H9: 39 | I9: =$F$3/(G9*60+H9) -> 4.7923323 | J9: =(I9/E9)*100 -> 100.63898 | K9: =AVERAGE($J$4:$J$12) -> 101.19261 | L9: =(J9-K9) -> -0.55362767
A10: G EJD 4+ | B10: DB4+ | C10: 7 | D10: 53 | E10: =1/((SUM(C10*60,D10))/2000) -> 4.2283298 | G10: 17 | H10: 43 | I10: =$F$3/(G10*60+H10) -> 4.233302 | J10: =(I10/E10)*100 -> 100.11759 | K10: =AVERAGE($J$4:$J$12) -> 101.19261 | L10: =(J10-K10) -> -1.0750136
A11: S EJZ 8+ | B11: B8+ | C11: 6 | D11: 8 | E11: =1/((SUM(C11*60,D11))/2000) -> 5.4347826 | G11: 13 | H11: 58 | I11: =$F$3/(G11*60+H11) -> 5.3699284 | J11: =(I11/E11)*100 -> 98.806683 | K11: =AVERAGE($J$4:$J$12) -> 101.19261 | L11: =(J11-K11) -> -2.3859227
A12: G EJZ 8+ | B12: B8+ | C12: 6 | D12: 8 | E12: =1/((SUM(C12*60,D12))/2000) -> 5.4347826 | G12: 14 | H12: 8 | I12: =$F$3/(G12*60+H12) -> 5.3066038 | J12: =(I12/E12)*100 -> 97.641509 | K12: =AVERAGE($J$4:$J$12) -> 101.19261 | L12: =(J12-K12) -> -3.5510959

Sheet Sheet1

Sheet Sheet2

Sheet 14-2-2016 (WWrex)
A1: Winterwedstrijden Rex 14 februari 2016
A4: EERSTE | C4: RICHTTIJD | F4: Afstand | J4: indiv. | K4: gem.
B5: Veld | C5: MIN | D5: SEC | E5: m/s | F5: 3000 | G5: MIN | H5: SEC | I5: m/s | J5: perc. | K5: perc. | L5: verschil | N5: Resultaat WW | O5: Ploegen in veld
A6: Gyas EJLD | B6: LDEj4* | C6: 7 | D6: 40 | E6: =1/((SUM(C6*60,D6))/2000) -> 4.3478261 | G6: 12 | H6: 13 | I6: =$F$5/(G6*60+H6) -> 4.0927694 | J6: =(I6/E6)*100 -> 94.133697 | K6: =AVERAGE($J$6:$J$17) -> 90.945663 | L6: =(J6-K6) -> 3.1880339 | N6: 1 | O6: 16
A7: Aegir EJD | B7: DB8+ | C7: 7 | D7: 0 | E7: =1/((SUM(C7*60,D7))/2000) -> 4.7619048 | G7: 11 | H7: 16 | I7: =$F$5/(G7*60+H7) -> 4.4378698 | J7: =(I7/E7)*100 -> 93.195266 | K7: =AVERAGE($J$6:$J$17) -> 90.945663 | L7: =(J7-K7) -> 2.249603 | N7: 1 | O7: 14
A8: Aegir EJLD | B8: LDEj4* | C8: 7 | D8: 40 | E8: =1/((SUM(C8*60,D8))/2000) -> 4.3478261 | G8: 12 | H8: 26 | I8: =$F$5/(G8*60+H8) -> 4.0214477 | J8: =(I8/E8)*100 -> 92.493298 | K8: =AVERAGE($J$6:$J$17) -> 90.945663 | L8: =(J8-K8) -> 1.5476343 | N8: 9 | O8: 16
A9: Gyas EJD | B9: DB4+ | C9: 7 | D9: 53 | E9: =1/((SUM(C9*60,D9))/2000) -> 4.2283298 | G9: 12 | H9: 48 | I9: =$F$5/(G9*60+H9) -> 3.90625 | J9: =(I9/E9)*100 -> 92.382812 | K9: =AVERAGE($J$6:$J$17) -> 90.945663 | L9: =(J9-K9) -> 1.4371492 | N9: 4 | O9: 7
A10: Gyas EJD | B10: DB8+ | C10: 7 | D10: 0 | E10: =1/((SUM(C10*60,D10))/2000) -> 4.7619048 | G10: 11 | H10: 27 | I10: =$F$5/(G10*60+H10) -> 4.3668122 | J10: =(I10/E10)*100 -> 91.703057 | K10: =AVERAGE($J$6:$J$17) -> 90.945663 | L10: =(J10-K10) -> 0.75739351 | N10: 4 | O10: 14
A11: Aegir EJL | B11: LB8+ | C11: 6 | D11: 19 | E11: =1/((SUM(C11*60,D11))/2000) -> 5.2770449 | G11: 10 | H11: 24 | I11: =$F$5/(G11*60+H11) -> 4.8076923 | J11: =(I11/E11)*100 -> 91.105769 | K11: =AVERAGE($J$6:$J$17) -> 90.945663 | L11: =(J11-K11) -> 0.16010597 | N11: 3 | O11: 16
A12: Gyas EJL | B12: LB8+ | C12: 6 | D12: 19 | E12: =1/((SUM(C12*60,D12))/2000) -> 5.2770449 | G12: 10 | H12: 28 | I12: =$F$5/(G12*60+H12) -> 4.7770701 | J12: =(I12/E12)*100 -> 90.525478 | K12: =AVERAGE($J$6:$J$17) -> 90.945663 | L12: =(J12-K12) -> -0.42018555 | N12: 4 | O12: 16
A13: Melvin | B13: SA1x | C13: 7 | D13: 15 | E13: =1/((SUM(C13*60,D13))/2000) -> 4.5977011 | G13: 12 | H13: 2 | I13: =$F$5/(G13*60+H13) -> 4.1551247 | J13: =(I13/E13)*100 -> 90.373961 | K13: =AVERAGE($J$6:$J$17) -> 90.945663 | L13: =(J13-K13) -> -0.57170204
A14: Gyas EJZ | B14: B8+ | C14: 6 | D14: 8 | E14: =1/((SUM(C14*60,D14))/2000) -> 5.4347826 | G14: 10 | H14: 11 | I14: =$F$5/(G14*60+H14) -> 4.9099836 | J14: =(I14/E14)*100 -> 90.343699 | K14: =AVERAGE($J$6:$J$17) -> 90.945663 | L14: =(J14-K14) -> -0.60196441 | N14: 4 | O14: 18
A15: Triton/Gyas/Aegir EJLD | B15: LDEj4* | C15: 7 | D15: 40 | E15: =1/((SUM(C15*60,D15))/2000) -> 4.3478261 | G15: 12 | H15: 44 | I15: =$F$5/(G15*60+H15) -> 3.9267016 | J15: =(I15/E15)*100 -> 90.314136 | K15: =AVERAGE($J$6:$J$17) -> 90.945663 | L15: =(J15-K15) -> -0.63152713 | N15: 10 | O15: 16
A16: Jacob | B16: B1x | C16: 7 | D16: 36 | E16: =1/((SUM(C16*60,D16))/2000) -> 4.3859649 | G16: 12 | H16: 48 | I16: =$F$5/(G16*60+H16) -> 3.90625 | J16: =(I16/E16)*100 -> 89.0625 | K16: =AVERAGE($J$6:$J$17) -> 90.945663 | L16: =(J16-K16) -> -1.8831633
A17: Aegir EJZ | B17: B8+ | C17: 6 | D17: 8 | E17: =1/((SUM(C17*60,D17))/2000) -> 5.4347826 | G17: 10 | H17: 44 | I17: =$F$5/(G17*60+H17) -> 4.6583851 | J17: =(I17/E17)*100 -> 85.714286 | K17: =AVERAGE($J$6:$J$17) -> 90.945663 | L17: =(J17-K17) -> -5.2313775 | N17: 6 | O17: 18
A20: Tweede | C20: RICHTTIJD | F20: Afstand | J20: indiv. | K20: gem.
B21: Veld | C21: MIN | D21: SEC | E21: m/s | F21: 3000 | G21: MIN | H21: SEC | I21: m/s | J21: perc. | K21: perc. | L21: verschil
A22: Gyas EJLD | B22: LDEj4* | C22: 7 | D22: 40 | E22: =1/((SUM(C22*60,D22))/2000) -> 4.3478261 | G22: 12 | H22: 44 | I22: =$F$5/(G22*60+H22) -> 3.9267016 | J22: =(I22/E22)*100 -> 90.314136 | K22: =AVERAGE($J$22:$J$33) -> 87.430555 | L22: =(J22-K22) -> 2.8835815 | N22: 1
A23: Aegir EJLD | B23: LDEj4* | C23: 7 | D23: 40 | E23: =1/((SUM(C23*60,D23))/2000) -> 4.3478261 | G23: 12 | H23: 52 | I23: =$F$5/(G23*60+H23) -> 3.8860104 | J23: =(I23/E23)*100 -> 89.378238 | K23: =AVERAGE($J$22:$J$33) -> 87.430555 | L23: =(J23-K23) -> 1.9476838 | N23: 9
A24: Aegir EJD | B24: DB8+ | C24: 7 | D24: 0 | E24: =1/((SUM(C24*60,D24))/2000) -> 4.7619048 | G24: 11 | H24: 51 | I24: =$F$5/(G24*60+H24) -> 4.2194093 | J24: =(I24/E24)*100 -> 88.607595 | K24: =AVERAGE($J$22:$J$33) -> 87.430555 | L24: =(J24-K24) -> 1.1770403 | N24: 1
A25: Jacob | B25: B1x | C25: 7 | D25: 36 | E25: =1/((SUM(C25*60,D25))/2000) -> 4.3859649 | G25: 12 | H25: 52 | I25: =$F$5/(G25*60+H25) -> 3.8860104 | J25: =(I25/E25)*100 -> 88.601036 | K25: =AVERAGE($J$22:$J$33) -> 87.430555 | L25: =(J25-K25) -> 1.1704817 | N25: DNS
A26: Aegir EJL | B26: LB8+ | C26: 6 | D26: 19 | E26: =1/((SUM(C26*60,D26))/2000) -> 5.2770449 | G26: 10 | H26: 48 | I26: =$F$5/(G26*60+H26) -> 4.6296296 | J26: =(I26/E26)*100 -> 87.731481 | K26: =AVERAGE($J$22:$J$33) -> 87.430555 | L26: =(J26-K26) -> 0.30092689 | N26: 3
A27: Gyas EJD | B27: DB4+ | C27: 7 | D27: 53 | E27: =1/((SUM(C27*60,D27))/2000) -> 4.2283298 | G27: 13 | H27: 35 | I27: =$F$5/(G27*60+H27) -> 3.6809816 | J27: =(I27/E27)*100 -> 87.055215 | K27: =AVERAGE($J$22:$J$33) -> 87.430555 | L27: =(J27-K27) -> -0.37533986 | N27: 4
A28: Triton/Gyas/Aegir EJLD | B28: LDEj4* | C28: 7 | D28: 40 | E28: =1/((SUM(C28*60,D28))/2000) -> 4.3478261 | G28: 13 | H28: 14 | I28: =$F$5/(G28*60+H28) -> 3.7783375 | J28: =(I28/E28)*100 -> 86.901763 | K28: =AVERAGE($J$22:$J$33) -> 87.430555 | L28: =(J28-K28) -> -0.52879136 | N28: 10
A29: Melvin | B29: SA1x | C29: 7 | D29: 15 | E29: =1/((SUM(C29*60,D29))/2000) -> 4.5977011 | G29: 12 | H29: 31 | I29: =$F$5/(G29*60+H29) -> 3.9946738 | J29: =(I29/E29)*100 -> 86.884154 | K29: =AVERAGE($J$22:$J$33) -> 87.430555 | L29: =(J29-K29) -> -0.54640013 | N29: DNS
A30: Gyas EJD | B30: DB8+ | C30: 7 | D30: 0 | E30: =1/((SUM(C30*60,D30))/2000) -> 4.7619048 | G30: 12 | H30: 7 | I30: =$F$5/(G30*60+H30) -> 4.1265475 | J30: =(I30/E30)*100 -> 86.657497 | K30: =AVERAGE($J$22:$J$33) -> 87.430555 | L30: =(J30-K30) -> -0.77305803 | N30: 4
A31: Gyas EJL | B31: LB8+ | C31: 6 | D31: 19 | E31: =1/((SUM(C31*60,D31))/2000) -> 5.2770449 | G31: 10 | H31: 58 | I31: =$F$5/(G31*60+H31) -> 4.5592705 | J31: =(I31/E31)*100 -> 86.398176 | K31: =AVERAGE($J$22:$J$33) -> 87.430555 | L31: =(J31-K31) -> -1.0323783 | N31: 4
A32: Gyas EJZ | B32: B8+ | C32: 6 | D32: 8 | E32: =1/((SUM(C32*60,D32))/2000) -> 5.4347826 | G32: 10 | H32: 44 | I32: =$F$5/(G32*60+H32) -> 4.6583851 | J32: =(I32/E32)*100 -> 85.714286 | K32: =AVERAGE($J$22:$J$33) -> 87.430555 | L32: =(J32-K32) -> -1.7162689 | N32: 4
A33: Aegir EJZ | B33: B8+ | C33: 6 | D33: 8 | E33: =1/((SUM(C33*60,D33))/2000) -> 5.4347826 | G33: 10 | H33: 50 | I33: =$F$5/(G33*60+H33) -> 4.6153846 | J33: =(I33/E33)*100 -> 84.923077 | K33: =AVERAGE($J$22:$J$33) -> 87.430555 | L33: =(J33-K33) -> -2.5074777 | N33: 6

Sheet 6-3-2016 (H4K rex)
A1: 700 meters 6 maart 2016
A4: Richting Gyas | C4: Streeftijd 2k | F4: Afstand | G4: Tijd over 700m | J4: indiv. | K4: gem. | L4: Resultaat
A5: Ploeg | B5: Veld | C5: MIN | D5: SEC | E5: m/s | F5: 700 | G5: MIN3 | H5: SEC4 | I5: m/s5 | J5: perc. | K5: perc.6 | L5: verschil
A6: OJL | B6: LSA8+ | C6: 6 | D6: 5 | E6: =1/((SUM(C6*60,D6))/2000) -> 5.4794521 | G6: 2 | H6: 2 | I6: =$F$5/(G6*60+H6) -> 5.7377049 | J6: =(I6/E6)*100 -> 104.71311 | K6: =AVERAGE($J$6:$J$10) -> 102.47133 | L6: =(J6-K6) -> 2.2417854
A7: EJD | B7: DB8+ | C7: 7 | D7: 0 | E7: =1/((SUM(C7*60,D7))/2000) -> 4.7619048 | G7: 2 | H7: 23 | I7: =$F$5/(G7*60+H7) -> 4.8951049 | J7: =(I7/E7)*100 -> 102.7972 | K7: =AVERAGE($J$6:$J$9) -> 102.47133 | L7: =(J7-K7) -> 0.32587341
A8: OJZ | B8: SA8+ | C8: 5 | D8: 51 | E8: =1/((SUM(C8*60,D8))/2000) -> 5.6980057 | G8: 2 | H8: 0 | I8: =$F$5/(G8*60+H8) -> 5.8333333 | J8: =(I8/E8)*100 -> 102.375 | K8: =AVERAGE($J$6:$J$10) -> 102.47133 | L8: =(J8-K8) -> -0.096329388
A9: EJD Combi | B9: DB8+ | C9: 7 | D9: 0 | E9: =1/((SUM(C9*60,D9))/2000) -> 4.7619048 | G9: 2 | H9: 27 | I9: =$F$5/(G9*60+H9) -> 4.7619048 | J9: =(I9/E9)*100 -> 100 | K9: =AVERAGE($J$6:$J$10) -> 102.47133 | L9: =(J9-K9) -> -2.4713294
A10: Richting Haren
A11: Ploeg | B11: Veld | C11: MIN | D11: SEC | E11: m/s | F11: 700 | G11: MIN3 | H11: SEC4 | I11: m/s5 | J11: perc. | K11: perc.6 | L11: verschil
A12: OJL | B12: LSA8+ | C12: 6 | D12: 5 | E12: =1/((SUM(C12*60,D12))/2000) -> 5.4794521 | G12: 2 | H12: 10 | I12: =$F$5/(G12*60+H12) -> 5.3846154 | J12: =(I12/E12)*100 -> 98.269231 | K12: =AVERAGE($J$12:$J$15) -> 96.233576 | L12: =(J12-K12) -> 2.0356551
A13: EJD | B13: DB8+ | C13: 7 | D13: 0 | E13: =1/((SUM(C13*60,D13))/2000) -> 4.7619048 | G13: 2 | H13: 32 | I13: =$F$5/(G13*60+H13) -> 4.6052632 | J13: =(I13/E13)*100 -> 96.710526 | K13: =AVERAGE($J$12:$J$15) -> 96.233576 | L13: =(J13-K13) -> 0.47695068
A14: EJD Combi | B14: DB8+ | C14: 7 | D14: 0 | E14: =1/((SUM(C14*60,D14))/2000) -> 4.7619048 | G14: 2 | H14: 34 | I14: =$F$5/(G14*60+H14) -> 4.5454545 | J14: =(I14/E14)*100 -> 95.454545 | K14: =AVERAGE($J$12:$J$15) -> 96.233576 | L14: =(J14-K14) -> -0.77903018
A15: OJZ | B15: SA8+ | C15: 5 | D15: 51 | E15: =1/((SUM(C15*60,D15))/2000) -> 5.6980057 | G15: 2 | H15: 10 | I15: =$F$5/(G15*60+H15) -> 5.3846154 | J15: =(I15/E15)*100 -> 94.5 | K15: =AVERAGE($J$12:$J$15) -> 96.233576 | L15: =(J15-K15) -> -1.7335756
A18: Richting Gyas | B18: 700m | F18: Afstand | J18: indiv. | K18: gem.
A19: Kolom1 | B19: Kolom2 | C19: MIN | D19: SEC | E19: m/s | F19: 700 | G19: MIN3 | H19: SEC4 | I19: m/s5 | J19: perc. | K19: perc.6 | L19: verschil
A20: OJD | B20: DSA8+ | C20: 6 | D20: 39 | E20: =1/((SUM(C20*60,D20))/2000) -> 5.0125313 | G20: 2 | H20: 16 | I20: =$F$5/(G20*60+H20) -> 5.1470588 | J20: =(I20/E20)*100 -> 102.68382 | K20: =AVERAGE($J$20:$J$25) -> 98.412191 | L20: =(J20-K20) -> 4.2716328
A21: EJL | B21: LB8+ | C21: 6 | D21: 19 | E21: =1/((SUM(C21*60,D21))/2000) -> 5.2770449 | G21: 2 | H21: 12 | I21: =$F$5/(G21*60+H21) -> 5.3030303 | J21: =(I21/E21)*100 -> 100.49242 | K21: =AVERAGE($J$20:$J$25) -> 98.412191 | L21: =(J21-K21) -> 2.0802335
A22: ELJD 2X | B22: LDN2X | C22: 7 | D22: 58 | E22: =1/((SUM(C22*60,D22))/2000) -> 4.1841004 | G22: 2 | H22: 52 | I22: =$F$5/(G22*60+H22) -> 4.0697674 | J22: =(I22/E22)*100 -> 97.267442 | K22: =AVERAGE($J$20:$J$25) -> 98.412191 | L22: =(J22-K22) -> -1.1447489
A23: EJZ | B23: B8+ | C23: 6 | D23: 8 | E23: =1/((SUM(C23*60,D23))/2000) -> 5.4347826 | G23: 2 | H23: 12 | I23: =$F$5/(G23*60+H23) -> 5.3030303 | J23: =(I23/E23)*100 -> 97.575758 | K23: =AVERAGE($J$20:$J$25) -> 98.412191 | L23: =(J23-K23) -> -0.83643317
A24: EJLD 4* | B24: LDEJ4* | C24: 7 | D24: 40 | E24: =1/((SUM(C24*60,D24))/2000) -> 4.3478261 | G24: 2 | H24: 47 | I24: =$F$5/(G24*60+H24) -> 4.1916168 | J24: =(I24/E24)*100 -> 96.407186 | K24: =AVERAGE($J$20:$J$25) -> 98.412191 | L24: =(J24-K24) -> -2.0050051
A25: CLUB 4* | B25: DCL4* | C25: 7 | D25: 52 | E25: =1/((SUM(C25*60,D25))/2000) -> 4.2372881 | G25: 2 | H25: 52 | I25: =$F$5/(G25*60+H25) -> 4.0697674 | J25: =(I25/E25)*100 -> 96.046512 | K25: =AVERAGE($J$20:$J$25) -> 98.412191 | L25: =(J25-K25) -> -2.3656791
A26: Richting Haren
A27: Kolom1 | B27: Kolom2 | C27: Kolom3 | D27: Kolom4 | E27: Kolom5 | F27: Kolom6 | G27: Kolom7 | H27: Kolom8 | I27: Kolom9 | J27: Kolom10 | K27: Kolom11 | L27: Kolom12
A28: OJD | B28: DSA8+ | C28: 6 | D28: 39 | E28: =1/((SUM(C28*60,D28))/2000) -> 5.0125313 | G28: 2 | H28: 13 | I28: =$F$5/(G28*60+H28) -> 5.2631579 | J28: =(I28/E28)*100 -> 105 | K28: =AVERAGE($J$28:$J$34) -> 99.901034 | L28: =(J28-K28) -> 5.0989658
A29: EJL | B29: LB8+ | C29: 6 | D29: 19 | E29: =1/((SUM(C29*60,D29))/2000) -> 5.2770449 | G29: 2 | H29: 9 | I29: =$F$5/(G29*60+H29) -> 5.4263566 | J29: =(I29/E29)*100 -> 102.82946 | K29: =AVERAGE($J$28:$J$34) -> 99.901034 | L29: =(J29-K29) -> 2.9284232
A30: EJZ | B30: B8+ | C30: 6 | D30: 8 | E30: =1/((SUM(C30*60,D30))/2000) -> 5.4347826 | G30: 2 | H30: 8 | I30: =$F$5/(G30*60+H30) -> 5.46875 | J30: =(I30/E30)*100 -> 100.625 | K30: =AVERAGE($J$28:$J$34) -> 99.901034 | L30: =(J30-K30) -> 0.72396583
A31: EJLD 4* | B31: LDEJ4* | C31: 7 | D31: 40 | E31: =1/((SUM(C31*60,D31))/2000) -> 4.3478261 | G31: 2 | H31: 41 | I31: =$F$5/(G31*60+H31) -> 4.3478261 | J31: =(I31/E31)*100 -> 100 | K31: =AVERAGE($J$28:$J$34) -> 99.901034 | L31: =(J31-K31) -> 0.098965835
A32: GEERT | B32: N1X | C32: 7 | D32: 31 | E32: =1/((SUM(C32*60,D32))/2000) -> 4.4345898 | G32: 2 | H32: 40 | I32: =$F$5/(G32*60+H32) -> 4.375 | J32: =(I32/E32)*100 -> 98.65625 | K32: =AVERAGE($J$28:$J$34) -> 99.901034 | L32: =(J32-K32) -> -1.2447842
A33: ELJD 2X | B33: LDN2X | C33: 7 | D33: 58 | E33: =1/((SUM(C33*60,D33))/2000) -> 4.1841004 | G33: 2 | H33: 53 | I33: =$F$5/(G33*60+H33) -> 4.0462428 | J33: =(I33/E33)*100 -> 96.705202 | K33: =AVERAGE($J$28:$J$34) -> 99.901034 | L33: =(J33-K33) -> -3.1958319
A34: CLUB 4* | B34: DCL4* | C34: 7 | D34: 52 | E34: =1/((SUM(C34*60,D34))/2000) -> 4.2372881 | G34: 2 | H34: 53 | I34: =$F$5/(G34*60+H34) -> 4.0462428 | J34: =(I34/E34)*100 -> 95.491329 | K34: =AVERAGE($J$28:$J$34) -> 99.901034 | L34: =(J34-K34) -> -4.4097047
A38: Totaal (2 bij elkaar op) | F38: Gemiddelde beide heats | J38: indiv. | K38: gem. | N38: Resultaat H4K 750m | O38: Ploegen in veld
A39: Kolom1 | B39: Kolom2 | C39: MIN | D39: SEC | E39: m/s | F39: 700 | G39: MIN3 | H39: SEC4 | I39: m/s5 | J39: perc. | K39: perc.6 | L39: verschil
A40: OJD | B40: DSA8+ | C40: 6 | D40: 39 | E40: =1/((SUM(C40*60,D40))/2000) -> 5.0125313 | G40: 2 | H40: 15 | I40: =$F$39/(G40*60+H40) -> 5.1851852 | J40: =(I40/E40)*100 -> 103.44444 | K40: =AVERAGE($J$40:$J$49) -> 99.116806 | L40: =(J40-K40) -> 4.3276389 | N40: 1 | O40: 5
A41: OJL | B41: LSA8+ | C41: 6 | D41: 5 | E41: =1/((SUM(C41*60,D41))/2000) -> 5.4794521 | G41: 2 | H41: 6 | I41: =$F$39/(G41*60+H41) -> 5.5555556 | J41: =(I41/E41)*100 -> 101.38889 | K41: =AVERAGE($J$40:$J$49) -> 99.116806 | L41: =(J41-K41) -> 2.2720834 | N41: 2 | O41: 4
A42: EJL | B42: LB8+ | C42: 6 | D42: 19 | E42: =1/((SUM(C42*60,D42))/2000) -> 5.2770449 | G42: 2 | H42: 11 | I42: =$F$39/(G42*60+H42) -> 5.3435115 | J42: =(I42/E42)*100 -> 101.25954 | K42: =AVERAGE($J$40:$J$49) -> 99.116806 | L42: =(J42-K42) -> 2.1427365 | N42: 1 | O42: 18
A43: EJD | B43: DB8+ | C43: 7 | D43: 0 | E43: =1/((SUM(C43*60,D43))/2000) -> 4.7619048 | G43: 2 | H43: 27 | I43: =$F$39/(G43*60+H43) -> 4.7619048 | J43: =(I43/E43)*100 -> 100 | K43: =AVERAGE($J$40:$J$49) -> 99.116806 | L43: =(J43-K43) -> 0.88319447 | N43: 1 | O43: 17
A44: EJZ | B44: B8+ | C44: 6 | D44: 8 | E44: =1/((SUM(C44*60,D44))/2000) -> 5.4347826 | G44: 2 | H44: 10 | I44: =$F$39/(G44*60+H44) -> 5.3846154 | J44: =(I44/E44)*100 -> 99.076923 | K44: =AVERAGE($J$40:$J$49) -> 99.116806 | L44: =(J44-K44) -> -0.03988245 | N44: 3 | O44: 19
A45: OJZ | B45: SA8+ | C45: 5 | D45: 51 | E45: =1/((SUM(C45*60,D45))/2000) -> 5.6980057 | G45: 2 | H45: 5 | I45: =$F$39/(G45*60+H45) -> 5.6 | J45: =(I45/E45)*100 -> 98.28 | K45: =AVERAGE($J$40:$J$49) -> 99.116806 | L45: =(J45-K45) -> -0.83680553 | N45: dns
A46: EJLD 4* | B46: LDEJ4* | C46: 7 | D46: 40 | E46: =1/((SUM(C46*60,D46))/2000) -> 4.3478261 | G46: 2 | H46: 44 | I46: =$F$39/(G46*60+H46) -> 4.2682927 | J46: =(I46/E46)*100 -> 98.170732 | K46: =AVERAGE($J$40:$J$49) -> 99.116806 | L46: =(J46-K46) -> -0.94607382 | N46: 1 | O46: 19
A47: EJD Combi | B47: DB8+ | C47: 7 | D47: 0 | E47: =1/((SUM(C47*60,D47))/2000) -> 4.7619048 | G47: 2 | H47: 31 | I47: =$F$39/(G47*60+H47) -> 4.6357616 | J47: =(I47/E47)*100 -> 97.350993 | K47: =AVERAGE($J$40:$J$49) -> 99.116806 | L47: =(J47-K47) -> -1.7658121 | N47: 1 | O47: 25 | P47: clubveld
A48: ELJD 2X | B48: LDN2X | C48: 7 | D48: 58 | E48: =1/((SUM(C48*60,D48))/2000) -> 4.1841004 | G48: 2 | H48: 53 | I48: =$F$39/(G48*60+H48) -> 4.0462428 | J48: =(I48/E48)*100 -> 96.705202 | K48: =AVERAGE($J$40:$J$49) -> 99.116806 | L48: =(J48-K48) -> -2.4116032 | N48: dns
A49: CLUB 4* | B49: DCL4* | C49: 7 | D49: 52 | E49: =1/((SUM(C49*60,D49))/2000) -> 4.2372881 | G49: 2 | H49: 53 | I49: =$F$39/(G49*60+H49) -> 4.0462428 | J49: =(I49/E49)*100 -> 95.491329 | K49: =AVERAGE($J$40:$J$49) -> 99.116806 | L49: =(J49-K49) -> -3.625476 | N49: 16 | O49: 19 | P49: EJLD veld
B52: 1e 200 | C52: 2e 200 | D52: 3e 200
A53: EJLD 2x | B53: 0.00057175926 | C53: 0.00057523148
A54: Clubdames 4* | B54: 0.00052083333 | C54: 0.00055092593
A55: EJLD 4* | B55: 0.00052777778 | C55: 0.00052349537
A56: Hunze DCL8 | B56: 0.00054398148
A57: Geert | B57: 0.00047453704 | C57: 0.00047685185
A58: OJD | B58: 0.00040509259
A59: EJL | B59: 0.00039351852 | C59: 0.00041087963 | D59: 0.00039467593
A60: EJZ | B60: 0.00039351852 | C60: 0.00041087963 | D60: 0.042077546
A62: OJZ | B62: 0.0003587963 | C62: 0.00038657407 | D62: 0.00038194444
A63: OJL | B63: 0.0003587963 | C63: 0.00039131944 | D63: 0.00038194444
A64: EJD COMBI | B64: 0.00043981481 | C64: 0.00046296296 | D64: 0.00042476852
A65: EJD | B65: 0.0004224537 | C65: 0.00046180556 | D65: 0.00042824074

Sheet 3-4-2016 (Bosbaan rex)
A1: Bosbaan rex 3 april 2016
A2: 1500m en 1000m vanuit vaste start (startlijn Bosbaan)
A3: 1500 | C3: RICHTTIJD | F3: Afstand | J3: indiv. | K3: gem. | N3: Resultaat Varsity | O3: # deelnemers
B4: Veld | C4: MIN | D4: SEC | E4: m/s | F4: 1500 | G4: MIN | H4: SEC | I4: m/s | J4: perc. | K4: perc. | L4: verschil
A5: Gyas EJL8 | B5: LB8+ | C5: 6 | D5: 19 | E5: =1/((SUM(C5*60,D5))/2000) -> 5.2770449 | G5: 4 | H5: 32 | I5: =$F$4/(G5*60+H5) -> 5.5147059 | J5: =(I5/E5)*100 -> 104.50368 | K5: =AVERAGE($J$5:$J$17) -> 100.81644 | L5: =(J5-K5) -> 3.6872315 | N5: -
A6: Gyas EJD8 | B6: DB8+ | C6: 7 | D6: 0 | E6: =1/((SUM(C6*60,D6))/2000) -> 4.7619048 | G6: 5 | H6: 4 | I6: =$F$4/(G6*60+H6) -> 4.9342105 | J6: =(I6/E6)*100 -> 103.61842 | K6: =AVERAGE($J$5:$J$17) -> 100.81644 | L6: =(J6-K6) -> 2.8019761 | N6: 1 | O6: 15
A7: Gyas EJZ 8 | B7: B8+ | C7: 6 | D7: 8 | E7: =1/((SUM(C7*60,D7))/2000) -> 5.4347826 | G7: 4 | H7: 27 | I7: =$F$4/(G7*60+H7) -> 5.6179775 | J7: =(I7/E7)*100 -> 103.37079 | K7: =AVERAGE($J$5:$J$17) -> 100.81644 | L7: =(J7-K7) -> 2.5543415 | N7: 6 | O7: 14
A8: Okeanos MGL2- | B8: LN2- | C8: 7 | D8: 27 | E8: =1/((SUM(C8*60,D8))/2000) -> 4.4742729 | G8: 5 | H8: 29 | I8: =$F$4/(G8*60+H8) -> 4.5592705 | J8: =(I8/E8)*100 -> 101.8997 | K8: =AVERAGE($J$5:$J$17) -> 100.81644 | L8: =(J8-K8) -> 1.0832511 | N8: 1 | O8: 6
A9: Gyas EJD4+ | B9: DB4+ | C9: 7 | D9: 53 | E9: =1/((SUM(C9*60,D9))/2000) -> 4.2283298 | G9: 5 | H9: 49 | I9: =$F$4/(G9*60+H9) -> 4.2979943 | J9: =(I9/E9)*100 -> 101.64756 | K9: =AVERAGE($J$5:$J$17) -> 100.81644 | L9: =(J9-K9) -> 0.83111948 | N9: 7 | O9: 11
A10: Okeanos MGZ 2- | B10: N2- | C10: 7 | D10: 20 | E10: =1/((SUM(C10*60,D10))/2000) -> 4.5454545 | G10: 5 | H10: 27 | I10: =$F$4/(G10*60+H10) -> 4.587156 | J10: =(I10/E10)*100 -> 100.91743 | K10: =AVERAGE($J$5:$J$17) -> 100.81644 | L10: =(J10-K10) -> 0.1009862 | N10: -
A11: Skoll EJL8 | B11: LB8+ | C11: 6 | D11: 19 | E11: =1/((SUM(C11*60,D11))/2000) -> 5.2770449 | G11: 4 | H11: 42 | I11: =$F$4/(G11*60+H11) -> 5.3191489 | J11: =(I11/E11)*100 -> 100.79787 | K11: =AVERAGE($J$5:$J$17) -> 100.81644 | L11: =(J11-K11) -> -0.018572651 | N11: 8 | O11: 15
A12: Skoll EJZ8 | B12: B8+ | C12: 6 | D12: 8 | E12: =1/((SUM(C12*60,D12))/2000) -> 5.4347826 | G12: 4 | H12: 34 | I12: =$F$4/(G12*60+H12) -> 5.4744526 | J12: =(I12/E12)*100 -> 100.72993 | K12: =AVERAGE($J$5:$J$17) -> 100.81644 | L12: =(J12-K12) -> -0.086517984 | N12: 3 | O12: 14
A13: Phocas EJL8 | B13: LB8+ | C13: 6 | D13: 19 | E13: =1/((SUM(C13*60,D13))/2000) -> 5.2770449 | G13: 4 | H13: 44 | I13: =$F$4/(G13*60+H13) -> 5.2816901 | J13: =(I13/E13)*100 -> 100.08803 | K13: =AVERAGE($J$5:$J$17) -> 100.81644 | L13: =(J13-K13) -> -0.72841682 | N13: 12 | O13: 15
A14: Gyas EJLD 2x | B14: LDN2x | C14: 7 | D14: 58 | E14: =1/((SUM(C14*60,D14))/2000) -> 4.1841004 | G14: 5 | H14: 59 | I14: =$F$4/(G14*60+H14) -> 4.178273 | J14: =(I14/E14)*100 -> 99.860724 | K14: =AVERAGE($J$5:$J$17) -> 100.81644 | L14: =(J14-K14) -> -0.95572076
A15: Okeanos EJL8 | B15: LB8+ | C15: 6 | D15: 19 | E15: =1/((SUM(C15*60,D15))/2000) -> 5.2770449 | G15: 4 | H15: 46 | I15: =$F$4/(G15*60+H15) -> 5.2447552 | J15: =(I15/E15)*100 -> 99.388112 | K15: =AVERAGE($J$5:$J$17) -> 100.81644 | L15: =(J15-K15) -> -1.4283331 | N15: 10 | O15: 15
A16: Gyas EJLD4* | B16: LDEj4* | C16: 7 | D16: 40 | E16: =1/((SUM(C16*60,D16))/2000) -> 4.3478261 | G16: 5 | H16: 48 | I16: =$F$4/(G16*60+H16) -> 4.3103448 | J16: =(I16/E16)*100 -> 99.137931 | K16: =AVERAGE($J$5:$J$17) -> 100.81644 | L16: =(J16-K16) -> -1.678514 | N16: 8 | O16: 16
A17: Okeanos EJZ4+ | B17: B4+ | C17: 6 | D17: 59 | E17: =1/((SUM(C17*60,D17))/2000) -> 4.7732697 | G17: 5 | H17: 32 | I17: =$F$4/(G17*60+H17) -> 4.5180723 | J17: =(I17/E17)*100 -> 94.653614 | K17: =AVERAGE($J$5:$J$17) -> 100.81644 | L17: =(J17-K17) -> -6.1628305 | N17: 14 | O17: 14
A19: 1000 | C19: RICHTTIJD | F19: Afstand | J19: indiv. | K19: gem.
B20: Veld | C20: MIN | D20: SEC | E20: m/s | F20: 1000 | G20: MIN | H20: SEC | I20: m/s | J20: perc. | K20: perc. | L20: verschil
A21: Gyas EJL8 | B21: LB8+ | C21: 6 | D21: 19 | E21: =1/((SUM(C21*60,D21))/2000) -> 5.2770449 | G21: 3 | H21: 0 | I21: =$F$20/(G21*60+H21) -> 5.5555556 | J21: =(I21/E21)*100 -> 105.27778 | K21: =AVERAGE($J$21:$J$30) -> 102.02091 | L21: =(J21-K21) -> 3.2568685
A22: Gyas EJD8 | B22: DB8+ | C22: 7 | D22: 0 | E22: =1/((SUM(C22*60,D22))/2000) -> 4.7619048 | G22: 3 | H22: 21 | I22: =$F$20/(G22*60+H22) -> 4.9751244 | J22: =(I22/E22)*100 -> 104.47761 | K22: =AVERAGE($J$21:$J$30) -> 102.02091 | L22: =(J22-K22) -> 2.4567027
A23: Gyas EJD4+ | B23: DB4+ | C23: 7 | D23: 53 | E23: =1/((SUM(C23*60,D23))/2000) -> 4.2283298 | G23: 3 | H23: 49 | I23: =$F$20/(G23*60+H23) -> 4.3668122 | J23: =(I23/E23)*100 -> 103.27511 | K23: =AVERAGE($J$21:$J$30) -> 102.02091 | L23: =(J23-K23) -> 1.2541999
A24: Gyas EJZ 8 | B24: B8+ | C24: 6 | D24: 8 | E24: =1/((SUM(C24*60,D24))/2000) -> 5.4347826 | G24: 2 | H24: 59 | I24: =$F$20/(G24*60+H24) -> 5.5865922 | J24: =(I24/E24)*100 -> 102.7933 | K24: =AVERAGE($J$21:$J$30) -> 102.02091 | L24: =(J24-K24) -> 0.77238683
A25: Phocas EJL8 | B25: LB8+ | C25: 6 | D25: 19 | E25: =1/((SUM(C25*60,D25))/2000) -> 5.2770449 | G25: 3 | H25: 6 | I25: =$F$20/(G25*60+H25) -> 5.3763441 | J25: =(I25/E25)*100 -> 101.88172 | K25: =AVERAGE($J$21:$J$30) -> 102.02091 | L25: =(J25-K25) -> -0.13918882
A26: Phocas EJD4 | B26: DB4+ | C26: 7 | D26: 53 | E26: =1/((SUM(C26*60,D26))/2000) -> 4.2283298 | G26: 3 | H26: 53 | I26: =$F$20/(G26*60+H26) -> 4.2918455 | J26: =(I26/E26)*100 -> 101.50215 | K26: =AVERAGE($J$21:$J$30) -> 102.02091 | L26: =(J26-K26) -> -0.51876333 | N26: 2 | O26: 11
A27: Skoll EJL8 | B27: LB8+ | C27: 6 | D27: 19 | E27: =1/((SUM(C27*60,D27))/2000) -> 5.2770449 | G27: 3 | H27: 7 | I27: =$F$20/(G27*60+H27) -> 5.3475936 | J27: =(I27/E27)*100 -> 101.3369 | K27: =AVERAGE($J$21:$J$30) -> 102.02091 | L27: =(J27-K27) -> -0.68401086
A28: Skoll EJZ8 | B28: B8+ | C28: 6 | D28: 8 | E28: =1/((SUM(C28*60,D28))/2000) -> 5.4347826 | G28: 3 | H28: 3 | I28: =$F$20/(G28*60+H28) -> 5.4644809 | J28: =(I28/E28)*100 -> 100.54645 | K28: =AVERAGE($J$21:$J$30) -> 102.02091 | L28: =(J28-K28) -> -1.4744612
A29: Gyas EJLD 2x | B29: DB8+ | C29: 7 | D29: 58 | E29: =1/((SUM(C29*60,D29))/2000) -> 4.1841004 | G29: 3 | H29: 58 | I29: =$F$20/(G29*60+H29) -> 4.2016807 | J29: =(I29/E29)*100 -> 100.42017 | K29: =AVERAGE($J$21:$J$30) -> 102.02091 | L29: =(J29-K29) -> -1.6007412
A30: Okeanos EJL8 | B30: LB8+ | C30: 6 | D30: 19 | E30: =1/((SUM(C30*60,D30))/2000) -> 5.2770449 | G30: 3 | H30: 12 | I30: =$F$20/(G30*60+H30) -> 5.2083333 | J30: =(I30/E30)*100 -> 98.697917 | K30: =AVERAGE($J$21:$J$30) -> 102.02091 | L30: =(J30-K30) -> -3.3229926
A31: Phocas EJD8 | B31: DB8+ | C31: 7 | D31: 0 | E31: =1/((SUM(C31*60,D31))/2000) -> 4.7619048 | G31: 3 | H31: 34 | I31: =$F$20/(G31*60+H31) -> 4.6728972 | J31: =(I31/E31)*100 -> 98.130841 | K31: =AVERAGE($J$21:$J$30) -> 102.02091 | L31: =(J31-K31) -> -3.8900681 | N31: 7 | O31: 15
A32: Gyas EJLD4* | B32: LDEj4* | C32: 7 | D32: 40 | E32: =1/((SUM(C32*60,D32))/2000) -> 4.3478261 | G32: 3 | H32: 56 | I32: =$F$20/(G32*60+H32) -> 4.2372881 | J32: =(I32/E32)*100 -> 97.457627 | K32: =AVERAGE($J$21:$J$30) -> 102.02091 | L32: =(J32-K32) -> -4.5632821
A33: Okeanos EJZ4+ | B33: B4+ | C33: 6 | D33: 59 | E33: =1/((SUM(C33*60,D33))/2000) -> 4.7732697 | G33: 3 | H33: 42 | I33: =$F$20/(G33*60+H33) -> 4.5045045 | J33: =(I33/E33)*100 -> 94.369369 | K33: =AVERAGE($J$21:$J$30) -> 102.02091 | L33: =(J33-K33) -> -7.6515399

Sheet 17-4-2016 (Westelijke rex)
A1: Westelijke rex 17 april
A2: 3x 1000 meter; 1x doorstart, 2x vaste start
A3: 1000 | C3: RICHTTIJD | F3: Afstand | J3: indiv. | K3: gem.
B4: Veld | C4: MIN | D4: SEC | E4: m/s | F4: 1000 | G4: MIN | H4: SEC | I4: m/s | J4: perc. | K4: perc. | L4: verschil
A5: EJD4+ | B5: DB4+ | C5: 7 | D5: 53 | E5: =1/((SUM(C5*60,D5))/2000) -> 4.2283298 | G5: 4 | H5: 10 | I5: =$F$4/(G5*60+H5) -> 4 | J5: =(I5/E5)*100 -> 94.6 | K5: =AVERAGE($J$5:$J$14) -> 91.391118 | L5: =(J5-K5) -> 3.2088823
A6: MGL2- | B6: LN2- | C6: 7 | D6: 27 | E6: =1/((SUM(C6*60,D6))/2000) -> 4.4742729 | G6: 3 | H6: 58 | I6: =$F$4/(G6*60+H6) -> 4.2016807 | J6: =(I6/E6)*100 -> 93.907563 | K6: =AVERAGE($J$5:$J$14) -> 91.391118 | L6: =(J6-K6) -> 2.5164453
A7: EJL8 | B7: LB8+ | C7: 6 | D7: 19 | E7: =1/((SUM(C7*60,D7))/2000) -> 5.2770449 | G7: 3 | H7: 25 | I7: =$F$4/(G7*60+H7) -> 4.8780488 | J7: =(I7/E7)*100 -> 92.439024 | K7: =AVERAGE($J$5:$J$14) -> 91.391118 | L7: =(J7-K7) -> 1.0479066
A8: EJLD 4* | B8: LDEj4* | C8: 7 | D8: 40 | E8: =1/((SUM(C8*60,D8))/2000) -> 4.3478261 | G8: 4 | H8: 9 | I8: =$F$4/(G8*60+H8) -> 4.0160643 | J8: =(I8/E8)*100 -> 92.369478 | K8: =AVERAGE($J$5:$J$14) -> 91.391118 | L8: =(J8-K8) -> 0.97836017
A9: MGZ 4- | B9: N4- | C9: 6 | D9: 33 | E9: =1/((SUM(C9*60,D9))/2000) -> 5.0890585 | G9: 3 | H9: 35 | I9: =$F$4/(G9*60+H9) -> 4.6511628 | J9: =(I9/E9)*100 -> 91.395349 | K9: =AVERAGE($J$5:$J$14) -> 91.391118 | L9: =(J9-K9) -> 0.004231093
A10: EJD8 | B10: DEj8+ | C10: 6 | D10: 58 | E10: =1/((SUM(C10*60,D10))/2000) -> 4.784689 | G10: 3 | H10: 49 | I10: =$F$4/(G10*60+H10) -> 4.3668122 | J10: =(I10/E10)*100 -> 91.266376 | K10: =AVERAGE($J$5:$J$14) -> 91.391118 | L10: =(J10-K10) -> -0.1247422
A11: MGD 4- | B11: DO4- | C11: 7 | D11: 13 | E11: =1/((SUM(C11*60,D11))/2000) -> 4.6189376 | G11: 3 | H11: 58 | I11: =$F$4/(G11*60+H11) -> 4.2016807 | J11: =(I11/E11)*100 -> 90.966387 | K11: =AVERAGE($J$5:$J$14) -> 91.391118 | L11: =(J11-K11) -> -0.42473119
A12: EJLD 2x | B12: LDN2x | C12: 7 | D12: 58 | E12: =1/((SUM(C12*60,D12))/2000) -> 4.1841004 | G12: 4 | H12: 26 | I12: =$F$4/(G12*60+H12) -> 3.7593985 | J12: =(I12/E12)*100 -> 89.849624 | K12: =AVERAGE($J$5:$J$14) -> 91.391118 | L12: =(J12-K12) -> -1.5414937
A13: Reinier | B13: LB1x | C13: 7 | D13: 44 | E13: =1/((SUM(C13*60,D13))/2000) -> 4.3103448 | G13: 4 | H13: 19 | I13: =$F$4/(G13*60+H13) -> 3.8610039 | J13: =(I13/E13)*100 -> 89.57529 | K13: =AVERAGE($J$5:$J$14) -> 91.391118 | L13: =(J13-K13) -> -1.8158282
A14: Sarika | B14: LDB1x | C14: 8 | D14: 40 | E14: =1/((SUM(C14*60,D14))/2000) -> 3.8461538 | G14: 4 | H14: 57 | I14: =$F$4/(G14*60+H14) -> 3.3670034 | J14: =(I14/E14)*100 -> 87.542088 | K14: =AVERAGE($J$5:$J$14) -> 91.391118 | L14: =(J14-K14) -> -3.8490302
A15: 1000 | C15: RICHTTIJD | F15: Afstand | J15: indiv. | K15: gem.
B16: Veld | C16: MIN | D16: SEC | E16: m/s | F16: 1000 | G16: MIN | H16: SEC | I16: m/s | J16: perc. | K16: perc. | L16: verschil
A17: MGL2- | B17: LN2- | C17: 7 | D17: 27 | E17: =1/((SUM(C17*60,D17))/2000) -> 4.4742729 | G17: 3 | H17: 39 | I17: =$F$16/(G17*60+H17) -> 4.56621 | J17: =(I17/E17)*100 -> 102.05479 | K17: =AVERAGE($J$17:$J$26) -> 98.46184 | L17: =(J17-K17) -> 3.5929546
A18: Reinier | B18: LB1x | C18: 7 | D18: 44 | E18: =1/((SUM(C18*60,D18))/2000) -> 4.3103448 | G18: 3 | H18: 51 | I18: =$F$16/(G18*60+H18) -> 4.3290043 | J18: =(I18/E18)*100 -> 100.4329 | K18: =AVERAGE($J$17:$J$26) -> 98.46184 | L18: =(J18-K18) -> 1.9710605
A19: MGD 4- | B19: DO4- | C19: 7 | D19: 13 | E19: =1/((SUM(C19*60,D19))/2000) -> 4.6189376 | G19: 3 | H19: 36 | I19: =$F$16/(G19*60+H19) -> 4.6296296 | J19: =(I19/E19)*100 -> 100.23148 | K19: =AVERAGE($J$17:$J$26) -> 98.46184 | L19: =(J19-K19) -> 1.7696416
A20: EJD4+ | B20: DB4+ | C20: 7 | D20: 53 | E20: =1/((SUM(C20*60,D20))/2000) -> 4.2283298 | G20: 3 | H20: 59 | I20: =$F$16/(G20*60+H20) -> 4.1841004 | J20: =(I20/E20)*100 -> 98.953975 | K20: =AVERAGE($J$17:$J$26) -> 98.46184 | L20: =(J20-K20) -> 0.49213497
A21: EJLD 4* | B21: LDEj4* | C21: 7 | D21: 40 | E21: =1/((SUM(C21*60,D21))/2000) -> 4.3478261 | G21: 3 | H21: 53 | I21: =$F$16/(G21*60+H21) -> 4.2918455 | J21: =(I21/E21)*100 -> 98.712446 | K21: =AVERAGE($J$17:$J$26) -> 98.46184 | L21: =(J21-K21) -> 0.25060643
A22: EJL8 | B22: LB8+ | C22: 6 | D22: 19 | E22: =1/((SUM(C22*60,D22))/2000) -> 5.2770449 | G22: 3 | H22: 13 | I22: =$F$16/(G22*60+H22) -> 5.1813472 | J22: =(I22/E22)*100 -> 98.186528 | K22: =AVERAGE($J$17:$J$26) -> 98.46184 | L22: =(J22-K22) -> -0.27531143
A23: Sarika | B23: LDB1x | C23: 8 | D23: 40 | E23: =1/((SUM(C23*60,D23))/2000) -> 3.8461538 | G23: 4 | H23: 26 | I23: =$F$16/(G23*60+H23) -> 3.7593985 | J23: =(I23/E23)*100 -> 97.744361 | K23: =AVERAGE($J$17:$J$26) -> 98.46184 | L23: =(J23-K23) -> -0.71747902
A24: EJD8 | B24: DEj8+ | C24: 6 | D24: 58 | E24: =1/((SUM(C24*60,D24))/2000) -> 4.784689 | G24: 3 | H24: 36 | I24: =$F$16/(G24*60+H24) -> 4.6296296 | J24: =(I24/E24)*100 -> 96.759259 | K24: =AVERAGE($J$17:$J$26) -> 98.46184 | L24: =(J24-K24) -> -1.7025807
A25: MGZ 4- | B25: N4- | C25: 6 | D25: 33 | E25: =1/((SUM(C25*60,D25))/2000) -> 5.0890585 | G25: 3 | H25: 24 | I25: =$F$16/(G25*60+H25) -> 4.9019608 | J25: =(I25/E25)*100 -> 96.323529 | K25: =AVERAGE($J$17:$J$26) -> 98.46184 | L25: =(J25-K25) -> -2.1383105
A26: EJLD 2x | B26: LDN2x | C26: 7 | D26: 58 | E26: =1/((SUM(C26*60,D26))/2000) -> 4.1841004 | G26: 4 | H26: 11 | I26: =$F$16/(G26*60+H26) -> 3.9840637 | J26: =(I26/E26)*100 -> 95.219124 | K26: =AVERAGE($J$17:$J$26) -> 98.46184 | L26: =(J26-K26) -> -3.2427164
A28: 1000 | C28: RICHTTIJD | F28: Afstand | J28: indiv. | K28: gem.
B29: Veld | C29: MIN | D29: SEC | E29: m/s | F29: 1000 | G29: MIN | H29: SEC | I29: m/s | J29: perc. | K29: perc. | L29: verschil
A30: EJD4+ | B30: DB4+ | C30: 7 | D30: 53 | E30: =1/((SUM(C30*60,D30))/2000) -> 4.2283298 | G30: 4 | H30: 15 | I30: =$F$16/(G30*60+H30) -> 3.9215686 | J30: =(I30/E30)*100 -> 92.745098 | K30: =AVERAGE($J$30:$J$39) -> 88.263744 | L30: =(J30-K30) -> 4.4813536
A31: MGD 4- | B31: DO4- | C31: 7 | D31: 13 | E31: =1/((SUM(C31*60,D31))/2000) -> 4.6189376 | G31: 3 | H31: 59 | I31: =$F$16/(G31*60+H31) -> 4.1841004 | J31: =(I31/E31)*100 -> 90.585774 | K31: =AVERAGE($J$30:$J$39) -> 88.263744 | L31: =(J31-K31) -> 2.3220296
A32: EJLD 4* | B32: LDEj4* | C32: 7 | D32: 40 | E32: =1/((SUM(C32*60,D32))/2000) -> 4.3478261 | G32: 4 | H32: 16 | I32: =$F$16/(G32*60+H32) -> 3.90625 | J32: =(I32/E32)*100 -> 89.84375 | K32: =AVERAGE($J$30:$J$39) -> 88.263744 | L32: =(J32-K32) -> 1.5800055
A33: MGL2- | B33: LN2- | C33: 7 | D33: 27 | E33: =1/((SUM(C33*60,D33))/2000) -> 4.4742729 | G33: 4 | H33: 9 | I33: =$F$16/(G33*60+H33) -> 4.0160643 | J33: =(I33/E33)*100 -> 89.759036 | K33: =AVERAGE($J$30:$J$39) -> 88.263744 | L33: =(J33-K33) -> 1.4952917
A34: MGZ 4- | B34: N4- | C34: 6 | D34: 33 | E34: =1/((SUM(C34*60,D34))/2000) -> 5.0890585 | G34: 3 | H34: 43 | I34: =$F$16/(G34*60+H34) -> 4.4843049 | J34: =(I34/E34)*100 -> 88.116592 | K34: =AVERAGE($J$30:$J$39) -> 88.263744 | L34: =(J34-K34) -> -0.14715254
A35: EJD8 | B35: DEj8+ | C35: 6 | D35: 58 | E35: =1/((SUM(C35*60,D35))/2000) -> 4.784689 | G35: 4 | H35: 1 | I35: =$F$16/(G35*60+H35) -> 4.1493776 | J35: =(I35/E35)*100 -> 86.721992 | K35: =AVERAGE($J$30:$J$39) -> 88.263744 | L35: =(J35-K35) -> -1.5417528
A36: EJL8 | B36: LB8+ | C36: 6 | D36: 19 | E36: =1/((SUM(C36*60,D36))/2000) -> 5.2770449 | G36: 3 | H36: 39 | I36: =$F$16/(G36*60+H36) -> 4.56621 | J36: =(I36/E36)*100 -> 86.52968 | K36: =AVERAGE($J$30:$J$39) -> 88.263744 | L36: =(J36-K36) -> -1.7340641
A37: EJLD 2x | B37: LDN2x | C37: 7 | D37: 58 | E37: =1/((SUM(C37*60,D37))/2000) -> 4.1841004 | G37: 4 | H37: 37 | I37: =$F$16/(G37*60+H37) -> 3.6101083 | J37: =(I37/E37)*100 -> 86.281588 | K37: =AVERAGE($J$30:$J$39) -> 88.263744 | L37: =(J37-K37) -> -1.982156
A38: Reinier | B38: LB1x | C38: 7 | D38: 44 | E38: =1/((SUM(C38*60,D38))/2000) -> 4.3103448 | G38: 4 | H38: 29 | I38: =$F$16/(G38*60+H38) -> 3.7174721 | J38: =(I38/E38)*100 -> 86.245353 | K38: =AVERAGE($J$30:$J$39) -> 88.263744 | L38: =(J38-K38) -> -2.0183913
A39: Sarika | B39: LDB1x | C39: 8 | D39: 40 | E39: =1/((SUM(C39*60,D39))/2000) -> 3.8461538 | G39: 5 | H39: 3 | I39: =$F$16/(G39*60+H39) -> 3.30033 | J39: =(I39/E39)*100 -> 85.808581 | K39: =AVERAGE($J$30:$J$39) -> 88.263744 | L39: =(J39-K39) -> -2.4551636
A41: GEMIDDELD
A42: 1000 | C42: RICHTTIJD | F42: Afstand | J42: indiv. | K42: gem.
B43: Veld | C43: MIN | D43: SEC | E43: m/s | F43: 1000 | G43: MIN | H43: SEC | I43: m/s | J43: perc. | K43: perc. | L43: verschil
A44: EJD4+ | B44: DB4+ | C44: 7 | D44: 53 | E44: =1/((SUM(C44*60,D44))/2000) -> 4.2283298 | G44: 4 | H44: 8 | I44: =$F$16/(G44*60+H44) -> 4.0322581 | J44: =(I44/E44)*100 -> 95.362903 | K44: =AVERAGE($J$44:$J$53) -> 92.462094 | L44: =(J44-K44) -> 2.9008089
A45: MGL2- | B45: LN2- | C45: 7 | D45: 27 | E45: =1/((SUM(C45*60,D45))/2000) -> 4.4742729 | G45: 3 | H45: 55 | I45: =$F$16/(G45*60+H45) -> 4.2553191 | J45: =(I45/E45)*100 -> 95.106383 | K45: =AVERAGE($J$44:$J$53) -> 92.462094 | L45: =(J45-K45) -> 2.6442886
A46: MGD 4- | B46: DO4- | C46: 7 | D46: 13 | E46: =1/((SUM(C46*60,D46))/2000) -> 4.6189376 | G46: 3 | H46: 51 | I46: =$F$16/(G46*60+H46) -> 4.3290043 | J46: =(I46/E46)*100 -> 93.722944 | K46: =AVERAGE($J$44:$J$53) -> 92.462094 | L46: =(J46-K46) -> 1.2608494
A47: EJLD 4* | B47: LDEj4* | C47: 7 | D47: 40 | E47: =1/((SUM(C47*60,D47))/2000) -> 4.3478261 | G47: 4 | H47: 6 | I47: =$F$16/(G47*60+H47) -> 4.0650407 | J47: =(I47/E47)*100 -> 93.495935 | K47: =AVERAGE($J$44:$J$53) -> 92.462094 | L47: =(J47-K47) -> 1.0338406
A48: EJL8 | B48: LB8+ | C48: 6 | D48: 19 | E48: =1/((SUM(C48*60,D48))/2000) -> 5.2770449 | G48: 3 | H48: 26 | I48: =$F$16/(G48*60+H48) -> 4.8543689 | J48: =(I48/E48)*100 -> 91.990291 | K48: =AVERAGE($J$44:$J$53) -> 92.462094 | L48: =(J48-K48) -> -0.47180309
A49: MGZ 4- | B49: N4- | C49: 6 | D49: 33 | E49: =1/((SUM(C49*60,D49))/2000) -> 5.0890585 | G49: 3 | H49: 34 | I49: =$F$16/(G49*60+H49) -> 4.6728972 | J49: =(I49/E49)*100 -> 91.82243 | K49: =AVERAGE($J$44:$J$53) -> 92.462094 | L49: =(J49-K49) -> -0.63966444
A50: Reinier | B50: LB1x | C50: 7 | D50: 44 | E50: =1/((SUM(C50*60,D50))/2000) -> 4.3103448 | G50: 4 | H50: 13 | I50: =$F$16/(G50*60+H50) -> 3.9525692 | J50: =(I50/E50)*100 -> 91.699605 | K50: =AVERAGE($J$44:$J$53) -> 92.462094 | L50: =(J50-K50) -> -0.76248961
A51: EJD8 | B51: DEj8+ | C51: 6 | D51: 58 | E51: =1/((SUM(C51*60,D51))/2000) -> 4.784689 | G51: 3 | H51: 49 | I51: =$F$16/(G51*60+H51) -> 4.3668122 | J51: =(I51/E51)*100 -> 91.266376 | K51: =AVERAGE($J$44:$J$53) -> 92.462094 | L51: =(J51-K51) -> -1.1957188
A52: EJLD 2x | B52: LDN2x | C52: 7 | D52: 58 | E52: =1/((SUM(C52*60,D52))/2000) -> 4.1841004 | G52: 4 | H52: 25 | I52: =$F$16/(G52*60+H52) -> 3.7735849 | J52: =(I52/E52)*100 -> 90.188679 | K52: =AVERAGE($J$44:$J$53) -> 92.462094 | L52: =(J52-K52) -> -2.2734151
A53: Sarika | B53: LDB1x | C53: 8 | D53: 40 | E53: =1/((SUM(C53*60,D53))/2000) -> 3.8461538 | G53: 4 | H53: 49 | I53: =$F$16/(G53*60+H53) -> 3.4602076 | J53: =(I53/E53)*100 -> 89.965398 | K53: =AVERAGE($J$44:$J$53) -> 92.462094 | L53: =(J53-K53) -> -2.4966964
B56: Tijd 1e | C56: Tijd 2e | D56: Tijd 3e | E56: Gemiddeld
A57: Reinier | B57: 0.0029976852 | C57: 0.0026736111 | D57: 0.0031134259 | E57: 0.0029282407
A58: Oscar | B58: 0.003125 | C58: 0.0028819444 | D58: 0.0032060185 | E58: 0.0030709877
A59: Sarika | B59: 0.0034375 | C59: 0.0030787037 | D59: 0.0035069444 | E59: 0.0033410494
A60: EJLD 2x | B60: 0.0030787037 | C60: 0.0029050926 | D60: 0.0032060185 | E60: 0.0030632716
A61: EJD4+ | B61: 0.0028935185 | C61: 0.0027662037 | D61: 0.0029513889 | E61: 0.0028703704
A62: EJLD 4* | B62: 0.0028819444 | C62: 0.0026967593 | D62: 0.002962963 | E62: 0.0028472222
A63: MGL2- | B63: 0.0027546296 | C63: 0.0025347222 | D63: 0.0028819444 | E63: 0.0027237654
A64: MGD 4- | B64: 0.0027546296 | C64: 0.0025 | D64: 0.0027662037 | E64: 0.0026736111
A65: MGZ 4- | B65: 0.0024884259 | C65: 0.0023611111 | D65: 0.0025810185 | E65: 0.0024768519
A66: EJL8 | B66: 0.0023726852 | C66: 0.0022337963 | D66: 0.0025347222 | E66: 0.0023804012
A67: EJD8 | B67: 0.002650463 | C67: 0.0025 | D67: 0.0027893519 | E67: 0.0026466049

Sheet 1-5-2016 (Damen Rex)
A1: Damen Rex 1 mei
A2: 3x 1000 meter, 3x vaste start
A3: 1000 | C3: RICHTTIJD | F3: Afstand | J3: indiv. | K3: gem. | N3: Uitslag Damen
B4: Veld | C4: MIN | D4: SEC | E4: m/s | F4: 1000 | G4: MIN | H4: SEC | I4: m/s | J4: perc. | K4: perc. | L4: verschil
A5: EJD4+ | B5: DB4+ | C5: 7 | D5: 53 | E5: =1/((SUM(C5*60,D5))/2000) -> 4.2283298 | G5: 3 | H5: 55 | I5: =$F$4/(G5*60+H5) -> 4.2553191 | J5: =(I5/E5)*100 -> 100.6383 | K5: =AVERAGE($J$5:$J$17) -> 98.216659 | L5: =(J5-K5) -> 2.4216386
A6: Nils | B6: LB1x | C6: 7 | D6: 44 | E6: =1/((SUM(C6*60,D6))/2000) -> 4.3103448 | G6: 3 | H6: 52 | I6: =$F$4/(G6*60+H6) -> 4.3103448 | J6: =(I6/E6)*100 -> 100 | K6: =AVERAGE($J$5:$J$17) -> 98.216659 | L6: =(J6-K6) -> 1.7833408
A7: Reinier | B7: LB1x | C7: 7 | D7: 44 | E7: =1/((SUM(C7*60,D7))/2000) -> 4.3103448 | G7: 3 | H7: 53 | I7: =$F$4/(G7*60+H7) -> 4.2918455 | J7: =(I7/E7)*100 -> 99.570815 | K7: =AVERAGE($J$5:$J$17) -> 98.216659 | L7: =(J7-K7) -> 1.3541562
A8: Sybren | B8: LN1x | C8: 7 | D8: 38 | E8: =1/((SUM(C8*60,D8))/2000) -> 4.3668122 | G8: 3 | H8: 51 | I8: =$F$4/(G8*60+H8) -> 4.3290043 | J8: =(I8/E8)*100 -> 99.134199 | K8: =AVERAGE($J$5:$J$17) -> 98.216659 | L8: =(J8-K8) -> 0.91753991
A9: Baukje | B9: DSA1x | C9: 8 | D9: 4 | E9: =1/((SUM(C9*60,D9))/2000) -> 4.1322314 | G9: 4 | H9: 5 | I9: =$F$4/(G9*60+H9) -> 4.0816327 | J9: =(I9/E9)*100 -> 98.77551 | K9: =AVERAGE($J$5:$J$17) -> 98.216659 | L9: =(J9-K9) -> 0.55885098
A10: EJL8 | B10: LB8+ | C10: 6 | D10: 19 | E10: =1/((SUM(C10*60,D10))/2000) -> 5.2770449 | G10: 3 | H10: 12 | I10: =$F$4/(G10*60+H10) -> 5.2083333 | J10: =(I10/E10)*100 -> 98.697917 | K10: =AVERAGE($J$5:$J$17) -> 98.216659 | L10: =(J10-K10) -> 0.48125744
A11: MGL2- | B11: LO2- | C11: 7 | D11: 12 | E11: =1/((SUM(C11*60,D11))/2000) -> 4.6296296 | G11: 3 | H11: 39 | I11: =$F$4/(G11*60+H11) -> 4.56621 | J11: =(I11/E11)*100 -> 98.630137 | K11: =AVERAGE($J$5:$J$17) -> 98.216659 | L11: =(J11-K11) -> 0.41347776
A12: EJZ8 | B12: B8+ | C12: 6 | D12: 8 | E12: =1/((SUM(C12*60,D12))/2000) -> 5.4347826 | G12: 3 | H12: 8 | I12: =$F$4/(G12*60+H12) -> 5.3191489 | J12: =(I12/E12)*100 -> 97.87234 | K12: =AVERAGE($J$5:$J$17) -> 98.216659 | L12: =(J12-K12) -> -0.3443188
A13: EJLD 2x | B13: LDN2x | C13: 7 | D13: 58 | E13: =1/((SUM(C13*60,D13))/2000) -> 4.1841004 | G13: 4 | H13: 5 | I13: =$F$4/(G13*60+H13) -> 4.0816327 | J13: =(I13/E13)*100 -> 97.55102 | K13: =AVERAGE($J$5:$J$17) -> 98.216659 | L13: =(J13-K13) -> -0.66563882
A14: Koen | B14: N1x | C14: 7 | D14: 31 | E14: =1/((SUM(C14*60,D14))/2000) -> 4.4345898 | G14: 3 | H14: 52 | I14: =$F$4/(G14*60+H14) -> 4.3103448 | J14: =(I14/E14)*100 -> 97.198276 | K14: =AVERAGE($J$5:$J$17) -> 98.216659 | L14: =(J14-K14) -> -1.0183834
A15: Sarika | B15: LDB1x | C15: 8 | D15: 40 | E15: =1/((SUM(C15*60,D15))/2000) -> 3.8461538 | G15: 4 | H15: 29 | I15: =$F$4/(G15*60+H15) -> 3.7174721 | J15: =(I15/E15)*100 -> 96.654275 | K15: =AVERAGE($J$5:$J$17) -> 98.216659 | L15: =(J15-K15) -> -1.5623841
A16: MGD 4- | B16: DO4- | C16: 7 | D16: 13 | E16: =1/((SUM(C16*60,D16))/2000) -> 4.6189376 | G16: 3 | H16: 45 | I16: =$F$4/(G16*60+H16) -> 4.4444444 | J16: =(I16/E16)*100 -> 96.222222 | K16: =AVERAGE($J$5:$J$17) -> 98.216659 | L16: =(J16-K16) -> -1.994437
A17: EJD8 | B17: DEj8+ | C17: 6 | D17: 58 | E17: =1/((SUM(C17*60,D17))/2000) -> 4.784689 | G17: 3 | H17: 38 | I17: =$F$4/(G17*60+H17) -> 4.587156 | J17: =(I17/E17)*100 -> 95.87156 | K17: =AVERAGE($J$5:$J$17) -> 98.216659 | L17: =(J17-K17) -> -2.3450996
A18: 1000 | C18: RICHTTIJD | F18: Afstand | J18: indiv. | K18: gem.
B19: Veld | C19: MIN | D19: SEC | E19: m/s | F19: 1000 | G19: MIN | H19: SEC | I19: m/s | J19: perc. | K19: perc. | L19: verschil
A20: EJD8 | B20: DEj8+ | C20: 6 | D20: 58 | E20: =1/((SUM(C20*60,D20))/2000) -> 4.784689 | G20: 3 | H20: 26 | I20: =$F$19/(G20*60+H20) -> 4.8543689 | J20: =(I20/E20)*100 -> 101.45631 | K20: =AVERAGE($J$20:$J$34) -> 96.654217 | L20: =(J20-K20) -> 4.8020941
A21: Aegir EJD8 | B21: DB8+ | C21: 7 | D21: 0 | E21: =1/((SUM(C21*60,D21))/2000) -> 4.7619048 | G21: 3 | H21: 31 | I21: =$F$19/(G21*60+H21) -> 4.7393365 | J21: =(I21/E21)*100 -> 99.526066 | K21: =AVERAGE($J$20:$J$34) -> 96.654217 | L21: =(J21-K21) -> 2.8718497
A22: Nils | B22: LB1x | C22: 7 | D22: 44 | E22: =1/((SUM(C22*60,D22))/2000) -> 4.3103448 | G22: 3 | H22: 54 | I22: =$F$19/(G22*60+H22) -> 4.2735043 | J22: =(I22/E22)*100 -> 99.145299 | K22: =AVERAGE($J$20:$J$34) -> 96.654217 | L22: =(J22-K22) -> 2.4910825
A23: EJLD 2x | B23: LDN2x | C23: 7 | D23: 58 | E23: =1/((SUM(C23*60,D23))/2000) -> 4.1841004 | G23: 4 | H23: 2 | I23: =$F$19/(G23*60+H23) -> 4.1322314 | J23: =(I23/E23)*100 -> 98.760331 | K23: =AVERAGE($J$20:$J$34) -> 96.654217 | L23: =(J23-K23) -> 2.106114
A24: EJL8 | B24: LB8+ | C24: 6 | D24: 19 | E24: =1/((SUM(C24*60,D24))/2000) -> 5.2770449 | G24: 3 | H24: 13 | I24: =$F$19/(G24*60+H24) -> 5.1813472 | J24: =(I24/E24)*100 -> 98.186528 | K24: =AVERAGE($J$20:$J$34) -> 96.654217 | L24: =(J24-K24) -> 1.5323119
A25: Sybren | B25: LN1x | C25: 7 | D25: 38 | E25: =1/((SUM(C25*60,D25))/2000) -> 4.3668122 | G25: 3 | H25: 54 | I25: =$F$19/(G25*60+H25) -> 4.2735043 | J25: =(I25/E25)*100 -> 97.863248 | K25: =AVERAGE($J$20:$J$34) -> 96.654217 | L25: =(J25-K25) -> 1.2090313
A26: EJD4+ | B26: DB4+ | C26: 7 | D26: 53 | E26: =1/((SUM(C26*60,D26))/2000) -> 4.2283298 | G26: 4 | H26: 4 | I26: =$F$19/(G26*60+H26) -> 4.0983607 | J26: =(I26/E26)*100 -> 96.92623 | K26: =AVERAGE($J$20:$J$34) -> 96.654217 | L26: =(J26-K26) -> 0.27201291
A27: Reinier | B27: LB1x | C27: 7 | D27: 44 | E27: =1/((SUM(C27*60,D27))/2000) -> 4.3103448 | G27: 4 | H27: 0 | I27: =$F$19/(G27*60+H27) -> 4.1666667 | J27: =(I27/E27)*100 -> 96.666667 | K27: =AVERAGE($J$20:$J$34) -> 96.654217 | L27: =(J27-K27) -> 0.012450066
A28: Baukje | B28: DSA1x | C28: 8 | D28: 4 | E28: =1/((SUM(C28*60,D28))/2000) -> 4.1322314 | G28: 4 | H28: 11 | I28: =$F$19/(G28*60+H28) -> 3.9840637 | J28: =(I28/E28)*100 -> 96.414343 | K28: =AVERAGE($J$20:$J$34) -> 96.654217 | L28: =(J28-K28) -> -0.23987397
A29: Sarika | B29: LDB1x | C29: 8 | D29: 40 | E29: =1/((SUM(C29*60,D29))/2000) -> 3.8461538 | G29: 4 | H29: 31 | I29: =$F$19/(G29*60+H29) -> 3.6900369 | J29: =(I29/E29)*100 -> 95.940959 | K29: =AVERAGE($J$20:$J$34) -> 96.654217 | L29: =(J29-K29) -> -0.71325719
A30: EJZ8 | B30: B8+ | C30: 6 | D30: 8 | E30: =1/((SUM(C30*60,D30))/2000) -> 5.4347826 | G30: 3 | H30: 12 | I30: =$F$19/(G30*60+H30) -> 5.2083333 | J30: =(I30/E30)*100 -> 95.833333 | K30: =AVERAGE($J$20:$J$34) -> 96.654217 | L30: =(J30-K30) -> -0.82088327
A31: MGL2- | B31: LO2- | C31: 7 | D31: 12 | E31: =1/((SUM(C31*60,D31))/2000) -> 4.6296296 | G31: 3 | H31: 47 | I31: =$F$19/(G31*60+H31) -> 4.4052863 | J31: =(I31/E31)*100 -> 95.154185 | K31: =AVERAGE($J$20:$J$34) -> 96.654217 | L31: =(J31-K31) -> -1.5000316
... A34: MGZ 4- | B34: N4- | C34: 6 | D34: 33 | E34: =1/((SUM(C34*60,D34))/2000) -> 5.0890585 | G34: 3 | H34: 34 | I34: =$F$19/(G34*60+H34) -> 4.6728972 | J34: =(I34/E34)*100 -> 91.82243 | K34: =AVERAGE($J$20:$J$34) -> 96.654217 | L34: =(J34-K34) -> -4.8317867
F40: Afstand
B41: Veld | C41: MIN | D41: SEC | E41: m/s | F41: 1000 | G41: MIN | H41: SEC | I41: m/s | J41: perc. | K41: perc. | L41: verschil
A42: Aegir EJD8 | B42: DB8+ | C42: 7 | D42: 0 | E42: =1/((SUM(C42*60,D42))/2000) -> 4.7619048 | G42: 3 | H42: 24 | I42: =$F$19/(G42*60+H42) -> 4.9019608 | J42: =(I42/E42)*100 -> 102.94118 | K42: =AVERAGE($J$42:$J$56) -> 97.323086 | L42: =(J42-K42) -> 5.6180903
A43: Nils | B43: LB1x | C43: 7 | D43: 44 | E43: =1/((SUM(C43*60,D43))/2000) -> 4.3103448 | G43: 3 | H43: 52 | I43: =$F$19/(G43*60+H43) -> 4.3103448 | J43: =(I43/E43)*100 -> 100 | K43: =AVERAGE($J$42:$J$56) -> 97.323086 | L43: =(J43-K43) -> 2.6769138
A44: EJD4+ | B44: DB4+ | C44: 7 | D44: 53 | E44: =1/((SUM(C44*60,D44))/2000) -> 4.2283298 | G44: 3 | H44: 57 | I44: =$F$19/(G44*60+H44) -> 4.2194093 | J44: =(I44/E44)*100 -> 99.78903 | K44: =AVERAGE($J$42:$J$56) -> 97.323086 | L44: =(J44-K44) -> 2.4659434
A45: EJD8 | B45: DEj8+ | C45: 6 | D45: 58 | E45: =1/((SUM(C45*60,D45))/2000) -> 4.784689 | G45: 3 | H45: 31 | I45: =$F$19/(G45*60+H45) -> 4.7393365 | J45: =(I45/E45)*100 -> 99.052133 | K45: =AVERAGE($J$42:$J$56) -> 97.323086 | L45: =(J45-K45) -> 1.7290465
A46: Baukje | B46: DSA1x | C46: 8 | D46: 4 | E46: =1/((SUM(C46*60,D46))/2000) -> 4.1322314 | G46: 4 | H46: 6 | I46: =$F$19/(G46*60+H46) -> 4.0650407 | J46: =(I46/E46)*100 -> 98.373984 | K46: =AVERAGE($J$42:$J$56) -> 97.323086 | L46: =(J46-K46) -> 1.0508976
A47: EJL8 | B47: LB8+ | C47: 6 | D47: 19 | E47: =1/((SUM(C47*60,D47))/2000) -> 5.2770449 | G47: 3 | H47: 14 | I47: =$F$19/(G47*60+H47) -> 5.1546392 | J47: =(I47/E47)*100 -> 97.680412 | K47: =AVERAGE($J$42:$J$56) -> 97.323086 | L47: =(J47-K47) -> 0.3573262
A48: MGL2- | B48: LO2- | C48: 7 | D48: 12 | E48: =1/((SUM(C48*60,D48))/2000) -> 4.6296296 | G48: 3 | H48: 42 | I48: =$F$19/(G48*60+H48) -> 4.5045045 | J48: =(I48/E48)*100 -> 97.297297 | K48: =AVERAGE($J$42:$J$56) -> 97.323086 | L48: =(J48-K48) -> -0.025788872
A49: MGD 4- | B49: DO4- | C49: 7 | D49: 13 | E49: =1/((SUM(C49*60,D49))/2000) -> 4.6189376 | G49: 3 | H49: 43 | I49: =$F$19/(G49*60+H49) -> 4.4843049 | J49: =(I49/E49)*100 -> 97.085202 | K49: =AVERAGE($J$42:$J$56) -> 97.323086 | L49: =(J49-K49) -> -0.23788438
A50: Reinier | B50: LB1x | C50: 7 | D50: 44 | E50: =1/((SUM(C50*60,D50))/2000) -> 4.3103448 | G50: 3 | H50: 59 | I50: =$F$19/(G50*60+H50) -> 4.1841004 | J50: =(I50/E50)*100 -> 97.07113 | K50: =AVERAGE($J$42:$J$56) -> 97.323086 | L50: =(J50-K50) -> -0.25195646
A51: EJZ8 | B51: B8+ | C51: 6 | D51: 8 | E51: =1/((SUM(C51*60,D51))/2000) -> 5.4347826 | G51: 3 | H51: 10 | I51: =$F$19/(G51*60+H51) -> 5.2631579 | J51: =(I51/E51)*100 -> 96.842105 | K51: =AVERAGE($J$42:$J$56) -> 97.323086 | L51: =(J51-K51) -> -0.48098091
A52: Koen | B52: N1x | C52: 7 | D52: 31 | E52: =1/((SUM(C52*60,D52))/2000) -> 4.4345898 | G52: 3 | H52: 54 | I52: =$F$19/(G52*60+H52) -> 4.2735043 | J52: =(I52/E52)*100 -> 96.367521 | K52: =AVERAGE($J$42:$J$56) -> 97.323086 | L52: =(J52-K52) -> -0.9555648
A53: EJLD 2x | B53: LDN2x | C53: 7 | D53: 58 | E53: =1/((SUM(C53*60,D53))/2000) -> 4.1841004 | G53: 4 | H53: 10 | I53: =$F$19/(G53*60+H53) -> 4 | J53: =(I53/E53)*100 -> 95.6 | K53: =AVERAGE($J$42:$J$56) -> 97.323086 | L53: =(J53-K53) -> -1.7230862
... A56: MGZ4- | B56: N4- | C56: 6 | D56: 33 | E56: =1/((SUM(C56*60,D56))/2000) -> 5.0890585 | G56: 3 | H56: 32 | I56: =$F$19/(G56*60+H56) -> 4.7169811 | J56: =(I56/E56)*100 -> 92.688679 | K56: =AVERAGE($J$42:$J$56) -> 97.323086 | L56: =(J56-K56) -> -4.6344069
A58: GEMIDDELD
A59: 1000 | C59: RICHTTIJD | F59: Afstand | J59: indiv. | K59: gem.
B60: Veld | C60: MIN | D60: SEC | E60: m/s | F60: 1000 | G60: MIN | H60: SEC | I60: m/s | J60: perc. | K60: perc. | L60: verschil
A61: Nils | B61: LB1x | C61: 7 | D61: 44 | E61: =1/((SUM(C61*60,D61))/2000) -> 4.3103448 | G61: 3 | H61: 53 | I61: =$F$19/(G61*60+H61) -> 4.2918455 | J61: =(I61/E61)*100 -> 99.570815 | K61: =AVERAGE($J$61:$J$73) -> 97.379425 | L61: =(J61-K61) -> 2.19139 | N61: 2e
A62: EJD4+ | B62: DB4+ | C62: 7 | D62: 53 | E62: =1/((SUM(C62*60,D62))/2000) -> 4.2283298 | G62: 3 | H62: 59 | I62: =$F$19/(G62*60+H62) -> 4.1841004 | J62: =(I62/E62)*100 -> 98.953975 | K62: =AVERAGE($J$61:$J$73) -> 97.379425 | L62: =(J62-K62) -> 1.5745494 | N62: 1e
A63: EJD8 | B63: DEj8+ | C63: 6 | D63: 58 | E63: =1/((SUM(C63*60,D63))/2000) -> 4.784689 | G63: 3 | H63: 32 | I63: =$F$19/(G63*60+H63) -> 4.7169811 | J63: =(I63/E63)*100 -> 98.584906 | K63: =AVERAGE($J$61:$J$73) -> 97.379425 | L63: =(J63-K63) -> 1.2054802 | N63: 2e
A64: EJL8 | B64: LB8+ | C64: 6 | D64: 19 | E64: =1/((SUM(C64*60,D64))/2000) -> 5.2770449 | G64: 3 | H64: 13 | I64: =$F$19/(G64*60+H64) -> 5.1813472 | J64: =(I64/E64)*100 -> 98.186528 | K64: =AVERAGE($J$61:$J$73) -> 97.379425 | L64: =(J64-K64) -> 0.80710301 | N64: 1e
A65: Baukje | B65: DSA1x | C65: 8 | D65: 4 | E65: =1/((SUM(C65*60,D65))/2000) -> 4.1322314 | G65: 4 | H65: 7 | I65: =$F$19/(G65*60+H65) -> 4.048583 | J65: =(I65/E65)*100 -> 97.975709 | K65: =AVERAGE($J$61:$J$73) -> 97.379425 | L65: =(J65-K65) -> 0.59628301 | N65: 4e
A66: Reinier | B66: LB1x | C66: 7 | D66: 44 | E66: =1/((SUM(C66*60,D66))/2000) -> 4.3103448 | G66: 3 | H66: 57 | I66: =$F$19/(G66*60+H66) -> 4.2194093 | J66: =(I66/E66)*100 -> 97.890295 | K66: =AVERAGE($J$61:$J$73) -> 97.379425 | L66: =(J66-K66) -> 0.51086987 | N66: 4e
A67: EJLD 2x | B67: LDN2x | C67: 7 | D67: 58 | E67: =1/((SUM(C67*60,D67))/2000) -> 4.1841004 | G67: 4 | H67: 6 | I67: =$F$19/(G67*60+H67) -> 4.0650407 | J67: =(I67/E67)*100 -> 97.154472 | K67: =AVERAGE($J$61:$J$73) -> 97.379425 | L67: =(J67-K67) -> -0.22495394 | N67: dns
A68: MGL2- | B68: LO2- | C68: 7 | D68: 12 | E68: =1/((SUM(C68*60,D68))/2000) -> 4.6296296 | G68: 3 | H68: 43 | I68: =$F$19/(G68*60+H68) -> 4.4843049 | J68: =(I68/E68)*100 -> 96.860987 | K68: =AVERAGE($J$61:$J$73) -> 97.379425 | L68: =(J68-K68) -> -0.51843894 | N68: 7e
A69: EJZ8 | B69: B8+ | C69: 6 | D69: 8 | E69: =1/((SUM(C69*60,D69))/2000) -> 5.4347826 | G69: 3 | H69: 10 | I69: =$F$19/(G69*60+H69) -> 5.2631579 | J69: =(I69/E69)*100 -> 96.842105 | K69: =AVERAGE($J$61:$J$73) -> 97.379425 | L69: =(J69-K69) -> -0.53732022 | N69: 11e
A70: Sybren | B70: LN1x | C70: 7 | D70: 38 | E70: =1/((SUM(C70*60,D70))/2000) -> 4.3668122 | G70: 3 | H70: 57 | I70: =$F$19/(G70*60+H70) -> 4.2194093 | J70: =(I70/E70)*100 -> 96.624473 | K70: =AVERAGE($J$61:$J$73) -> 97.379425 | L70: =(J70-K70) -> -0.75495291 | N70: 5e
A71: Sarika | B71: LDB1x | C71: 8 | D71: 40 | E71: =1/((SUM(C71*60,D71))/2000) -> 3.8461538 | G71: 4 | H71: 31 | I71: =$F$19/(G71*60+H71) -> 3.6900369 | J71: =(I71/E71)*100 -> 95.940959 | K71: =AVERAGE($J$61:$J$73) -> 97.379425 | L71: =(J71-K71) -> -1.4384661 | N71: 7e
A72: MGD 4- | B72: DO4- | C72: 7 | D72: 13 | E72: =1/((SUM(C72*60,D72))/2000) -> 4.6189376 | G72: 3 | H72: 46 | I72: =$F$19/(G72*60+H72) -> 4.4247788 | J72: =(I72/E72)*100 -> 95.79646 | K72: =AVERAGE($J$61:$J$73) -> 97.379425 | L72: =(J72-K72) -> -1.5829653 | N72: 6e
A73: Koen | B73: N1x | C73: 7 | D73: 31 | E73: =1/((SUM(C73*60,D73))/2000) -> 4.4345898 | G73: 3 | H73: 56 | I73: =$F$19/(G73*60+H73) -> 4.2372881 | J73: =(I73/E73)*100 -> 95.550847 | K73: =AVERAGE($J$61:$J$73) -> 97.379425 | L73: =(J73-K73) -> -1.828578 | N73: 13e
A75: Alleen ploegen die drie keer gestart hebben staan in het gemiddelde overzicht

Sheet 15-5-2016 (Hollandia Rex)
A1: Hollandia Rex 15 mei
A2: 3x 1000 meter, 3x vaste start
A3: 1e
A4: 1000 | C4: RICHTTIJD | F4: Afstand | J4: indiv. | K4: gem.
B5: Veld | C5: MIN | D5: SEC | E5: m/s | F5: 1000 | G5: MIN | H5: SEC | I5: m/s | J5: perc. | K5: perc. | L5: verschil
A6: EJZ8 | B6: B8+ | C6: 6 | D6: 8 | E6: =1/((SUM(C6*60,D6))/2000) -> 5.4347826 | G6: 3 | H6: 22 | I6: =$F$5/(G6*60+H6) -> 4.950495 | J6: =(I6/E6)*100 -> 91.089109 | K6: =AVERAGE($J$6:$J$16) -> 87.493527 | L6: =(J6-K6) -> 3.5955817
A7: MGZ4- | B7: N4- | C7: 6 | D7: 33 | E7: =1/((SUM(C7*60,D7))/2000) -> 5.0890585 | G7: 3 | H7: 37 | I7: =$F$5/(G7*60+H7) -> 4.6082949 | J7: =(I7/E7)*100 -> 90.552995 | K7: =AVERAGE($J$6:$J$16) -> 87.493527 | L7: =(J7-K7) -> 3.0594682
A8: EJL8 | B8: LB8+ | C8: 6 | D8: 19 | E8: =1/((SUM(C8*60,D8))/2000) -> 5.2770449 | G8: 3 | H8: 31 | I8: =$F$5/(G8*60+H8) -> 4.7393365 | J8: =(I8/E8)*100 -> 89.810427 | K8: =AVERAGE($J$6:$J$16) -> 87.493527 | L8: =(J8-K8) -> 2.3168993
A9: EJD8 | B9: DEj8+ | C9: 6 | D9: 58 | E9: =1/((SUM(C9*60,D9))/2000) -> 4.784689 | G9: 3 | H9: 54 | I9: =$F$5/(G9*60+H9) -> 4.2735043 | J9: =(I9/E9)*100 -> 89.316239 | K9: =AVERAGE($J$6:$J$16) -> 87.493527 | L9: =(J9-K9) -> 1.8227121
A10: EJLD4* | B10: LDEj4* | C10: 7 | D10: 40 | E10: =1/((SUM(C10*60,D10))/2000) -> 4.3478261 | G10: 4 | H10: 21 | I10: =$F$5/(G10*60+H10) -> 3.8314176 | J10: =(I10/E10)*100 -> 88.122605 | K10: =AVERAGE($J$6:$J$16) -> 87.493527 | L10: =(J10-K10) -> 0.62907815
A11: EJD4+ | B11: DB4+ | C11: 7 | D11: 53 | E11: =1/((SUM(C11*60,D11))/2000) -> 4.2283298 | G11: 4 | H11: 31 | I11: =$F$5/(G11*60+H11) -> 3.6900369 | J11: =(I11/E11)*100 -> 87.269373 | K11: =AVERAGE($J$6:$J$16) -> 87.493527 | L11: =(J11-K11) -> -0.22415452
A12: MGL2- | B12: LO2- | C12: 7 | D12: 12 | E12: =1/((SUM(C12*60,D12))/2000) -> 4.6296296 | G12: 4 | H12: 11 | I12: =$F$5/(G12*60+H12) -> 3.9840637 | J12: =(I12/E12)*100 -> 86.055777 | K12: =AVERAGE($J$6:$J$16) -> 87.493527 | L12: =(J12-K12) -> -1.4377503
A13: EJLD 2x | B13: LDN2x | C13: 7 | D13: 58 | E13: =1/((SUM(C13*60,D13))/2000) -> 4.1841004 | G13: 4 | H13: 40 | I13: =$F$5/(G13*60+H13) -> 3.5714286 | J13: =(I13/E13)*100 -> 85.357143 | K13: =AVERAGE($J$6:$J$16) -> 87.493527 | L13: =(J13-K13) -> -2.1363844
A14: MGZ 2- | B14: N2- | C14: 7 | D14: 20 | E14: =1/((SUM(C14*60,D14))/2000) -> 4.5454545 | G14: 4 | H14: 18 | I14: =$F$5/(G14*60+H14) -> 3.875969 | J14: =(I14/E14)*100 -> 85.271318 | K14: =AVERAGE($J$6:$J$16) -> 87.493527 | L14: =(J14-K14) -> -2.2222094
A15: Baukje | B15: DSA1x | C15: 8 | D15: 4 | E15: =1/((SUM(C15*60,D15))/2000) -> 4.1322314 | G15: 4 | H15: 45 | I15: =$F$5/(G15*60+H15) -> 3.5087719 | J15: =(I15/E15)*100 -> 84.912281 | K15: =AVERAGE($J$6:$J$16) -> 87.493527 | L15: =(J15-K15) -> -2.5812465
A16: Reinier | B16: LB1x | C16: 7 | D16: 44 | E16: =1/((SUM(C16*60,D16))/2000) -> 4.3103448 | G16: 4 | H16: 34 | I16: =$F$5/(G16*60+H16) -> 3.649635 | J16: =(I16/E16)*100 -> 84.671533 | K16: =AVERAGE($J$6:$J$16) -> 87.493527 | L16: =(J16-K16) -> -2.8219944
A18: 2e
A19: 1000 | C19: RICHTTIJD | F19: Afstand | J19: indiv. | K19: gem.
B20: Veld | C20: MIN | D20: SEC | E20: m/s | F20: 1000 | I20: m/s | J20: perc. | K20: perc. | L20: verschil
A21: Reinier | B21: LB1x | C21: 7 | D21: 44 | E21: =1/((SUM(C21*60,D21))/2000) -> 4.3103448 | G21: 3 | H21: 38 | I21: =$F$20/(G21*60+H21) -> 4.587156 | J21: =(I21/E21)*100 -> 106.42202 | K21: =AVERAGE($J$21:$J$31) -> 102.49717 | L21: =(J21-K21) -> 3.9248527
A22: EJD8 | B22: DEj8+ | C22: 6 | D22: 58 | E22: =1/((SUM(C22*60,D22))/2000) -> 4.784689 | G22: 3 | H22: 17 | I22: =$F$20/(G22*60+H22) -> 5.0761421 | J22: =(I22/E22)*100 -> 106.09137 | K22: =AVERAGE($J$21:$J$31) -> 102.49717 | L22: =(J22-K22) -> 3.5942049
A23: EJL8 | B23: LB8+ | C23: 6 | D23: 19 | E23: =1/((SUM(C23*60,D23))/2000) -> 5.2770449 | G23: 2 | H23: 59 | I23: =$F$20/(G23*60+H23) -> 5.5865922 | J23: =(I23/E23)*100 -> 105.86592 | K23: =AVERAGE($J$21:$J$31) -> 102.49717 | L23: =(J23-K23) -> 3.3687561
A24: Baukje | B24: DSA1x | C24: 8 | D24: 4 | E24: =1/((SUM(C24*60,D24))/2000) -> 4.1322314 | G24: 3 | H24: 49 | I24: =$F$20/(G24*60+H24) -> 4.3668122 | J24: =(I24/E24)*100 -> 105.67686 | K24: =AVERAGE($J$21:$J$31) -> 102.49717 | L24: =(J24-K24) -> 3.1796902
A25: EJLD4* | B25: LDEj4* | C25: 7 | D25: 40 | E25: =1/((SUM(C25*60,D25))/2000) -> 4.3478261 | G25: 3 | H25: 42 | I25: =$F$20/(G25*60+H25) -> 4.5045045 | J25: =(I25/E25)*100 -> 103.6036 | K25: =AVERAGE($J$21:$J$31) -> 102.49717 | L25: =(J25-K25) -> 1.106438
A26: MGL2- | B26: LO2- | C26: 7 | D26: 12 | E26: =1/((SUM(C26*60,D26))/2000) -> 4.6296296 | G26: 3 | H26: 33 | I26: =$F$20/(G26*60+H26) -> 4.6948357 | J26: =(I26/E26)*100 -> 101.40845 | K26: =AVERAGE($J$21:$J$31) -> 102.49717 | L26: =(J26-K26) -> -1.0887149
A27: EJLD 2x | B27: LDN2x | C27: 7 | D27: 58 | E27: =1/((SUM(C27*60,D27))/2000) -> 4.1841004 | G27: 3 | H27: 57 | I27: =$F$20/(G27*60+H27) -> 4.2194093 | J27: =(I27/E27)*100 -> 100.84388 | K27: =AVERAGE($J$21:$J$31) -> 102.49717 | L27: =(J27-K27) -> -1.6532838
A28: MGZ4- | B28: N4- | C28: 6 | D28: 33 | E28: =1/((SUM(C28*60,D28))/2000) -> 5.0890585 | G28: 3 | H28: 15 | I28: =$F$20/(G28*60+H28) -> 5.1282051 | J28: =(I28/E28)*100 -> 100.76923 | K28: =AVERAGE($J$21:$J$31) -> 102.49717 | L28: =(J28-K28) -> -1.7279349
A29: EJZ8 | B29: B8+ | C29: 6 | D29: 8 | E29: =1/((SUM(C29*60,D29))/2000) -> 5.4347826 | G29: 3 | H29: 4 | I29: =$F$20/(G29*60+H29) -> 5.4347826 | J29: =(I29/E29)*100 -> 100 | K29: =AVERAGE($J$21:$J$31) -> 102.49717 | L29: =(J29-K29) -> -2.4971656
A30: MGZ 2- | B30: N2- | C30: 7 | D30: 20 | E30: =1/((SUM(C30*60,D30))/2000) -> 4.5454545 | G30: 3 | H30: 43 | I30: =$F$20/(G30*60+H30) -> 4.4843049 | J30: =(I30/E30)*100 -> 98.654709 | K30: =AVERAGE($J$21:$J$31) -> 102.49717 | L30: =(J30-K30) -> -3.8424571
A31: EJD4+ | B31: DB4+ | C31: 7 | D31: 53 | E31: =1/((SUM(C31*60,D31))/2000) -> 4.2283298 | G31: 4 | H31: 1 | I31: =$F$20/(G31*60+H31) -> 4.1493776 | J31: =(I31/E31)*100 -> 98.13278 | K31: =AVERAGE($J$21:$J$31) -> 102.49717 | L31: =(J31-K31) -> -4.3643856
A41: 3e | F41: Afstand
B42: Veld | C42: MIN | D42: SEC | E42: m/s | F42: 1000 | I42: m/s | J42: perc. | K42: perc. | L42: verschil
A43: EJD8 | B43: DEj8+ | C43: 6 | D43: 58 | E43: =1/((SUM(C43*60,D43))/2000) -> 4.784689 | G43: 3 | H43: 50 | I43: =$F$20/(G43*60+H43) -> 4.3478261 | J43: =(I43/E43)*100 -> 90.869565 | K43: =AVERAGE($J$43:$J$52) -> 86.687124 | L43: =(J43-K43) -> 4.1824411
A44: EJL8 | B44: LB8+ | C44: 6 | D44: 19 | E44: =1/((SUM(C44*60,D44))/2000) -> 5.2770449 | G44: 3 | H44: 29 | I44: =$F$20/(G44*60+H44) -> 4.784689 | J44: =(I44/E44)*100 -> 90.669856 | K44: =AVERAGE($J$43:$J$52) -> 86.687124 | L44: =(J44-K44) -> 3.9827324
A45: MGZ4- | B45: N4- | C45: 6 | D45: 33 | E45: =1/((SUM(C45*60,D45))/2000) -> 5.0890585 | G45: 3 | H45: 42 | I45: =$F$20/(G45*60+H45) -> 4.5045045 | J45: =(I45/E45)*100 -> 88.513514 | K45: =AVERAGE($J$43:$J$52) -> 86.687124 | L45: =(J45-K45) -> 1.8263894
A46: EJZ8 | B46: B8+ | C46: 6 | D46: 8 | E46: =1/((SUM(C46*60,D46))/2000) -> 5.4347826 | G46: 3 | H46: 28 | I46: =$F$20/(G46*60+H46) -> 4.8076923 | J46: =(I46/E46)*100 -> 88.461538 | K46: =AVERAGE($J$43:$J$52) -> 86.687124 | L46: =(J46-K46) -> 1.7744144
A47: EJLD4* | B47: LDEj4* | C47: 7 | D47: 40 | E47: =1/((SUM(C47*60,D47))/2000) -> 4.3478261 | G47: 4 | H47: 26 | I47: =$F$20/(G47*60+H47) -> 3.7593985 | J47: =(I47/E47)*100 -> 86.466165 | K47: =AVERAGE($J$43:$J$52) -> 86.687124 | L47: =(J47-K47) -> -0.22095869
A48: MGL2- | B48: LO2- | C48: 7 | D48: 12 | E48: =1/((SUM(C48*60,D48))/2000) -> 4.6296296 | G48: 4 | H48: 12 | I48: =$F$20/(G48*60+H48) -> 3.968254 | J48: =(I48/E48)*100 -> 85.714286 | K48: =AVERAGE($J$43:$J$52) -> 86.687124 | L48: =(J48-K48) -> -0.97283839
A49: Baukje | B49: DSA1x | C49: 8 | D49: 4 | E49: =1/((SUM(C49*60,D49))/2000) -> 4.1322314 | G49: 4 | H49: 44 | I49: =$F$20/(G49*60+H49) -> 3.5211268 | J49: =(I49/E49)*100 -> 85.211268 | K49: =AVERAGE($J$43:$J$52) -> 86.687124 | L49: =(J49-K49) -> -1.4758565
A50: Reinier | B50: LB1x | C50: 7 | D50: 44 | E50: =1/((SUM(C50*60,D50))/2000) -> 4.3103448 | G50: 4 | H50: 34 | I50: =$F$20/(G50*60+H50) -> 3.649635 | J50: =(I50/E50)*100 -> 84.671533 | K50: =AVERAGE($J$43:$J$52) -> 86.687124 | L50: =(J50-K50) -> -2.0155913
A51: EJD4+ | B51: DB4+ | C51: 7 | D51: 53 | E51: =1/((SUM(C51*60,D51))/2000) -> 4.2283298 | G51: 4 | H51: 44 | I51: =$F$20/(G51*60+H51) -> 3.5211268 | J51: =(I51/E51)*100 -> 83.274648 | K51: =AVERAGE($J$43:$J$52) -> 86.687124 | L51: =(J51-K51) -> -3.4124762
A52: MGZ 2- | B52: N2- | C52: 7 | D52: 20 | E52: =1/((SUM(C52*60,D52))/2000) -> 4.5454545 | G52: 4 | H52: 25 | I52: =$F$20/(G52*60+H52) -> 3.7735849 | J52: =(I52/E52)*100 -> 83.018868 | K52: =AVERAGE($J$43:$J$52) -> 86.687124 | L52: =(J52-K52) -> -3.6682562
A54: GEMIDDELD
A55: 1000 | C55: RICHTTIJD | F55: Afstand | J55: indiv. | K55: gem. | N55: Resultaat Hollandia
B56: Veld | C56: MIN | D56: SEC | E56: m/s | F56: 1000 | I56: m/s | J56: perc. | K56: perc. | L56: verschil | N56: in gerext veld | O56: van de
A57: EJD8 | B57: DEj8+ | C57: 6 | D57: 58 | E57: =1/((SUM(C57*60,D57))/2000) -> 4.784689 | G57: 3 | H57: 40 | I57: =$F$20/(G57*60+H57) -> 4.5454545 | J57: =(I57/E57)*100 -> 95 | K57: =AVERAGE($J$57:$J$66) -> 91.717432 | L57: =(J57-K57) -> 3.2825681 | N57: 2 | O57: 14
A58: EJL8 | B58: LEj8+ | C58: 6 | D58: 19 | E58: =1/((SUM(C58*60,D58))/2000) -> 5.2770449 | G58: 3 | H58: 20 | I58: =$F$20/(G58*60+H58) -> 5 | J58: =(I58/E58)*100 -> 94.75 | K58: =AVERAGE($J$57:$J$66) -> 91.717432 | L58: =(J58-K58) -> 3.0325681 | N58: 1 | O58: 15
A59: MGZ4- | B59: N4- | C59: 6 | D59: 33 | E59: =1/((SUM(C59*60,D59))/2000) -> 5.0890585 | G59: 3 | H59: 31 | I59: =$F$20/(G59*60+H59) -> 4.7393365 | J59: =(I59/E59)*100 -> 93.127962 | K59: =AVERAGE($J$57:$J$66) -> 91.717432 | L59: =(J59-K59) -> 1.4105302 | N59: 3 | O59: 13
A60: EJZ8 | B60: B8+ | C60: 6 | D60: 8 | E60: =1/((SUM(C60*60,D60))/2000) -> 5.4347826 | G60: 3 | H60: 18 | I60: =$F$20/(G60*60+H60) -> 5.0505051 | J60: =(I60/E60)*100 -> 92.929293 | K60: =AVERAGE($J$57:$J$66) -> 91.717432 | L60: =(J60-K60) -> 1.2118611 | N60: 3 | O60: 15
A61: EJLD4* | B61: LDEj4* | C61: 7 | D61: 40 | E61: =1/((SUM(C61*60,D61))/2000) -> 4.3478261 | G61: 4 | H61: 10 | I61: =$F$20/(G61*60+H61) -> 4 | J61: =(I61/E61)*100 -> 92 | K61: =AVERAGE($J$57:$J$66) -> 91.717432 | L61: =(J61-K61) -> 0.28256812 | N61: 7 | O61: 12
A62: Reinier | B62: LB1x | C62: 7 | D62: 44 | E62: =1/((SUM(C62*60,D62))/2000) -> 4.3103448 | G62: 4 | H62: 15 | I62: =$F$20/(G62*60+H62) -> 3.9215686 | J62: =(I62/E62)*100 -> 90.980392 | K62: =AVERAGE($J$57:$J$66) -> 91.717432 | L62: =(J62-K62) -> -0.73703972 | N62: 3 | O62: 12
A63: Baukje | B63: DSA1x | C63: 8 | D63: 4 | E63: =1/((SUM(C63*60,D63))/2000) -> 4.1322314 | G63: 4 | H63: 26 | I63: =$F$20/(G63*60+H63) -> 3.7593985 | J63: =(I63/E63)*100 -> 90.977444 | K63: =AVERAGE($J$57:$J$66) -> 91.717432 | L63: =(J63-K63) -> -0.73998827 | N63: 5 | O63: 11
A64: MGL2- | B64: LO2- | C64: 7 | D64: 12 | E64: =1/((SUM(C64*60,D64))/2000) -> 4.6296296 | G64: 3 | H64: 59 | I64: =$F$20/(G64*60+H64) -> 4.1841004 | J64: =(I64/E64)*100 -> 90.376569 | K64: =AVERAGE($J$57:$J$66) -> 91.717432 | L64: =(J64-K64) -> -1.3408628 | N64: 4 | O64: 9
A65: EJD4+ | B65: DN4+ | C65: 7 | D65: 50 | E65: =1/((SUM(C65*60,D65))/2000) -> 4.2553191 | G65: 4 | H65: 25 | I65: =$F$20/(G65*60+H65) -> 3.7735849 | J65: =(I65/E65)*100 -> 88.679245 | K65: =AVERAGE($J$57:$J$66) -> 91.717432 | L65: =(J65-K65) -> -3.0381866 | N65: 5 | O65: 11
A66: MGZ 2- | B66: N2- | C66: 7 | D66: 20 | E66: =1/((SUM(C66*60,D66))/2000) -> 4.5454545 | G66: 4 | H66: 9 | I66: =$F$20/(G66*60+H66) -> 4.0160643 | J66: =(I66/E66)*100 -> 88.353414 | K66: =AVERAGE($J$57:$J$66) -> 91.717432 | L66: =(J66-K66) -> -3.3640182 | N66: 5 | O66: 12
A67: Alleen ploegen die drie keer gestart hebben staan in het gemiddelde overzicht

Sheet 29-05-2016 (KHB ZRB Rex)
A1: KHB/ZRB Rex 29 mei
A2: 1200 / 700 / 700 meter
A3: 1e
A4: 1200 | C4: RICHTTIJD | F4: Afstand | J4: indiv. | K4: gem.
B5: Veld | C5: MIN | D5: SEC | E5: m/s | F5: 1200 | G5: MIN | H5: SEC | I5: m/s | J5: perc. | K5: perc. | L5: verschil
A6: EJZ8 | B6: B8+ | C6: 6 | D6: 8 | E6: =1/((SUM(C6*60,D6))/2000) -> 5.4347826 | G6: 3 | H6: 45 | I6: =$F$5/(G6*60+H6) -> 5.3333333 | J6: =(I6/E6)*100 -> 98.133333 | K6: =AVERAGE($J$6:$J$15) -> 96.110252 | L6: =(J6-K6) -> 2.023081
A7: Reinier | B7: LB1x | C7: 7 | D7: 44 | E7: =1/((SUM(C7*60,D7))/2000) -> 4.3103448 | G7: 4 | H7: 44 | I7: =$F$5/(G7*60+H7) -> 4.2253521 | J7: =(I7/E7)*100 -> 98.028169 | K7: =AVERAGE($J$6:$J$15) -> 96.110252 | L7: =(J7-K7) -> 1.9179167
A8: EJL8 | B8: LEj8+ | C8: 6 | D8: 19 | E8: =1/((SUM(C8*60,D8))/2000) -> 5.2770449 | G8: 3 | H8: 54 | I8: =$F$5/(G8*60+H8) -> 5.1282051 | J8: =(I8/E8)*100 -> 97.179487 | K8: =AVERAGE($J$6:$J$15) -> 96.110252 | L8: =(J8-K8) -> 1.0692349
A9: Iris | B9: LDB1x | C9: 8 | D9: 40 | E9: =1/((SUM(C9*60,D9))/2000) -> 3.8461538 | G9: 5 | H9: 22 | I9: =$F$5/(G9*60+H9) -> 3.7267081 | J9: =(I9/E9)*100 -> 96.89441 | K9: =AVERAGE($J$6:$J$15) -> 96.110252 | L9: =(J9-K9) -> 0.78415762
A10: Luuk | B10: SA1x | C10: 7 | D10: 15 | E10: =1/((SUM(C10*60,D10))/2000) -> 4.5977011 | G10: 4 | H10: 30 | I10: =$F$5/(G10*60+H10) -> 4.4444444 | J10: =(I10/E10)*100 -> 96.666667 | K10: =AVERAGE($J$6:$J$15) -> 96.110252 | L10: =(J10-K10) -> 0.55641435
A11: EJLD4x | B11: LWfm4x | C11: 7 | D11: 28 | E11: =1/((SUM(C11*60,D11))/2000) -> 4.4642857 | G11: 4 | H11: 39 | I11: =$F$5/(G11*60+H11) -> 4.3010753 | J11: =(I11/E11)*100 -> 96.344086 | K11: =AVERAGE($J$6:$J$15) -> 96.110252 | L11: =(J11-K11) -> 0.23383371
A12: MGZ4- | B12: N4- | C12: 6 | D12: 33 | E12: =1/((SUM(C12*60,D12))/2000) -> 5.0890585 | G12: 4 | H12: 5 | I12: =$F$5/(G12*60+H12) -> 4.8979592 | J12: =(I12/E12)*100 -> 96.244898 | K12: =AVERAGE($J$6:$J$15) -> 96.110252 | L12: =(J12-K12) -> 0.13464565
A13: MGZ 2- | B13: N2- | C13: 7 | D13: 20 | E13: =1/((SUM(C13*60,D13))/2000) -> 4.5454545 | G13: 4 | H13: 36 | I13: =$F$5/(G13*60+H13) -> 4.3478261 | J13: =(I13/E13)*100 -> 95.652174 | K13: =AVERAGE($J$6:$J$15) -> 96.110252 | L13: =(J13-K13) -> -0.4580784
A14: Floor | B14: LDB1x | C14: 8 | D14: 40 | E14: =1/((SUM(C14*60,D14))/2000) -> 3.8461538 | G14: 5 | H14: 34 | I14: =$F$5/(G14*60+H14) -> 3.5928144 | J14: =(I14/E14)*100 -> 93.413174 | K14: =AVERAGE($J$6:$J$15) -> 96.110252 | L14: =(J14-K14) -> -2.6970787
A15: EJD8 | B15: DEj8+ | C15: 6 | D15: 58 | E15: =1/((SUM(C15*60,D15))/2000) -> 4.784689 | G15: 4 | H15: 31 | I15: =$F$5/(G15*60+H15) -> 4.4280443 | J15: =(I15/E15)*100 -> 92.546125 | K15: =AVERAGE($J$6:$J$15) -> 96.110252 | L15: =(J15-K15) -> -3.5641269
A17: 700 | C17: RICHTTIJD | F17: Afstand | J17: indiv. | K17: gem.
B18: Veld | C18: MIN | D18: SEC | E18: m/s | F18: 700 | G18: MIN | H18: SEC | I18: m/s | J18: perc. | K18: perc. | L18: verschil
A19: EJL8 | B19: LEj8+ | C19: 6 | D19: 19 | E19: =1/((SUM(C19*60,D19))/2000) -> 5.2770449 | G19: 2 | H19: 9 | I19: =$F$18/(G19*60+H19) -> 5.4263566 | J19: =(I19/E19)*100 -> 102.82946 | K19: =AVERAGE($J$19:$J$28) -> 99.378569 | L19: =(J19-K19) -> 3.4508883
A20: Reinier | B20: LB1x | C20: 7 | D20: 44 | E20: =1/((SUM(C20*60,D20))/2000) -> 4.3103448 | G20: 2 | H20: 40 | I20: =$F$18/(G20*60+H20) -> 4.375 | J20: =(I20/E20)*100 -> 101.5 | K20: =AVERAGE($J$19:$J$28) -> 99.378569 | L20: =(J20-K20) -> 2.1214309
A21: EJZ8 | B21: B8+ | C21: 6 | D21: 8 | E21: =1/((SUM(C21*60,D21))/2000) -> 5.4347826 | G21: 2 | H21: 8 | I21: =$F$18/(G21*60+H21) -> 5.46875 | J21: =(I21/E21)*100 -> 100.625 | K21: =AVERAGE($J$19:$J$28) -> 99.378569 | L21: =(J21-K21) -> 1.2464309
A22: Iris | B22: LDB1x | C22: 8 | D22: 40 | E22: =1/((SUM(C22*60,D22))/2000) -> 3.8461538 | G22: 3 | H22: 1 | I22: =$F$18/(G22*60+H22) -> 3.8674033 | J22: =(I22/E22)*100 -> 100.55249 | K22: =AVERAGE($J$19:$J$28) -> 99.378569 | L22: =(J22-K22) -> 1.1739171
A23: EJLD4x | B23: LWfm4x | C23: 7 | D23: 28 | E23: =1/((SUM(C23*60,D23))/2000) -> 4.4642857 | G23: 2 | H23: 36 | I23: =$F$18/(G23*60+H23) -> 4.4871795 | J23: =(I23/E23)*100 -> 100.51282 | K23: =AVERAGE($J$19:$J$28) -> 99.378569 | L23: =(J23-K23) -> 1.1342515
A24: MGZ4- | B24: N4- | C24: 6 | D24: 33 | E24: =1/((SUM(C24*60,D24))/2000) -> 5.0890585 | G24: 2 | H24: 18 | I24: =$F$18/(G24*60+H24) -> 5.0724638 | J24: =(I24/E24)*100 -> 99.673913 | K24: =AVERAGE($J$19:$J$28) -> 99.378569 | L24: =(J24-K24) -> 0.29534398
A25: Luuk | B25: SA1x | C25: 7 | D25: 15 | E25: =1/((SUM(C25*60,D25))/2000) -> 4.5977011 | G25: 2 | H25: 34 | I25: =$F$18/(G25*60+H25) -> 4.5454545 | J25: =(I25/E25)*100 -> 98.863636 | K25: =AVERAGE($J$19:$J$28) -> 99.378569 | L25: =(J25-K25) -> -0.5149327
A26: Floor | B26: LDB1x | C26: 8 | D26: 40 | E26: =1/((SUM(C26*60,D26))/2000) -> 3.8461538 | G26: 3 | H26: 7 | I26: =$F$18/(G26*60+H26) -> 3.7433155 | J26: =(I26/E26)*100 -> 97.326203 | K26: =AVERAGE($J$19:$J$28) -> 99.378569 | L26: =(J26-K26) -> -2.0523659
A27: EJD8 | B27: DEj8+ | C27: 6 | D27: 58 | E27: =1/((SUM(C27*60,D27))/2000) -> 4.784689 | G27: 2 | H27: 32 | I27: =$F$18/(G27*60+H27) -> 4.6052632 | J27: =(I27/E27)*100 -> 96.25 | K27: =AVERAGE($J$19:$J$28) -> 99.378569 | L27: =(J27-K27) -> -3.1285691
A28: MGZ 2- | B28: N2- | C28: 7 | D28: 20 | E28: =1/((SUM(C28*60,D28))/2000) -> 4.5454545 | G28: 2 | H28: 41 | I28: =$F$18/(G28*60+H28) -> 4.3478261 | J28: =(I28/E28)*100 -> 95.652174 | K28: =AVERAGE($J$19:$J$28) -> 99.378569 | L28: =(J28-K28) -> -3.7263951
A37: 700 | C37: RICHTTIJD | F37: Afstand | J37: indiv. | K37: gem.
B38: Veld | C38: MIN | D38: SEC | E38: m/s | F38: 700 | G38: MIN | H38: SEC | I38: m/s | J38: perc. | K38: perc. | L38: verschil
A39: EJD8 | B39: DEj8+ | C39: 6 | D39: 58 | E39: =1/((SUM(C39*60,D39))/2000) -> 4.784689 | G39: 2 | H39: 30 | I39: =$F$18/(G39*60+H39) -> 4.6666667 | J39: =(I39/E39)*100 -> 97.533333 | K39: =AVERAGE($J$39:$J$47) -> 96.204687 | L39: =(J39-K39) -> 1.3286466
A40: MGZ 2- | B40: N2- | C40: 7 | D40: 20 | E40: =1/((SUM(C40*60,D40))/2000) -> 4.5454545 | G40: 2 | H40: 38 | I40: =$F$18/(G40*60+H40) -> 4.4303797 | J40: =(I40/E40)*100 -> 97.468354 | K40: =AVERAGE($J$39:$J$47) -> 96.204687 | L40: =(J40-K40) -> 1.2636677
A41: Reinier | B41: LB1x | C41: 7 | D41: 44 | E41: =1/((SUM(C41*60,D41))/2000) -> 4.3103448 | G41: 2 | H41: 47 | I41: =$F$18/(G41*60+H41) -> 4.1916168 | J41: =(I41/E41)*100 -> 97.245509 | K41: =AVERAGE($J$39:$J$47) -> 96.204687 | L41: =(J41-K41) -> 1.0408222
A42: Iris | B42: LDB1x | C42: 8 | D42: 40 | E42: =1/((SUM(C42*60,D42))/2000) -> 3.8461538 | G42: 3 | H42: 8 | I42: =$F$18/(G42*60+H42) -> 3.7234043 | J42: =(I42/E42)*100 -> 96.808511 | K42: =AVERAGE($J$39:$J$47) -> 96.204687 | L42: =(J42-K42) -> 0.60382388
A43: EJL8 | B43: LEj8+ | C43: 6 | D43: 19 | E43: =1/((SUM(C43*60,D43))/2000) -> 5.2770449 | G43: 2 | H43: 18 | I43: =$F$18/(G43*60+H43) -> 5.0724638 | J43: =(I43/E43)*100 -> 96.123188 | K43: =AVERAGE($J$39:$J$47) -> 96.204687 | L43: =(J43-K43) -> -0.081498353
A44: EJZ8 | B44: B8+ | C44: 6 | D44: 8 | E44: =1/((SUM(C44*60,D44))/2000) -> 5.4347826 | G44: 2 | H44: 14 | I44: =$F$18/(G44*60+H44) -> 5.2238806 | J44: =(I44/E44)*100 -> 96.119403 | K44: =AVERAGE($J$39:$J$47) -> 96.204687 | L44: =(J44-K44) -> -0.085283773
A45: MGZ4- | B45: N4- | C45: 6 | D45: 33 | E45: =1/((SUM(C45*60,D45))/2000) -> 5.0890585 | G45: 2 | H45: 24 | I45: =$F$18/(G45*60+H45) -> 4.8611111 | J45: =(I45/E45)*100 -> 95.520833 | K45: =AVERAGE($J$39:$J$47) -> 96.204687 | L45: =(J45-K45) -> -0.68385342
A46: Luuk | B46: SA1x | C46: 7 | D46: 15 | E46: =1/((SUM(C46*60,D46))/2000) -> 4.5977011 | G46: 2 | H46: 41 | I46: =$F$18/(G46*60+H46) -> 4.3478261 | J46: =(I46/E46)*100 -> 94.565217 | K46: =AVERAGE($J$39:$J$47) -> 96.204687 | L46: =(J46-K46) -> -1.6394694
A47: EJLD4x | B47: LWfm4x | C47: 7 | D47: 28 | E47: =1/((SUM(C47*60,D47))/2000) -> 4.4642857 | G47: 2 | H47: 46 | I47: =$F$18/(G47*60+H47) -> 4.2168675 | J47: =(I47/E47)*100 -> 94.457831 | K47: =AVERAGE($J$39:$J$47) -> 96.204687 | L47: =(J47-K47) -> -1.7468554

Sheet veldgemiddelen
A1: UITSLAGEN ReX-Test
C2: RICHTTIJD | F2: Afstand | J2: indiv. | K2: gem.
A3: ploeg | C3: MIN | D3: SEC | E3: m/s | F3: 3000 | G3: MIN | H3: SEC | I3: m/s | J3: perc. | K3: perc. | L3: verschil
A4: EJ8 | B4: ='alle veldtijden'!C4 -> 0.0042837691 | C4: =MINUTE(B4) -> 6 | D4: =SECOND(B4) -> 10 | E4: =1/((SUM(C4*60,D4))/2000) -> 5.4054054 | I4: =1/((SUM(G4*60,H4))/(F3)) -> #DIV/0! | J4: =(I4/E4)*100 -> #DIV/0! | K4: =AVERAGE(J4:J80) -> #DIV/0! | L4: =(J4-K4) -> #DIV/0!
A5: B8 | B5: ='alle veldtijden'!C5 -> 0.0042581208 | C5: =MINUTE(B5) -> 6 | D5: =SECOND(B5) -> 8 | E5: =1/((SUM(C5*60,D5))/2000) -> 5.4347826 | I5: =1/((SUM(G5*60,H5))/(F3)) -> #DIV/0! | J5: =(I5/E5)*100 -> #DIV/0! | K5: =AVERAGE(J5:J81) -> #DIV/0! | L5: =(J5-K5) -> #DIV/0!
A6: N8 | B6: ='alle veldtijden'!C6 -> 0.0042156339 | C6: =MINUTE(B6) -> 6 | D6: =SECOND(B6) -> 4 | E6: =1/((SUM(C6*60,D6))/2000) -> 5.4945055 | I6: =1/((SUM(G6*60,H6))/(F3)) -> #DIV/0! | J6: =(I6/E6)*100 -> #DIV/0! | K6: =AVERAGE(J5:J81) -> #DIV/0! | L6: =(J6-K6) -> #DIV/0!
A7: O8 | B7: ='alle veldtijden'!C7 -> 0.0041965664 | C7: =MINUTE(B7) -> 6 | D7: =SECOND(B7) -> 3 | E7: =1/((SUM(C7*60,D7))/2000) -> 5.5096419 | I7: =1/((SUM(G7*60,H7))/(F3)) -> #DIV/0! | J7: =(I7/E7)*100 -> #DIV/0! | K7: =AVERAGE(J5:J81) -> #DIV/0! | L7: =(J7-K7) -> #DIV/0!
A8: SA8 | B8: ='alle veldtijden'!C8 -> 0.0040644735 | C8: =MINUTE(B8) -> 5 | D8: =SECOND(B8) -> 51 | E8: =1/((SUM(C8*60,D8))/2000) -> 5.6980057 | I8: =1/((SUM(G8*60,H8))/(F3)) -> #DIV/0! | J8: =(I8/E8)*100 -> #DIV/0! | K8: =AVERAGE(J5:J81) -> #DIV/0! | L8: =(J8-K8) -> #DIV/0!
A9: LEJ8 | B9: ='alle veldtijden'!C9 -> 0.0043838508 | C9: =MINUTE(B9) -> 6 | D9: =SECOND(B9) -> 19 | E9: =1/((SUM(C9*60,D9))/2000) -> 5.2770449 | I9: =1/((SUM(G9*60,H9))/(F3)) -> #DIV/0! | J9: =(I9/E9)*100 -> #DIV/0! | K9: =AVERAGE(J4:J80) -> #DIV/0! | L9: =(J9-K9) -> #DIV/0!
A10: LB8 | B10: ='alle veldtijden'!C10 -> 0.0043869536 | C10: =MINUTE(B10) -> 6 | D10: =SECOND(B10) -> 19 | E10: =1/((SUM(C10*60,D10))/2000) -> 5.2770449 | I10: =1/((SUM(G10*60,H10))/(F3)) -> #DIV/0! | J10: =(I10/E10)*100 -> #DIV/0! | K10: =AVERAGE(J5:J81) -> #DIV/0! | L10: =(J10-K10) -> #DIV/0!
A11: LN8 | B11: ='alle veldtijden'!C11 -> 0.0043150253 | C11: =MINUTE(B11) -> 6 | D11: =SECOND(B11) -> 13 | E11: =1/((SUM(C11*60,D11))/2000) -> 5.3619303 | I11: =1/((SUM(G11*60,H11))/(F3)) -> #DIV/0! | J11: =(I11/E11)*100 -> #DIV/0! | K11: =AVERAGE(J5:J81) -> #DIV/0! | L11: =(J11-K11) -> #DIV/0!
A12: LO8 | B12: ='alle veldtijden'!C12 -> 0.0042370014 | C12: =MINUTE(B12) -> 6 | D12: =SECOND(B12) -> 6 | E12: =1/((SUM(C12*60,D12))/2000) -> 5.4644809 | I12: =1/((SUM(G12*60,H12))/(F3)) -> #DIV/0! | J12: =(I12/E12)*100 -> #DIV/0! | K12: =AVERAGE(J5:J81) -> #DIV/0! | L12: =(J12-K12) -> #DIV/0!
A13: LSA8 | B13: ='alle veldtijden'!C13 -> 0.0042209821 | C13: =MINUTE(B13) -> 6 | D13: =SECOND(B13) -> 5 | E13: =1/((SUM(C13*60,D13))/2000) -> 5.4794521 | I13: =1/((SUM(G13*60,H13))/(F3)) -> #DIV/0! | J13: =(I13/E13)*100 -> #DIV/0! | K13: =AVERAGE(J5:J81) -> #DIV/0! | L13: =(J13-K13) -> #DIV/0!
A14: DEJ8 | B14: ='alle veldtijden'!C14 -> 0.0048361474 | C14: =MINUTE(B14) -> 6 | D14: =SECOND(B14) -> 58 | E14: =1/((SUM(C14*60,D14))/2000) -> 4.784689 | I14: =1/((SUM(G14*60,H14))/(F3)) -> #DIV/0! | J14: =(I14/E14)*100 -> #DIV/0! | K14: =AVERAGE(J4:J80) -> #DIV/0! | L14: =(J14-K14) -> #DIV/0!
A15: DB8 | B15: ='alle veldtijden'!C15 -> 0.0048654047 | C15: =MINUTE(B15) -> 7 | D15: =SECOND(B15) -> 0 | E15: =1/((SUM(C15*60,D15))/2000) -> 4.7619048 | I15: =1/((SUM(G15*60,H15))/(F3)) -> #DIV/0! | J15: =(I15/E15)*100 -> #DIV/0! | K15: =AVERAGE(J5:J81) -> #DIV/0! | L15: =(J15-K15) -> #DIV/0!
A16: DN8 | B16: ='alle veldtijden'!C16 -> 0.0048165954 | C16: =MINUTE(B16) -> 6 | D16: =SECOND(B16) -> 56 | E16: =1/((SUM(C16*60,D16))/2000) -> 4.8076923 | I16: =1/((SUM(G16*60,H16))/(F3)) -> #DIV/0! | J16: =(I16/E16)*100 -> #DIV/0! | K16: =AVERAGE(J5:J81) -> #DIV/0! | L16: =(J16-K16) -> #DIV/0!
A17: DO8 | B17: ='alle veldtijden'!C17 -> 0.0047472994 | C17: =MINUTE(B17) -> 6 | D17: =SECOND(B17) -> 50 | E17: =1/((SUM(C17*60,D17))/2000) -> 4.8780488 | I17: =1/((SUM(G17*60,H17))/(F3)) -> #DIV/0! | J17: =(I17/E17)*100 -> #DIV/0! | K17: =AVERAGE(J5:J81) -> #DIV/0! | L17: =(J17-K17) -> #DIV/0!
A18: DSA8 | B18: ='alle veldtijden'!C18 -> 0.0046180177 | C18: =MINUTE(B18) -> 6 | D18: =SECOND(B18) -> 39 | E18: =1/((SUM(C18*60,D18))/2000) -> 5.0125313 | I18: =1/((SUM(G18*60,H18))/(F3)) -> #DIV/0! | J18: =(I18/E18)*100 -> #DIV/0! | K18: =AVERAGE(J5:J81) -> #DIV/0! | L18: =(J18-K18) -> #DIV/0!
A19: LDEJ4 | B19: ='alle veldtijden'!C33 -> 0.0053786265 | C19: =MINUTE(B19) -> 7 | D19: =SECOND(B19) -> 45 | E19: =1/((SUM(C19*60,D19))/2000) -> 4.3010753 | I19: =1/((SUM(G19*60,H19))/(F3)) -> #DIV/0! | J19: =(I19/E19)*100 -> #DIV/0! | K19: =AVERAGE(J5:J81) -> #DIV/0! | L19: =(J19-K19) -> #DIV/0!
A20: B4+ | B20: ='alle veldtijden'!C20 -> 0.0048491114 | C20: =MINUTE(B20) -> 6 | D20: =SECOND(B20) -> 59 | E20: =1/((SUM(C20*60,D20))/2000) -> 4.7732697 | I20: =1/((SUM(G20*60,H20))/(F3)) -> #DIV/0! | J20: =(I20/E20)*100 -> #DIV/0! | K20: =AVERAGE(J5:J81) -> #DIV/0! | L20: =(J20-K20) -> #DIV/0!
A21: N4+ | B21: ='alle veldtijden'!C21 -> 0.0047515607 | C21: =MINUTE(B21) -> 6 | D21: =SECOND(B21) -> 51 | E21: =1/((SUM(C21*60,D21))/2000) -> 4.86618 | I21: =1/((SUM(G21*60,H21))/(F3)) -> #DIV/0! | J21: =(I21/E21)*100 -> #DIV/0! | K21: =AVERAGE(J5:J81) -> #DIV/0! | L21: =(J21-K21) -> #DIV/0!
A22: O4+ | B22: ='alle veldtijden'!C22 -> 0.00467052 | C22: =MINUTE(B22) -> 6 | D22: =SECOND(B22) -> 44 | E22: =1/((SUM(C22*60,D22))/2000) -> 4.950495 | I22: =1/((SUM(G22*60,H22))/(F3)) -> #DIV/0! | J22: =(I22/E22)*100 -> #DIV/0! | K22: =AVERAGE(J5:J81) -> #DIV/0! | L22: =(J22-K22) -> #DIV/0!
A23: SA4+ | B23: ='alle veldtijden'!C23 -> 0.0045325855 | C23: =MINUTE(B23) -> 6 | D23: =SECOND(B23) -> 32 | E23: =1/((SUM(C23*60,D23))/2000) -> 5.1020408 | I23: =1/((SUM(G23*60,H23))/(F3)) -> #DIV/0! | J23: =(I23/E23)*100 -> #DIV/0! | K23: =AVERAGE(J5:J81) -> #DIV/0! | L23: =(J23-K23) -> #DIV/0!
A24: LB4+ | B24: ='alle veldtijden'!C24 -> 0.004940191 | C24: =MINUTE(B24) -> 7 | D24: =SECOND(B24) -> 7 | E24: =1/((SUM(C24*60,D24))/2000) -> 4.6838407 | I24: =1/((SUM(G24*60,H24))/(F3)) -> #DIV/0! | J24: =(I24/E24)*100 -> #DIV/0! | K24: =AVERAGE(J5:J81) -> #DIV/0! | L24: =(J24-K24) -> #DIV/0!
A25: LN4+ | B25: ='alle veldtijden'!C25 -> 0.004892152 | C25: =MINUTE(B25) -> 7 | D25: =SECOND(B25) -> 3 | E25: =1/((SUM(C25*60,D25))/2000) -> 4.7281324 | I25: =1/((SUM(G25*60,H25))/(F3)) -> #DIV/0! | J25: =(I25/E25)*100 -> #DIV/0! | K25: =AVERAGE(J5:J81) -> #DIV/0! | L25: =(J25-K25) -> #DIV/0!
A26: LO4+ | B26: ='alle veldtijden'!C26 -> 0.0048347222 | C26: =MINUTE(B26) -> 6 | D26: =SECOND(B26) -> 58 | E26: =1/((SUM(C26*60,D26))/2000) -> 4.784689 | I26: =1/((SUM(G26*60,H26))/(F3)) -> #DIV/0! | J26: =(I26/E26)*100 -> #DIV/0! | K26: =AVERAGE(J5:J81) -> #DIV/0! | L26: =(J26-K26) -> #DIV/0!
A27: LSA4+ | I27: =1/((SUM(G27*60,H27))/(F39)) -> #DIV/0! | J27: =(I27/E27)*100 -> #DIV/0! | K27: =AVERAGE(J5:J81) -> #DIV/0! | L27: =(J27-K27) -> #DIV/0!
A28: DB4+ | B28: ='alle veldtijden'!C28 -> 0.0054755768 | C28: =MINUTE(B28) -> 7 | D28: =SECOND(B28) -> 53 | E28: =1/((SUM(C28*60,D28))/2000) -> 4.2283298 | I28: =1/((SUM(G28*60,H28))/(F3)) -> #DIV/0! | J28: =(I28/E28)*100 -> #DIV/0! | K28: =AVERAGE(J5:J81) -> #DIV/0! | L28: =(J28-K28) -> #DIV/0!
A29: DN4+ | B29: ='alle veldtijden'!C29 -> 0.0054399544 | C29: =MINUTE(B29) -> 7 | D29: =SECOND(B29) -> 50 | E29: =1/((SUM(C29*60,D29))/2000) -> 4.2553191 | I29: =1/((SUM(G29*60,H29))/(F3)) -> #DIV/0! | J29: =(I29/E29)*100 -> #DIV/0! | K29: =AVERAGE(J5:J81) -> #DIV/0! | L29: =(J29-K29) -> #DIV/0!
A30: DO4+ | B30: ='alle veldtijden'!C30 -> 0.0053522908 | C30: =MINUTE(B30) -> 7 | D30: =SECOND(B30) -> 42 | E30: =1/((SUM(C30*60,D30))/2000) -> 4.3290043 | I30: =1/((SUM(G30*60,H30))/(F3)) -> #DIV/0! | J30: =(I30/E30)*100 -> #DIV/0! | K30: =AVERAGE(J5:J81) -> #DIV/0! | L30: =(J30-K30) -> #DIV/0!
A31: DSA4+ | I31: =1/((SUM(G31*60,H31))/(F3)) -> #DIV/0! | J31: =(I31/E31)*100 -> #DIV/0! | K31: =AVERAGE(J5:J81) -> #DIV/0! | L31: =(J31-K31) -> #DIV/0!
A33: N4- | B33: ='alle veldtijden'!C35 -> 0.0045441157 | C33: =MINUTE(B33) -> 6 | D33: =SECOND(B33) -> 33 | E33: =1/((SUM(C33*60,D33))/2000) -> 5.0890585 | I33: =1/((SUM(G33*60,H33))/(F3)) -> #DIV/0! | J33: =(I33/E33)*100 -> #DIV/0! | K33: =AVERAGE(J5:J81) -> #DIV/0! | L33: =(J33-K33) -> #DIV/0!
A34: O4- | B34: ='alle veldtijden'!C36 -> 0.0044874355 | C34: =MINUTE(B34) -> 6 | D34: =SECOND(B34) -> 28 | E34: =1/((SUM(C34*60,D34))/2000) -> 5.1546392 | I34: =1/((SUM(G34*60,H34))/(F3)) -> #DIV/0! | J34: =(I34/E34)*100 -> #DIV/0! | K34: =AVERAGE(J5:J81) -> #DIV/0! | L34: =(J34-K34) -> #DIV/0!
A35: SA4- | B35: ='alle veldtijden'!C37 -> 0.0043436462 | C35: =MINUTE(B35) -> 6 | D35: =SECOND(B35) -> 15 | E35: =1/((SUM(C35*60,D35))/2000) -> 5.3333333 | I35: =1/((SUM(G35*60,H35))/(F3)) -> #DIV/0! | J35: =(I35/E35)*100 -> #DIV/0! | K35: =AVERAGE(J5:J81) -> #DIV/0! | L35: =(J35-K35) -> #DIV/0!
A36: LN4- | B36: ='alle veldtijden'!C39 -> 0.0045906759 | C36: =MINUTE(B36) -> 6 | D36: =SECOND(B36) -> 37 | E36: =1/((SUM(C36*60,D36))/2000) -> 5.0377834 | I36: =1/((SUM(G36*60,H36))/(F3)) -> #DIV/0! | J36: =(I36/E36)*100 -> #DIV/0! | K36: =AVERAGE(J5:J81) -> #DIV/0! | L36: =(J36-K36) -> #DIV/0!
A37: LO4- | B37: ='alle veldtijden'!C40 -> 0.0045160204 | C37: =MINUTE(B37) -> 6 | D37: =SECOND(B37) -> 30 | E37: =1/((SUM(C37*60,D37))/2000) -> 5.1282051 | I37: =1/((SUM(G37*60,H37))/(F3)) -> #DIV/0! | J37: =(I37/E37)*100 -> #DIV/0! | K37: =AVERAGE(J5:J81) -> #DIV/0! | L37: =(J37-K37) -> #DIV/0!
A38: LSA4- | B38: ='alle veldtijden'!C41 -> 0.0044011894 | C38: =MINUTE(B38) -> 6 | D38: =SECOND(B38) -> 20 | E38: =1/((SUM(C38*60,D38))/2000) -> 5.2631579 | I38: =1/((SUM(G38*60,H38))/(F3)) -> #DIV/0! | J38: =(I38/E38)*100 -> #DIV/0! | K38: =AVERAGE(J5:J81) -> #DIV/0! | L38: =(J38-K38) -> #DIV/0!
A39: DN4- | B39: ='alle veldtijden'!C44 -> 0.0051003426 | C39: =MINUTE(B39) -> 7 | D39: =SECOND(B39) -> 21 | E39: =1/((SUM(C39*60,D39))/2000) -> 4.5351474
A40: DO4- | B40: ='alle veldtijden'!C45 -> 0.005014159 | C40: =MINUTE(B40) -> 7 | D40: =SECOND(B40) -> 13 | E40: =1/((SUM(C40*60,D40))/2000) -> 4.6189376 | I40: =1/((SUM(G40*60,H40))/(F3)) -> #DIV/0! | J40: =(I40/E40)*100 -> #DIV/0! | K40: =AVERAGE(J5:J81) -> #DIV/0! | L40: =(J40-K40) -> #DIV/0!
A41: DSA4- | B41: ='alle veldtijden'!C46 -> 0.0048950013 | C41: =MINUTE(B41) -> 7 | D41: =SECOND(B41) -> 3 | E41: =1/((SUM(C41*60,D41))/2000) -> 4.7281324 | I41: =1/((SUM(G41*60,H41))/(F3)) -> #DIV/0! | J41: =(I41/E41)*100 -> #DIV/0! | K41: =AVERAGE(J5:J81) -> #DIV/0! | L41: =(J41-K41) -> #DIV/0!
I42: =1/((SUM(G42*60,H42))/(F3)) -> #DIV/0! | J42: =(I42/E42)*100 -> #DIV/0! | K42: =AVERAGE(J5:J81) -> #DIV/0! | L42: =(J42-K42) -> #DIV/0!
A43: N2- | B43: ='alle veldtijden'!C48 -> 0.0050918333 | C43: =MINUTE(B43) -> 7 | D43: =SECOND(B43) -> 20 | E43: =1/((SUM(C43*60,D43))/2000) -> 4.5454545 | I43: =1/((SUM(G43*60,H43))/(F3)) -> #DIV/0! | J43: =(I43/E43)*100 -> #DIV/0! | K43: =AVERAGE(J5:J81) -> #DIV/0! | L43: =(J43-K43) -> #DIV/0!
A44: O2- | B44: ='alle veldtijden'!C49 -> 0.0049278453 | C44: =MINUTE(B44) -> 7 | D44: =SECOND(B44) -> 6 | E44: =1/((SUM(C44*60,D44))/2000) -> 4.6948357 | I44: =1/((SUM(G44*60,H44))/(F3)) -> #DIV/0! | J44: =(I44/E44)*100 -> #DIV/0! | K44: =AVERAGE(J5:J81) -> #DIV/0! | L44: =(J44-K44) -> #DIV/0!
A45: SA2- | B45: ='alle veldtijden'!C50 -> 0.0047684251 | C45: =MINUTE(B45) -> 6 | D45: =SECOND(B45) -> 52 | E45: =1/((SUM(C45*60,D45))/2000) -> 4.8543689 | I45: =1/((SUM(G45*60,H45))/(F3)) -> #DIV/0! | J45: =(I45/E45)*100 -> #DIV/0! | K45: =AVERAGE(J5:J81) -> #DIV/0! | L45: =(J45-K45) -> #DIV/0!
A46: LN2- | B46: ='alle veldtijden'!C51 -> 0.0051789063 | C46: =MINUTE(B46) -> 7 | D46: =SECOND(B46) -> 27 | E46: =1/((SUM(C46*60,D46))/2000) -> 4.4742729 | I46: =1/((SUM(G46*60,H46))/(F3)) -> #DIV/0! | J46: =(I46/E46)*100 -> #DIV/0! | K46: =AVERAGE(J5:J81) -> #DIV/0! | L46: =(J46-K46) -> #DIV/0!
A47: LO2- | B47: ='alle veldtijden'!C52 -> 0.0049958098 | C47: =MINUTE(B47) -> 7 | D47: =SECOND(B47) -> 12 | E47: =1/((SUM(C47*60,D47))/2000) -> 4.6296296 | I47: =1/((SUM(G47*60,H47))/(F3)) -> #DIV/0! | J47: =(I47/E47)*100 -> #DIV/0! | K47: =AVERAGE(J5:J81) -> #DIV/0! | L47: =(J47-K47) -> #DIV/0!
A48: LSA2- | B48: ='alle veldtijden'!C53 -> 0.0049143562 | C48: =MINUTE(B48) -> 7 | D48: =SECOND(B48) -> 5 | E48: =1/((SUM(C48*60,D48))/2000) -> 4.7058824 | I48: =1/((SUM(G48*60,H48))/(F39)) -> #DIV/0! | J48: =(I48/E48)*100 -> #DIV/0! | K48: =AVERAGE(J5:J81) -> #DIV/0! | L48: =(J48-K48) -> #DIV/0!
A49: DN2- | B49: ='alle veldtijden'!C54 -> 0.0056725823 | C49: =MINUTE(B49) -> 8 | D49: =SECOND(B49) -> 10 | E49: =1/((SUM(C49*60,D49))/2000) -> 4.0816327
A50: DO2- | B50: ='alle veldtijden'!C55 -> 0.0055671971 | C50: =MINUTE(B50) -> 8 | D50: =SECOND(B50) -> 1 | E50: =1/((SUM(C50*60,D50))/2000) -> 4.1580042 | I50: =1/((SUM(G50*60,H50))/(F3)) -> #DIV/0! | J50: =(I50/E50)*100 -> #DIV/0! | K50: =AVERAGE(J5:J81) -> #DIV/0! | L50: =(J50-K50) -> #DIV/0!
A51: DSA2- | B51: ='alle veldtijden'!C56 -> 0.0053361553 | C51: =MINUTE(B51) -> 7 | D51: =SECOND(B51) -> 41 | E51: =1/((SUM(C51*60,D51))/2000) -> 4.3383948 | I51: =1/((SUM(G51*60,H51))/(F3)) -> #DIV/0! | J51: =(I51/E51)*100 -> #DIV/0! | K51: =AVERAGE(J5:J81) -> #DIV/0! | L51: =(J51-K51) -> #DIV/0!
I52: =1/((SUM(G52*60,H52))/(F3)) -> #DIV/0! | J52: =(I52/E52)*100 -> #DIV/0! | K52: =AVERAGE(J5:J81) -> #DIV/0! | L52: =(J52-K52) -> #DIV/0!
A53: B2X | B53: ='alle veldtijden'!C58 -> 0.0049568603 | C53: =MINUTE(B53) -> 7 | D53: =SECOND(B53) -> 8 | E53: =1/((SUM(C53*60,D53))/2000) -> 4.6728972 | I53: =1/((SUM(G53*60,H53))/(F39)) -> #DIV/0! | J53: =(I53/E53)*100 -> #DIV/0! | K53: =AVERAGE(J5:J81) -> #DIV/0! | L53: =(J53-K53) -> #DIV/0!
A54: N2X | B54: ='alle veldtijden'!C59 -> 0.004806713 | C54: =MINUTE(B54) -> 6 | D54: =SECOND(B54) -> 55 | E54: =1/((SUM(C54*60,D54))/2000) -> 4.8192771 | I54: =1/((SUM(G54*60,H54))/(F3)) -> #DIV/0! | J54: =(I54/E54)*100 -> #DIV/0! | K54: =AVERAGE(J5:J81) -> #DIV/0! | L54: =(J54-K54) -> #DIV/0!
A55: O2X | B55: ='alle veldtijden'!C60 -> 0.004682356 | C55: =MINUTE(B55) -> 6 | D55: =SECOND(B55) -> 45 | E55: =1/((SUM(C55*60,D55))/2000) -> 4.9382716 | I55: =1/((SUM(G55*60,H55))/(F3)) -> #DIV/0! | J55: =(I55/E55)*100 -> #DIV/0! | K55: =AVERAGE(J5:J81) -> #DIV/0! | L55: =(J55-K55) -> #DIV/0!
A56: SA2X | B56: ='alle veldtijden'!C61 -> 0.0046350977 | C56: =MINUTE(B56) -> 6 | D56: =SECOND(B56) -> 40 | E56: =1/((SUM(C56*60,D56))/2000) -> 5 | I56: =1/((SUM(G56*60,H56))/(F3)) -> #DIV/0! | J56: =(I56/E56)*100 -> #DIV/0! | K56: =AVERAGE(J5:J81) -> #DIV/0! | L56: =(J56-K56) -> #DIV/0!
A57: LB2X | B57: ='alle veldtijden'!C62 -> 0.0050144676 | C57: =MINUTE(B57) -> 7 | D57: =SECOND(B57) -> 13 | E57: =1/((SUM(C57*60,D57))/2000) -> 4.6189376 | I57: =1/((SUM(G57*60,H57))/(F3)) -> #DIV/0! | J57: =(I57/E57)*100 -> #DIV/0! | K57: =AVERAGE(J5:J81) -> #DIV/0! | L57: =(J57-K57) -> #DIV/0!
A58: LN2X | B58: ='alle veldtijden'!C63 -> 0.0049520503 | C58: =MINUTE(B58) -> 7 | D58: =SECOND(B58) -> 8 | E58: =1/((SUM(C58*60,D58))/2000) -> 4.6728972 | I58: =1/((SUM(G58*60,H58))/(F3)) -> #DIV/0! | J58: =(I58/E58)*100 -> #DIV/0! | K58: =AVERAGE(J5:J81) -> #DIV/0! | L58: =(J58-K58) -> #DIV/0!
A59: LO2X | B59: ='alle veldtijden'!C64 -> 0.0047482639 | C59: =MINUTE(B59) -> 6 | D59: =SECOND(B59) -> 50 | E59: =1/((SUM(C59*60,D59))/2000) -> 4.8780488 | I59: =1/((SUM(G59*60,H59))/(F3)) -> #DIV/0! | J59: =(I59/E59)*100 -> #DIV/0! | K59: =AVERAGE(J5:J81) -> #DIV/0! | L59: =(J59-K59) -> #DIV/0!
A60: LSA2X | B60: ='alle veldtijden'!C65 -> 0.0047232287 | C60: =MINUTE(B60) -> 6 | D60: =SECOND(B60) -> 48 | E60: =1/((SUM(C60*60,D60))/2000) -> 4.9019608 | I60: =1/((SUM(G60*60,H60))/(F3)) -> #DIV/0! | J60: =(I60/E60)*100 -> #DIV/0! | K60: =AVERAGE(J5:J81) -> #DIV/0! | L60: =(J60-K60) -> #DIV/0!
A61: DB2X | B61: ='alle veldtijden'!C66 -> 0.0055460859 | C61: =MINUTE(B61) -> 7 | D61: =SECOND(B61) -> 59 | E61: =1/((SUM(C61*60,D61))/2000) -> 4.1753653 | I61: =1/((SUM(G61*60,H61))/(F3)) -> #DIV/0! | J61: =(I61/E61)*100 -> #DIV/0! | K61: =AVERAGE(J5:J81) -> #DIV/0! | L61: =(J61-K61) -> #DIV/0!
A62: DN2X | B62: ='alle veldtijden'!C67 -> 0.0054353632 | C62: =MINUTE(B62) -> 7 | D62: =SECOND(B62) -> 50 | E62: =1/((SUM(C62*60,D62))/2000) -> 4.2553191 | I62: =1/((SUM(G62*60,H62))/(F3)) -> #DIV/0! | J62: =(I62/E62)*100 -> #DIV/0! | K62: =AVERAGE(J5:J81) -> #DIV/0! | L62: =(J62-K62) -> #DIV/0!
A63: DO2X | B63: ='alle veldtijden'!C68 -> 0.0052681327 | C63: =MINUTE(B63) -> 7 | D63: =SECOND(B63) -> 35 | E63: =1/((SUM(C63*60,D63))/2000) -> 4.3956044 | I63: =1/((SUM(G63*60,H63))/(F3)) -> #DIV/0! | J63: =(I63/E63)*100 -> #DIV/0! | K63: =AVERAGE(J5:J81) -> #DIV/0! | L63: =(J63-K63) -> #DIV/0!
A64: DSA2X | B64: ='alle veldtijden'!C69 -> 0.0051402247 | C64: =MINUTE(B64) -> 7 | D64: =SECOND(B64) -> 24 | E64: =1/((SUM(C64*60,D64))/2000) -> 4.5045045 | I64: =1/((SUM(G64*60,H64))/(F3)) -> #DIV/0! | J64: =(I64/E64)*100 -> #DIV/0! | K64: =AVERAGE(J5:J81) -> #DIV/0! | L64: =(J64-K64) -> #DIV/0!
A65: LDB2X | I65: =1/((SUM(G65*60,H65))/(F3)) -> #DIV/0! | J65: =(I65/E65)*100 -> #DIV/0! | K65: =AVERAGE(J5:J81) -> #DIV/0! | L65: =(J65-K65) -> #DIV/0!
A66: LDN2X | B66: ='alle veldtijden'!C71 -> 0.0055328704 | C66: =MINUTE(B66) -> 7 | D66: =SECOND(B66) -> 58 | E66: =1/((SUM(C66*60,D66))/2000) -> 4.1841004
A67: LDO2X | B67: ='alle veldtijden'!C73 -> 0.0052546296 | C67: =MINUTE(B67) -> 7 | D67: =SECOND(B67) -> 34 | E67: =1/((SUM(C67*60,D67))/2000) -> 4.4052863 | I67: =1/((SUM(G67*60,H67))/(F3)) -> #DIV/0! | J67: =(I67/E67)*100 -> #DIV/0! | K67: =AVERAGE(J5:J81) -> #DIV/0! | L67: =(J67-K67) -> #DIV/0!
A68: LDSA2X | B68: ='alle veldtijden'!C74 -> 0.0053206019 | C68: =MINUTE(B68) -> 7 | D68: =SECOND(B68) -> 40 | E68: =1/((SUM(C68*60,D68))/2000) -> 4.3478261 | I68: =1/((SUM(G68*60,H68))/(F3)) -> #DIV/0! | J68: =(I68/E68)*100 -> #DIV/0! | K68: =AVERAGE(J5:J81) -> #DIV/0! | L68: =(J68-K68) -> #DIV/0!
I69: =1/((SUM(G69*60,H69))/(F3)) -> #DIV/0! | J69: =(I69/E69)*100 -> #DIV/0! | K69: =AVERAGE(J5:J81) -> #DIV/0! | L69: =(J69-K69) -> #DIV/0!
A70: B1X | B70: ='alle veldtijden'!C76 -> 0.0052729111 | C70: =MINUTE(B70) -> 7 | D70: =SECOND(B70) -> 36 | E70: =1/((SUM(C70*60,D70))/2000) -> 4.3859649 | I70: =1/((SUM(G70*60,H70))/(F3)) -> #DIV/0! | J70: =(I70/E70)*100 -> #DIV/0! | K70: =AVERAGE(J5:J81) -> #DIV/0! | L70: =(J70-K70) -> #DIV/0!
A71: N1X | B71: ='alle veldtijden'!C77 -> 0.0052201482 | C71: =MINUTE(B71) -> 7 | D71: =SECOND(B71) -> 31 | E71: =1/((SUM(C71*60,D71))/2000) -> 4.4345898 | I71: =1/((SUM(G71*60,H71))/(F3)) -> #DIV/0! | J71: =(I71/E71)*100 -> #DIV/0! | K71: =AVERAGE(J5:J81) -> #DIV/0! | L71: =(J71-K71) -> #DIV/0!
A72: O1X | B72: ='alle veldtijden'!C78 -> 0.0051448929 | C72: =MINUTE(B72) -> 7 | D72: =SECOND(B72) -> 25 | E72: =1/((SUM(C72*60,D72))/2000) -> 4.494382 | I72: =1/((SUM(G72*60,H72))/(F3)) -> #DIV/0! | J72: =(I72/E72)*100 -> #DIV/0! | K72: =AVERAGE(J5:J81) -> #DIV/0! | L72: =(J72-K72) -> #DIV/0!
A73: SA1X | B73: ='alle veldtijden'!C79 -> 0.0050381867 | C73: =MINUTE(B73) -> 7 | D73: =SECOND(B73) -> 15 | E73: =1/((SUM(C73*60,D73))/2000) -> 4.5977011 | I73: =1/((SUM(G73*60,H73))/(F3)) -> #DIV/0! | J73: =(I73/E73)*100 -> #DIV/0! | K73: =AVERAGE(J5:J81) -> #DIV/0! | L73: =(J73-K73) -> #DIV/0!
A74: LB1X | B74: ='alle veldtijden'!C80 -> 0.0053665837 | C74: =MINUTE(B74) -> 7 | D74: =SECOND(B74) -> 44 | E74: =1/((SUM(C74*60,D74))/2000) -> 4.3103448 | I74: =1/((SUM(G74*60,H74))/(F3)) -> #DIV/0! | J74: =(I74/E74)*100 -> #DIV/0! | K74: =AVERAGE(J5:J81) -> #DIV/0! | L74: =(J74-K74) -> #DIV/0!
A75: LN1X | B75: ='alle veldtijden'!C81 -> 0.005295211 | C75: =MINUTE(B75) -> 7 | D75: =SECOND(B75) -> 38 | E75: =1/((SUM(C75*60,D75))/2000) -> 4.3668122 | I75: =1/((SUM(G75*60,H75))/(F3)) -> #DIV/0! | J75: =(I75/E75)*100 -> #DIV/0! | K75: =AVERAGE(J5:J81) -> #DIV/0! | L75: =(J75-K75) -> #DIV/0!
A76: LO1X | B76: ='alle veldtijden'!C82 -> 0.0052435693 | C76: =MINUTE(B76) -> 7 | D76: =SECOND(B76) -> 33 | E76: =1/((SUM(C76*60,D76))/2000) -> 4.415011 | I76: =1/((SUM(G76*60,H76))/(F3)) -> #DIV/0! | J76: =(I76/E76)*100 -> #DIV/0! | K76: =AVERAGE(J5:J81) -> #DIV/0! | L76: =(J76-K76) -> #DIV/0!
A77: LSA1X | B77: ='alle veldtijden'!C83 -> 0.0051351832 | C77: =MINUTE(B77) -> 7 | D77: =SECOND(B77) -> 24 | E77: =1/((SUM(C77*60,D77))/2000) -> 4.5045045 | I77: =1/((SUM(G77*60,H77))/(F3)) -> #DIV/0! | J77: =(I77/E77)*100 -> #DIV/0! | K77: =AVERAGE(J5:J81) -> #DIV/0! | L77: =(J77-K77) -> #DIV/0!
A78: DB1X | B78: ='alle veldtijden'!C84 -> 0.0058740972 | C78: =MINUTE(B78) -> 8 | D78: =SECOND(B78) -> 28 | E78: =1/((SUM(C78*60,D78))/2000) -> 3.9370079 | I78: =1/((SUM(G78*60,H78))/(F3)) -> #DIV/0! | J78: =(I78/E78)*100 -> #DIV/0! | K78: =AVERAGE(J5:J81) -> #DIV/0! | L78: =(J78-K78) -> #DIV/0!
A79: DN1x | B79: ='alle veldtijden'!C85 -> 0.0058041932 | C79: =MINUTE(B79) -> 8 | D79: =SECOND(B79) -> 21 | E79: =1/((SUM(C79*60,D79))/2000) -> 3.992016 | I79: =1/((SUM(G79*60,H79))/(F3)) -> #DIV/0! | J79: =(I79/E79)*100 -> #DIV/0! | K79: =AVERAGE(J5:J81) -> #DIV/0! | L79: =(J79-K79) -> #DIV/0!
A80: DO1X | B80: ='alle veldtijden'!C86 -> 0.0057062238 | C80: =MINUTE(B80) -> 8 | D80: =SECOND(B80) -> 13 | E80: =1/((SUM(C80*60,D80))/2000) -> 4.0567951 | I80: =1/((SUM(G80*60,H80))/(F3)) -> #DIV/0! | J80: =(I80/E80)*100 -> #DIV/0! | K80: =AVERAGE(J5:J81) -> #DIV/0! | L80: =(J80-K80) -> #DIV/0!
A81: DSA1X | B81: ='alle veldtijden'!C87 -> 0.0055973579 | C81: =MINUTE(B81) -> 8 | D81: =SECOND(B81) -> 4 | E81: =1/((SUM(C81*60,D81))/2000) -> 4.1322314 | I81: =1/((SUM(G81*60,H81))/(F3)) -> #DIV/0! | J81: =(I81/E81)*100 -> #DIV/0! | K81: =AVERAGE(J5:J81) -> #DIV/0! | L81: =(J81-K81) -> #DIV/0!
A82: LDB1X | B82: ='alle veldtijden'!C88 -> 0.006016063 | C82: =MINUTE(B82) -> 8 | D82: =SECOND(B82) -> 40 | E82: =1/((SUM(C82*60,D82))/2000) -> 3.8461538 | I82: =1/((SUM(G82*60,H82))/(F3)) -> #DIV/0! | J82: =(I82/E82)*100 -> #DIV/0! | K82: =AVERAGE(J6:J82) -> #DIV/0! | L82: =(J82-K82) -> #DIV/0!
A83: LDN1X | B83: ='alle veldtijden'!C89 -> 0.0059282996 | C83: =MINUTE(B83) -> 8 | D83: =SECOND(B83) -> 32 | E83: =1/((SUM(C83*60,D83))/2000) -> 3.90625 | I83: =1/((SUM(G83*60,H83))/(F3)) -> #DIV/0! | J83: =(I83/E83)*100 -> #DIV/0! | K83: =AVERAGE(J7:J83) -> #DIV/0! | L83: =(J83-K83) -> #DIV/0!
A84: LDO1X | B84: ='alle veldtijden'!C90 -> 0.0058317963 | C84: =MINUTE(B84) -> 8 | D84: =SECOND(B84) -> 24 | E84: =1/((SUM(C84*60,D84))/2000) -> 3.968254 | I84: =1/((SUM(G84*60,H84))/(F3)) -> #DIV/0! | J84: =(I84/E84)*100 -> #DIV/0! | K84: =AVERAGE(J8:J84) -> #DIV/0! | L84: =(J84-K84) -> #DIV/0!
A85: LDSA1X | B85: ='alle veldtijden'!C91 -> 0.0056797132 | C85: =MINUTE(B85) -> 8 | D85: =SECOND(B85) -> 11 | E85: =1/((SUM(C85*60,D85))/2000) -> 4.0733198 | I85: =1/((SUM(G85*60,H85))/(F3)) -> #DIV/0! | J85: =(I85/E85)*100 -> #DIV/0! | K85: =AVERAGE(J9:J85) -> #DIV/0! | L85: =(J85-K85) -> #DIV/0!

Sheet alle veldtijden
E1: 1997 | H1: 1998 | K1: 1999 | O1: 2000 | R1: 2002 | V1: 2003 | Z1: 2004 | AD1: 2005 | AH1: 2006 | AL1: 2007 | AM1: later dan holl | AP1: 2008 | AT1: 2009 | AX1: 2010 | BB1: 2011 | BF1: 2012 | BJ1: 2013 | BN1: 2014 | BR1: 2015
A2: BOOT | B2: TOPTIJD | E2: RR | F2: ARB | G2: NSRF | H2: RR | I2: ARB | J2: NSRF | K2: RR | L2: HOL | M2: ARB | N2: NSRF | O2: RR | P2: ARB | Q2: NSRF | R2: RR | S2: ARB | T2: HOLNK | U2: NSRF | V2: RR | W2: ARB | X2: HOL | Y2: NSRF | Z2: RRNK | AA2: ARB | AB2: HOL | AC2: NSRF | AD2: RR | AE2: ARB | AF2: HOL | AG2: NSRF | AH2: RR | AI2: ARB | AJ2: HOL | AK2: NSRF | AL2: RR | AM2: ARB | AN2: HOL | AO2: NSRF | AP2: RR | AQ2: ARB | AR2: HOL | AS2: NSRF | AT2: HOL | AU2: ARB | AV2: RR | AW2: NSRF | AX2: HOL | AY2: Westelijke | AZ2: ARB | BA2: NSRF | BB2: Hollandia | BC2: Westelijke | BD2: ARB | BE2: NSRF | BF2: Hollandia | BG2: Westelijk | BH2: ARB | BI2: NSRF | BJ2: Hollandia | BK2: Westelijk | BL2: ARB | BM2: NSRF | BN2: Westelijke | BO2: Hollandia | BP2: ARB | BQ2: NSRF | BR2: Hollandia | BS2: ARB | BT2: NSRF
C3: Gem. alle jaren | D3: Gem. 2011 - 2015 | AR3: Niet online
A4: EJ8 | B4: =MIN(E4:BT4) -> 0.0040393519 | C4: =AVERAGE(E4:BT4) -> 0.0042837691 | D4: =AVERAGE(BB4:BT4) -> 0.0042676183 | R4: 0.0042824074 | S4: 0.0041435185 | T4: 0.004525463 | U4: 0.0041203704 | V4: 0.0044328704 | W4: 0.0040972222 | X4: 0.004224537 | Y4: 0.0041550926 | Z4: 0.0042592593 | AA4: 0.0041782407 | AB4: 0.004224537 | AC4: 0.0041087963 | AD4: 0.0044907407 | AF4: 0.0041666667 | AG4: 0.0041203704 | AH4: 0.0042592593 | AJ4: 0.0041087963 | AK4: 0.0044675926 | AL4: 0.005474537 | AM4: 0.0040625 | AN4: 0.0045138889 | AO4: 0.0040625 | AP4: 0.0046412037 | AQ4: 0.0042013889 | AS4: 0.004224537 | AT4: 0.0041550926 | AU4: 0.0045023148 | AV4: 0.0042013889 | AW4: 0.0041087963 | AX4: 0.004375 | AY4: 0.0043171296 | AZ4: 0.0043055556 | BA4: 0.0041435185 | BB4: 0.0044560185 | BC4: 0.0042013889 | BD4: 0.0046064815 | BE4: 0.0041203704 | BF4: 0.0041898148 | BG4: 0.0040856481 | BH4: 0.0043171296 | BI4: 0.0040856481 | BJ4: 0.0044675926 | BK4: 0.0048148148 | BL4: 0.0044212963 | BM4: 0.0042939815 | BO4: 0.0041435185 | BP4: 0.0041666667 | BQ4: 0.0040625 | BR4: 0.0042939815 | BS4: 0.0040393519 | BT4: 0.0040509259
A5: B8 | B5: =MIN(E5:BT5) -> 0.0041087963 | C5: =AVERAGE(E5:BT5) -> 0.0042581208 | D5: =AVERAGE(BB5:BT5) -> 0.0042613017 | E5: 0.0044097222 | F5: 0.0043055556 | G5: 0.0042708333 | H5: 0.0043055556 | I5: 0.0041087963 | J5: 0.0041782407 | K5: 0.0043634259 | L5: 0.0041087963 | M5: 0.004212963 | N5: 0.0041666667 | O5: 0.0041666667 | R5: 0.0042708333 | S5: 0.0041550926 | T5: 0.0043518519 | U5: 0.0041319444 | V5: 0.004224537 | W5: 0.004212963 | X5: 0.004224537 | Y5: 0.004224537 | Z5: 0.0044097222 | AA5: 0.0042824074 | AB5: 0.0042592593 | AC5: 0.0043055556 | AD5: 0.0044212963 | AF5: 0.0042361111 | AG5: 0.0042476852 | AH5: 0.0042708333 | AJ5: 0.0042592593 | AK5: 0.0044560185 | AL5: 0.0044675926 | AM5: 0.0041666667 | AN5: 0.0041666667 | AO5: 0.004212963 | AP5: 0.0046875 | AQ5: 0.0042939815 | AS5: 0.0042476852 | AT5: 0.0041550926 | AU5: 0.0042824074 | AV5: 0.004212963 | AW5: 0.0042592593 | AX5: 0.0041782407 | AY5: 0.0041666667 | AZ5: 0.0041550926 | BA5: 0.0041087963 | BB5: 0.0043634259 | BC5: 0.0041550926 | BD5: 0.0043402778 | BE5: 0.0042708333 | BF5: 0.0041435185 | BG5: 0.004224537 | BH5: 0.0042939815 | BI5: 0.0041666667 | BJ5: 0.0041898148 | BK5: 0.0045949074 | BL5: 0.0044444444 | BM5: 0.0043518519 | BO5: 0.0041550926 | BP5: 0.0043518519 | BQ5: 0.0041087963 | BS5: 0.0041782407 | BT5: 0.0041087963
A6: N8 | B6: =MIN(E6:BT6) -> 0.0040856481 | C6: =AVERAGE(E6:BT6) -> 0.0042156339 | E6: 0.0045949074 | F6: 0.0040856481 | G6: 0.0041203704 | H6: 0.004212963 | I6: 0.0041087963 | J6: 0.0041435185 | K6: 0.0044212963 | L6: 0.0041203704 | M6: 0.0041203704 | N6: 0.0042708333 | O6: 0.0043171296 | P6: 0.0040856481 | Q6: 0.0042013889
A7: O8 | B7: =MIN(E7:BT7) -> 0.0039814815 | C7: =AVERAGE(E7:BT7) -> 0.0041965664 | E7: 0.0045023148 | F7: 0.0042592593 | G7: 0.0042592593 | H7: 0.0042824074 | I7: 0.0042013889 | J7: 0.0040277778 | K7: 0.004224537 | L7: 0.0041898148 | M7: 0.0040972222 | N7: 0.0039814815 | O7: 0.004212963 | Q7: 0.0041203704
A8: SA8 | B8: =MIN(E8:BT8) -> 0.0037962963 | C8: =AVERAGE(E8:BT8) -> 0.0040644735 | D8: =AVERAGE(BB8:BT8) -> 0.0041011188 | E8: 0.0043171296 | F8: 0.0039930556 | H8: 0.0040393519 | I8: 0.0039467593 | K8: 0.0041203704 | L8: 0.0040277778 | M8: 0.0038888889 | O8: 0.0040046296 | Q8: 0.0040856481 | R8: 0.0040856481 | S8: 0.0039930556 | T8: 0.0039236111 | U8: 0.0039583333 | V8: 0.0039236111 | W8: 0.0038541667 | X8: 0.0040625 | Y8: 0.0040393519 | Z8: 0.0041087963 | AA8: 0.0041203704 | AB8: 0.0040509259 | AC8: 0.0040740741 | AF8: 0.0038888889 | AG8: 0.0040625 | AH8: 0.0041087963 | AJ8: 0.0040625 | AK8: 0.004212963 | AL8: 0.0046759259 | AM8: 0.0039236111 | AN8: 0.0039930556 | AO8: 0.0040740741 | AP8: 0.0045949074 | AQ8: 0.0040046296 | AS8: 0.0040509259 | AT8: 0.0040162037 | AU8: 0.0040625 | AV8: 0.0040393519 | AW8: 0.0039814815 | AX8: 0.0038888889 | AY8: 0.0039467593 | AZ8: 0.003900463 | BA8: 0.0038773148 | BB8: 0.0041435185 | BC8: 0.0038773148 | BD8: 0.0041550926 | BE8: 0.0040509259 | BF8: 0.0045525463 | BG8: 0.0039978009 | BH8: 0.0040430556 | BI8: 0.0039868056 | BJ8: 0.0039797454 | BK8: 0.0045128472 | BL8: 0.0041893519 | BM8: 0.0042107639 | BO8: 0.003900463 | BP8: 0.0042361111 | BQ8: 0.0039583333 | BR8: 0.0043055556 | BS8: 0.0039236111 | BT8: 0.0037962963
A9: LEJ8 | B9: =MIN(E9:BT9) -> 0.0041087963 | C9: =AVERAGE(E9:BT9) -> 0.0043838508 | D9: =AVERAGE(BB9:BT9) -> 0.0043897891 | R9: 0.0044212963 | S9: 0.0042592593 | T9: 0.0047569444 | U9: 0.0041782407 | V9: 0.0042592593 | W9: 0.004212963 | X9: 0.0043518519 | Y9: 0.0042361111 | Z9: 0.0042939815 | AA9: 0.0042824074 | AB9: 0.0043518519 | AC9: 0.0042013889 | AD9: 0.0047800926 | AF9: 0.0043055556 | AG9: 0.004224537 | AH9: 0.0043402778 | AJ9: 0.0042361111 | AK9: 0.0045717593 | AL9: 0.0049537037 | AM9: 0.004224537 | AN9: 0.0046990741 | AO9: 0.0041898148 | AP9: 0.0047222222 | AQ9: 0.0042476852 | AS9: 0.0042824074 | AT9: 0.004224537 | AU9: 0.0046296296 | AV9: 0.0043865741 | AW9: 0.0041435185 | AX9: 0.004537037 | AY9: 0.0044675926 | AZ9: 0.0043518519 | BA9: 0.0042361111 | BB9: 0.0045833333 | BC9: 0.0042939815 | BD9: 0.0046180556 | BE9: 0.004212963 | BF9: 0.0042592593 | BG9: 0.0042592593 | BH9: 0.0044560185 | BI9: 0.0041666667 | BJ9: 0.0045486111 | BK9: 0.0051851852 | BL9: 0.0045023148 | BM9: 0.0044907407 | BO9: 0.0042708333 | BP9: 0.0042939815 | BQ9: 0.0041782407 | BR9: 0.0043865741 | BS9: 0.0042013889 | BT9: 0.0041087963
A10: LB8 | B10: =MIN(E10:BT10) -> 0.0041898148 | C10: =AVERAGE(E10:BT10) -> 0.0043869536 | D10: =AVERAGE(BB10:BT10) -> 0.0044049564 | E10: 0.0046412037 | F10: 0.0042013889 | G10: 0.0042939815 | H10: 0.0043055556 | I10: 0.0041898148 | J10: 0.0042361111 | K10: 0.0044907407 | L10: 0.0043171296 | M10: 0.0041898148 | N10: 0.004375 | O10: 0.0044907407 | P10: 0.0042476852 | Q10: 0.004375 | R10: 0.0044328704 | S10: 0.0042592593 | T10: 0.0045601852 | U10: 0.0043981481 | V10: 0.0042824074 | W10: 0.0042592593 | X10: 0.0043634259 | Y10: 0.0043981481 | Z10: 0.004525463 | AA10: 0.0044097222 | AB10: 0.0043518519 | AD10: 0.0046759259 | AF10: 0.0043634259 | AG10: 0.0043055556 | AH10: 0.0043055556 | AJ10: 0.0043287037 | AK10: 0.0048032407 | AL10: 0.0045486111 | AM10: 0.0042939815 | AN10: 0.0042824074 | AO10: 0.0043171296 | AP10: 0.0049768519 | AQ10: 0.0044097222 | AS10: 0.0043287037 | AT10: 0.0042824074 | AU10: 0.0043981481 | AV10: 0.0043055556 | AW10: 0.004375 | AX10: 0.0042824074 | AY10: 0.0042708333 | AZ10: 0.0042708333 | BB10: 0.0044560185 | BC10: 0.0042824074 | BD10: 0.004537037 | BE10: 0.0043402778 | BF10: 0.0043171296 | BG10: 0.0043634259 | BH10: 0.0045601852 | BI10: 0.0043287037 | BJ10: 0.0042824074 | BK10: 0.0049884259 | BL10: 0.0045023148 | BM10: 0.0044328704 | BO10: 0.0042824074 | BP10: 0.004375 | BQ10: 0.0043055556 | BS10: 0.0042824074 | BT10: 0.0042476852
A11: LN8 | B11: =MIN(E11:BT11) -> 0.0041550926 | C11: =AVERAGE(E11:BT11) -> 0.0043150253 | E11: 0.0045949074 | F11: 0.0044212963 | G11: 0.0043865741 | H11: 0.0042476852 | I11: 0.0041550926 | J11: 0.0041782407 | K11: 0.0044444444 | L11: 0.0042592593 | M11: 0.0043171296 | N11: 0.004212963 | Q11: 0.0042476852
A12: LO8 | B12: =MIN(E12:BT12) -> 0.0040972222 | C12: =AVERAGE(E12:BT12) -> 0.0042370014 | E12: 0.0044675926 | F12: 0.0041550926 | G12: 0.0042361111 | H12: 0.0042476852 | I12: 0.0041898148 | J12: 0.0041666667 | K12: 0.0045138889 | L12: 0.004224537 | M12: 0.0041550926 | N12: 0.004212963 | O12: 0.0041666667 | P12: 0.0040972222 | Q12: 0.0042476852
A13: LSA8 | B13: =MIN(E13:BT13) -> 0.0039699074 | C13: =AVERAGE(E13:BT13) -> 0.0042209821 | D13: =AVERAGE(BB13:BT13) -> 0.0042311095 | E13: 0.0043287037 | F13: 0.0041898148 | I13: 0.004224537 | M13: 0.0040277778 | Q13: 0.0041666667 | S13: 0.0042013889 | T13: 0.0042824074 | U13: 0.0041666667 | W13: 0.0040277778 | X13: 0.0041087963 | Y13: 0.0041435185 | Z13: 0.0044097222 | AA13: 0.0041898148 | AB13: 0.0043171296 | AC13: 0.0042824074 | AF13: 0.004375 | AG13: 0.0041898148 | AH13: 0.0042592593 | AJ13: 0.0040509259 | AK13: 0.0044675926 | AL13: 0.0050578704 | AM13: 0.0039699074 | AN13: 0.0042013889 | AO13: 0.0042476852 | AP13: 0.0046875 | AQ13: 0.0042013889 | AS13: 0.0040625 | AT13: 0.0041666667 | AU13: 0.0040740741 | AV13: 0.0041550926 | AW13: 0.0041782407 | AX13: 0.0040856481 | AY13: 0.0041087963 | AZ13: 0.0039814815 | BA13: 0.0040046296 | BB13: 0.0042592593 | BC13: 0.0041203704 | BD13: 0.004212963 | BE13: 0.0041319444 | BG13: 0.0043666667 | BH13: 0.0042864583 | BI13: 0.004122338 | BL13: 0.0045369213 | BM13: 0.0042958333 | BO13: 0.0041782407 | BP13: 0.0045486111 | BQ13: 0.0041666667 | BS13: 0.0040162037 | BT13: 0.0039930556
A14: DEJ8 | B14: =MIN(E14:BT14) -> 0.0044444444 | C14: =AVERAGE(E14:BT14) -> 0.0048361474 | D14: =AVERAGE(BB14:BT14) -> 0.0048334619 | R14: 0.0048958333 | S14: 0.0046759259 | T14: 0.0051736111 | U14: 0.0046990741 | V14: 0.004837963 | W14: 0.0046180556 | X14: 0.0048032407 | Y14: 0.0046875 | Z14: 0.0046759259 | AA14: 0.0047916667 | AB14: 0.0048032407 | AC14: 0.0045949074 | AD14: 0.0051041667 | AF14: 0.0046759259 | AG14: 0.0046412037 | AH14: 0.0048032407 | AJ14: 0.0046527778 | AK14: 0.0052314815 | AL14: 0.0053703704 | AM14: 0.0046527778 | AN14: 0.0050578704 | AO14: 0.0045949074 | AP14: 0.0053125 | AQ14: 0.0047222222 | AS14: 0.0047222222 | AT14: 0.0046875 | AU14: 0.0054050926 | AV14: 0.0048263889 | AW14: 0.0046527778 | AX14: 0.0049652778 | AY14: 0.0048611111 | AZ14: 0.0048263889 | BA14: 0.0046180556 | BB14: 0.0050925926 | BC14: 0.0047106481 | BD14: 0.0054050926 | BE14: 0.0046643519 | BF14: 0.0047222222 | BG14: 0.0046412037 | BH14: 0.0049768519 | BI14: 0.0046643519 | BJ14: 0.0050231481 | BK14: 0.0055787037 | BL14: 0.0050462963 | BM14: 0.0049537037 | BO14: 0.0046643519 | BP14: 0.004525463 | BQ14: 0.0046064815 | BR14: 0.0047569444 | BS14: 0.004525463 | BT14: 0.0044444444
A15: DB8 | B15: =MIN(E15:BT15) -> 0.0045833333 | C15: =AVERAGE(E15:BT15) -> 0.0048654047 | D15: =AVERAGE(BB15:BT15) -> 0.0048828976 | E15: 0.005 | F15: 0.0049768519 | G15: 0.0049652778 | H15: 0.004849537 | I15: 0.0048958333 | J15: 0.0047916667 | L15: 0.0047222222 | M15: 0.0050347222 | N15: 0.0047106481 | O15: 0.0047916667 | P15: 0.0047337963 | Q15: 0.0047453704 | R15: 0.0048958333 | S15: 0.0047800926 | T15: 0.0051388889 | U15: 0.0047685185 | V15: 0.0047685185 | W15: 0.004849537 | X15: 0.0048032407 | Y15: 0.004837963 | Z15: 0.0050694444 | AA15: 0.0048263889 | AB15: 0.0048611111 | AC15: 0.0048263889 | AD15: 0.0050810185 | AF15: 0.0047916667 | AG15: 0.0048611111 | AH15: 0.0048958333 | AJ15: 0.0047685185 | AK15: 0.0050694444 | AL15: 0.005 | AM15: 0.0046875 | AN15: 0.0046643519 | AO15: 0.004849537 | AP15: 0.005462963 | AQ15: 0.0048611111 | AS15: 0.0047800926 | AT15: 0.0047685185 | AU15: 0.0048958333 | AV15: 0.0049189815 | AW15: 0.0048611111 | AX15: 0.0046990741 | AY15: 0.0046875 | AZ15: 0.0047453704 | BA15: 0.0046527778 | BB15: 0.0049768519 | BC15: 0.0047106481 | BD15: 0.0049884259 | BE15: 0.0048611111 | BF15: 0.0046990741 | BG15: 0.0048611111 | BH15: 0.0048148148 | BI15: 0.0046875 | BJ15: 0.0047453704 | BK15: 0.0054513889 | BL15: 0.0051388889 | BM15: 0.0051851852 | BO15: 0.0045833333 | BP15: 0.005162037 | BQ15: 0.0046412037 | BS15: 0.0048032407 | BT15: 0.0046990741
A16: DN8 | B16: =MIN(E16:BT16) -> 0.0046064815 | C16: =AVERAGE(E16:BT16) -> 0.0048165954 | E16: 0.0053935185 | F16: 0.0046875 | G16: 0.0047337963 | H16: 0.0047685185 | I16: 0.0047106481 | J16: 0.0046875 | K16: 0.0048611111 | L16: 0.0048263889 | M16: 0.0048263889 | N16: 0.0047800926 | O16: 0.0049652778 | P16: 0.0046064815 | Q16: 0.0047685185
A17: DO8 | B17: =MIN(E17:BT17) -> 0.004537037 | C17: =AVERAGE(E17:BT17) -> 0.0047472994 | E17: 0.0050231481 | F17: 0.0048958333 | G17: 0.0046990741 | H17: 0.0047685185 | I17: 0.0048032407 | J17: 0.0045949074 | K17: 0.0049652778 | L17: 0.0045601852 | M17: 0.0045833333 | N17: 0.004537037 | P17: 0.0049768519 | Q17: 0.0045601852
A18: DSA8 | B18: =MIN(E18:BT18) -> 0.004212963 | C18: =AVERAGE(E18:BT18) -> 0.0046180177 | D18: =AVERAGE(BB18:BT18) -> 0.0046649101 | E18: 0.0050231481 | F18: 0.0043518519 | H18: 0.0045138889 | K18: 0.0046527778 | M18: 0.0042476852 | O18: 0.0044560185 | Q18: 0.0046064815 | R18: 0.0047916667 | S18: 0.0046412037 | T18: 0.0048032407 | U18: 0.004525463 | V18: 0.0044212963 | W18: 0.0044328704 | X18: 0.0045833333 | Y18: 0.0047337963 | AA18: 0.0047106481 | AB18: 0.0046296296 | AC18: 0.0046643519 | AD18: 0.0048842593 | AF18: 0.0045717593 | AG18: 0.0046296296 | AH18: 0.0045949074 | AJ18: 0.0044791667 | AK18: 0.0049652778 | AL18: 0.0054050926 | AM18: 0.0044444444 | AN18: 0.0045717593 | AO18: 0.004537037 | AQ18: 0.0046412037 | AS18: 0.0045717593 | AT18: 0.0045023148 | AU18: 0.0044907407 | AV18: 0.0044444444 | AW18: 0.0045833333 | AX18: 0.0044328704 | AY18: 0.0044444444 | AZ18: 0.0042592593 | BA18: 0.0044444444 | BB18: 0.0046296296 | BC18: 0.004212963 | BD18: 0.0048032407 | BE18: 0.0045949074 | BG18: 0.0048103009 | BH18: 0.0048748843 | BI18: 0.0044706019 | BJ18: 0.004516088 | BK18: 0.0052729167 | BL18: 0.0048265046 | BM18: 0.0048956019 | BO18: 0.0043171296 | BP18: 0.0044212963 | BQ18: 0.0047106481 | BR18: 0.0052083333 | BS18: 0.0043055556 | BT18: 0.0044328704
A20: B4+ | B20: =MIN(E20:BT20) -> 0.0046296296 | C20: =AVERAGE(E20:BT20) -> 0.0048491114 | D20: =AVERAGE(BB20:BT20) -> 0.0048370915 | E20: 0.005162037 | F20: 0.0046875 | G20: 0.0048032407 | H20: 0.0048263889 | I20: 0.0046296296 | J20: 0.0047222222 | K20: 0.0051851852 | L20: 0.0047106481 | M20: 0.0047916667 | N20: 0.0048611111 | O20: 0.0048148148 | P20: 0.0046412037 | Q20: 0.0047453704 | R20: 0.0049537037 | T20: 0.0050462963 | U20: 0.0046990741 | V20: 0.0047685185 | W20: 0.0047569444 | X20: 0.004849537 | Y20: 0.0047569444 | Z20: 0.0049884259 | AA20: 0.004849537 | AB20: 0.0049074074 | AC20: 0.0047800926 | AD20: 0.0053587963 | AF20: 0.0049074074 | AG20: 0.0048148148 | AH20: 0.0047453704 | AJ20: 0.0047569444 | AK20: 0.0052314815 | AL20: 0.0051157407 | AM20: 0.0049305556 | AN20: 0.0046875 | AO20: 0.0047569444 | AP20: 0.0053935185 | AQ20: 0.0048148148 | AS20: 0.0046990741 | AT20: 0.0048611111 | AU20: 0.0051967593 | AV20: 0.0046875 | AW20: 0.0047337963 | AX20: 0.0047337963 | AY20: 0.0046643519 | AZ20: 0.0047222222 | BA20: 0.0046643519 | BB20: 0.0048842593 | BC20: 0.0046875 | BD20: 0.0050347222 | BE20: 0.0047453704 | BF20: 0.0046407407 | BG20: 0.0047908565 | BH20: 0.0050282407 | BI20: 0.004674537 | BJ20: 0.0048974537 | BK20: 0.0053259259 | BL20: 0.0048873843 | BM20: 0.0049414352 | BO20: 0.0047106481 | BQ20: 0.0046759259 | BR20: 0.0049189815 | BS20: 0.0047453704 | BT20: 0.0046412037
A21: N4+ | B21: =MIN(E21:BT21) -> 0.0044791667 | C21: =AVERAGE(E21:BT21) -> 0.0047515607 | D21: =AVERAGE(BB21:BT21) -> 0.0048451839 | E21: 0.0048958333 | F21: 0.0046643519 | G21: 0.0046759259 | H21: 0.0045601852 | I21: 0.0046990741 | J21: 0.0046180556 | K21: 0.0047800926 | L21: 0.0045601852 | M21: 0.0046064815 | N21: 0.0044791667 | O21: 0.0046180556 | P21: 0.0047569444 | Q21: 0.0045949074 | R21: 0.0046990741 | S21: 0.004537037 | T21: 0.0050115741 | U21: 0.0045717593 | V21: 0.0046759259 | W21: 0.004537037 | X21: 0.0045949074 | Y21: 0.0045833333 | Z21: 0.0045486111 | AA21: 0.0046643519 | AB21: 0.0046643519 | AC21: 0.0045486111 | AD21: 0.0050694444 | AF21: 0.0046412037 | AG21: 0.0047222222 | AH21: 0.0046412037 | AJ21: 0.004525463 | AK21: 0.0051273148 | AL21: 0.0053472222 | AM21: 0.004537037 | AN21: 0.004837963 | AO21: 0.004525463 | AP21: 0.0050347222 | AQ21: 0.0046296296 | AS21: 0.0046875 | AT21: 0.0045601852 | AU21: 0.0052662037 | AV21: 0.0047569444 | AW21: 0.0045717593 | AX21: 0.0049074074 | AY21: 0.0048958333 | AZ21: 0.0048726852 | BA21: 0.0045833333 | BB21: 0.0050578704 | BC21: 0.0047106481 | BD21: 0.0053009259 | BE21: 0.0046064815 | BF21: 0.0046347222 | BG21: 0.0047046296 | BH21: 0.0048659722 | BI21: 0.0045336806 | BJ21: 0.0050017361 | BK21: 0.0054672454 | BL21: 0.0050263889 | BM21: 0.0049002315 | BO21: 0.0047453704 | BP21: 0.0047222222 | BQ21: 0.0046296296 | BR21: 0.0051736111 | BS21: 0.0045486111 | BT21: 0.0045833333
A22: O4+ | B22: =MIN(E22:BT22) -> 0.0043981481 | C22: =AVERAGE(E22:BT22) -> 0.00467052 | D22: =AVERAGE(BB22:BT22) -> 0.0047435096 | E22: 0.0049652778 | F22: 0.0044791667 | G22: 0.0046296296 | H22: 0.0046064815 | I22: 0.0044791667 | J22: 0.004525463 | K22: 0.0048611111 | L22: 0.0044907407 | M22: 0.0045949074 | N22: 0.0045601852 | O22: 0.0046875 | P22: 0.0044444444 | Q22: 0.0046412037 | R22: 0.0047337963 | S22: 0.0045486111 | T22: 0.0048611111 | U22: 0.0045023148 | V22: 0.0045949074 | W22: 0.0046064815 | X22: 0.0045601852 | Y22: 0.0045717593 | Z22: 0.0046875 | AA22: 0.0045949074 | AB22: 0.0046296296 | AC22: 0.004525463 | AD22: 0.0049421296 | AF22: 0.0046875 | AG22: 0.0046527778 | AH22: 0.0046296296 | AJ22: 0.0046527778 | AK22: 0.0049652778 | AL22: 0.0049421296 | AN22: 0.0045717593 | AO22: 0.0045138889 | AP22: 0.0051157407 | AQ22: 0.0046990741 | AS22: 0.0045717593 | AT22: 0.0046643519 | AU22: 0.0049189815 | AV22: 0.0043981481 | AW22: 0.0044675926 | AX22: 0.0045833333 | AY22: 0.0046759259 | AZ22: 0.0046527778 | BA22: 0.004537037 | BB22: 0.0047685185 | BD22: 0.0047916667 | BE22: 0.004525463 | BH22: 0.0048663194 | BI22: 0.00451875 | BK22: 0.0051678241 | BL22: 0.0048996528 | BM22: 0.004909838 | BO22: 0.0047453704 | BP22: 0.0048032407 | BQ22: 0.0046412037 | BS22: 0.0044560185 | BT22: 0.0045717593
A23: SA4+ | B23: =MIN(E23:BT23) -> 0.0043981481 | C23: =AVERAGE(E23:BT23) -> 0.0045325855 | E23: 0.0047106481 | H23: 0.0045833333 | J23: 0.0045138889 | K23: 0.0046643519 | L23: 0.0043981481 | M23: 0.0044675926 | N23: 0.0044328704 | O23: 0.0044212963 | Q23: 0.004537037 | T23: 0.0047685185 | Z23: 0.004525463 | AJ23: 0.0044907407 | AM23: 0.0044097222
A24: LB4+ | B24: =MIN(E24:BT24) -> 0.0046527778 | C24: =AVERAGE(E24:BT24) -> 0.004940191 | D24: =AVERAGE(BB24:BT24) -> 0.0049922522 | E24: 0.0049768519 | F24: 0.0050231481 | G24: 0.0049768519 | H24: 0.0049537037 | I24: 0.0048611111 | J24: 0.0047337963 | K24: 0.0050810185 | L24: 0.004837963 | M24: 0.0051851852 | N24: 0.0046875 | O24: 0.0048611111 | P24: 0.0047916667 | Q24: 0.0048611111 | R24: 0.0048726852 | S24: 0.004837963 | V24: 0.004837963 | W24: 0.0047916667 | X24: 0.0049537037 | Y24: 0.0049305556 | Z24: 0.0052893519 | AA24: 0.0049652778 | AB24: 0.0050462963 | AC24: 0.005 | AD24: 0.0051157407 | AG24: 0.0049768519 | AH24: 0.004837963 | AL24: 0.005162037 | AM24: 0.0048611111 | AN24: 0.0047453704 | AO24: 0.0049305556 | AP24: 0.0056365741 | AQ24: 0.0049884259 | AS24: 0.0047685185 | AV24: 0.0049421296 | AW24: 0.0047222222 | AX24: 0.0046875 | AY24: 0.0046527778 | AZ24: 0.0047453704 | BA24: 0.0046527778 | BB24: 0.005 | BC24: 0.0048263889 | BD24: 0.0051967593 | BE24: 0.0048032407 | BF24: 0.0047826389 | BG24: 0.0050480324 | BH24: 0.0049835648 | BI24: 0.0047792824 | BJ24: 0.0049599537 | BK24: 0.0054923611 | BL24: 0.0052663194 | BM24: 0.0051232639 | BO24: 0.0047800926 | BP24: 0.0053587963 | BR24: 0.004849537 | BS24: 0.0049074074 | BT24: 0.0047106481
A25: LN4+ | B25: =MIN(E25:BT25) -> 0.0045717593 | C25: =AVERAGE(E25:BT25) -> 0.004892152 | D25: =AVERAGE(BB25:BT25) -> 0.0050023727 | E25: 0.0051041667 | F25: 0.0045833333 | G25: 0.0046759259 | H25: 0.0046875 | I25: 0.0046759259 | J25: 0.0046412037 | K25: 0.0048842593 | L25: 0.0046643519 | M25: 0.0048263889 | N25: 0.0048148148 | O25: 0.0048958333 | P25: 0.0046990741 | Q25: 0.0048611111 | R25: 0.0048958333 | S25: 0.0047222222 | T25: 0.0051967593 | U25: 0.004837963 | V25: 0.0049074074 | W25: 0.0046875 | X25: 0.004837963 | Y25: 0.0047453704 | Z25: 0.0047106481 | AA25: 0.0049189815 | AB25: 0.0047222222 | AC25: 0.0047453704 | AD25: 0.005162037 | AF25: 0.0047222222 | AG25: 0.0046759259 | AH25: 0.0047916667 | AJ25: 0.0047222222 | AK25: 0.005162037 | AL25: 0.0054398148 | AM25: 0.0046527778 | AN25: 0.0051388889 | AO25: 0.0046643519 | AP25: 0.0052199074 | AQ25: 0.0047916667 | AS25: 0.0048263889 | AT25: 0.0047222222 | AU25: 0.0054976852 | AV25: 0.0048726852 | AW25: 0.0046759259 | AX25: 0.0051273148 | AY25: 0.004849537 | AZ25: 0.0048611111 | BA25: 0.0047569444 | BD25: 0.0055208333 | BE25: 0.0047222222 | BF25: 0.0048581019 | BG25: 0.004672338 | BH25: 0.0051528935 | BI25: 0.0047315972 | BJ25: 0.0051240741 | BK25: 0.0057085648 | BL25: 0.0053265046 | BM25: 0.0050773148 | BO25: 0.0047800926 | BP25: 0.0050694444 | BQ25: 0.0048842593 | BR25: 0.0051157407 | BS25: 0.0047222222 | BT25: 0.0045717593
A26: LO4+ | B26: =MIN(E26:BT26) -> 0.0045833333 | C26: =AVERAGE(E26:BT26) -> 0.0048347222 | D26: =AVERAGE(BB26:BT26) -> 0.0049652778 | E26: 0.0049884259 | F26: 0.0048958333 | G26: 0.0047916667 | H26: 0.0047106481 | I26: 0.0047453704 | J26: 0.0046064815 | K26: 0.0048611111 | L26: 0.0046875 | M26: 0.0046759259 | N26: 0.0045949074 | O26: 0.0047106481 | Q26: 0.0046875 | R26: 0.0049652778 | S26: 0.0047337963 | T26: 0.0050925926 | U26: 0.0047222222 | V26: 0.0047685185 | W26: 0.0048148148 | X26: 0.0047337963 | Y26: 0.0047106481 | Z26: 0.0049305556 | AA26: 0.0048032407 | AB26: 0.0049074074 | AC26: 0.0047569444 | AD26: 0.0051273148 | AF26: 0.0047685185 | AG26: 0.0046875 | AH26: 0.0047337963 | AJ26: 0.0047337963 | AK26: 0.0051851852 | AL26: 0.0050578704 | AM26: 0.0047453704 | AN26: 0.0046412037 | AO26: 0.0047569444 | AP26: 0.0053819444 | AQ26: 0.0047569444 | AS26: 0.0047569444 | AT26: 0.0048148148 | AU26: 0.0050578704 | AW26: 0.0048032407 | AY26: 0.0047222222 | AZ26: 0.0047685185 | BA26: 0.0045833333 | BE26: 0.004837963 | BG26: 0.0050527778 | BI26: 0.0047648148 | BK26: 0.0054591435 | BM26: 0.0051283565 | BQ26: 0.0048611111 | BT26: 0.0046527778
A27: LSA4+ | B27: =MIN(E27:BT27) -> 0
A28: DB4+ | B28: =MIN(E28:BT28) -> 0.0050925926 | C28: =AVERAGE(E28:BT28) -> 0.0054755768 | D28: =AVERAGE(BB28:BT28) -> 0.0054896926 | E28: 0.0057986111 | F28: 0.0052662037 | G28: 0.0053587963 | H28: 0.0054166667 | I28: 0.0052662037 | J28: 0.0053125 | K28: 0.0055787037 | L28: 0.0053240741 | M28: 0.0053356481 | N28: 0.0055671296 | O28: 0.005625 | P28: 0.0053009259 | Q28: 0.0055092593 | R28: 0.0055671296 | S28: 0.0053125 | T28: 0.0056597222 | U28: 0.0053009259 | V28: 0.0054166667 | W28: 0.0055092593 | Y28: 0.005462963 | Z28: 0.0055324074 | AA28: 0.005462963 | AB28: 0.0054513889 | AC28: 0.0053587963 | AD28: 0.0055671296 | AF28: 0.0053819444 | AG28: 0.0053240741 | AH28: 0.0053356481 | AJ28: 0.0053819444 | AK28: 0.0058333333 | AL28: 0.0058912037 | AM28: 0.0054513889 | AO28: 0.0054166667 | AP28: 0.0059722222 | AQ28: 0.0054976852 | AS28: 0.0054282407 | AT28: 0.0054861111 | AU28: 0.0057986111 | AV28: 0.0053240741 | AW28: 0.0053009259 | AX28: 0.0055092593 | AY28: 0.0053587963 | AZ28: 0.0054050926 | BA28: 0.0053125 | BB28: 0.0055324074 | BC28: 0.0053356481 | BD28: 0.0055555556 | BE28: 0.0053819444 | BF28: 0.0053877315 | BG28: 0.0055125 | BH28: 0.0055971065 | BI28: 0.0052657407 | BJ28: 0.0055418981 | BK28: 0.0061142361 | BL28: 0.0055891204 | BM28: 0.0056278935 | BO28: 0.005462963 | BP28: 0.005474537 | BQ28: 0.0053819444 | BR28: 0.0055555556 | BS28: 0.0054050926 | BT28: 0.0050925926
A29: DN4+ | B29: =MIN(E29:BT29) -> 0.0051273148 | C29: =AVERAGE(E29:BT29) -> 0.0054399544 | D29: =AVERAGE(BB29:BT29) -> 0.0055361111 | E29: 0.0055208333 | F29: 0.0054861111 | G29: 0.0053819444 | H29: 0.0053009259 | I29: 0.0053587963 | J29: 0.0051851852 | K29: 0.0055208333 | L29: 0.0051388889 | M29: 0.0052083333 | N29: 0.0051388889 | O29: 0.0053472222 | Q29: 0.0051851852 | R29: 0.0054050926 | S29: 0.0052430556 | T29: 0.0058449074 | U29: 0.0052083333 | V29: 0.0054861111 | W29: 0.005162037 | X29: 0.0052893519 | Y29: 0.0052546296 | Z29: 0.0053009259 | AA29: 0.0053819444 | AB29: 0.0053125 | AC29: 0.0052662037 | AD29: 0.0056828704 | AF29: 0.0051851852 | AG29: 0.0051736111 | AH29: 0.0053703704 | AJ29: 0.0052314815 | AK29: 0.0057638889 | AL29: 0.0061805556 | AM29: 0.005162037 | AN29: 0.0056828704 | AO29: 0.0052199074 | AP29: 0.0059259259 | AQ29: 0.0052199074 | AS29: 0.0052777778 | AT29: 0.0053935185 | AU29: 0.0061805556 | AV29: 0.0054398148 | AW29: 0.0051967593 | AX29: 0.0056134259 | AY29: 0.0056134259 | AZ29: 0.0054050926 | BA29: 0.0052199074 | BB29: 0.0056597222 | BC29: 0.0053819444 | BD29: 0.0058912037 | BE29: 0.0052083333 | BF29: 0.0053734954 | BG29: 0.0052446759 | BH29: 0.00569375 | BI29: 0.005206713 | BJ29: 0.0059755787 | BK29: 0.0064185185 | BL29: 0.0058792824 | BM29: 0.0055755787 | BO29: 0.0054050926 | BP29: 0.0054050926 | BQ29: 0.0052083333 | BR29: 0.0057638889 | BS29: 0.0052314815 | BT29: 0.0051273148
A30: DO4+ | B30: =MIN(E30:BT30) -> 0.0051273148 | C30: =AVERAGE(E30:BT30) -> 0.0053522908 | D30: =AVERAGE(BB30:BT30) -> 0.0053307742 | E30: 0.005625 | F30: 0.005162037 | G30: 0.0052546296 | H30: 0.0053356481 | I30: 0.0052199074 | J30: 0.0051736111 | K30: 0.0055439815 | L30: 0.005162037 | M30: 0.0051736111 | N30: 0.0053703704 | O30: 0.0055092593 | P30: 0.0051388889 | Q30: 0.0053819444 | R30: 0.0054050926 | S30: 0.0053009259 | T30: 0.005625 | U30: 0.0051967593 | V30: 0.0052199074 | W30: 0.0052777778 | X30: 0.0053703704 | Y30: 0.0053587963 | Z30: 0.0055324074 | AA30: 0.0052893519 | AB30: 0.0054050926 | AC30: 0.0053819444 | AD30: 0.0054976852 | AF30: 0.0052777778 | AG30: 0.0052662037 | AH30: 0.0053009259 | AJ30: 0.0052314815 | AK30: 0.0055902778 | AL30: 0.0056597222 | AM30: 0.0054282407 | AN30: 0.0051851852 | AO30: 0.0053240741 | AP30: 0.0058564815 | AQ30: 0.0052546296 | AS30: 0.0053009259 | AU30: 0.0057638889 | AW30: 0.0053009259 | AX30: 0.0053703704 | AY30: 0.0053356481 | AZ30: 0.0051736111 | BA30: 0.005162037 | BC30: 0.005162037 | BD30: 0.0056712963 | BE30: 0.0052662037 | BG30: 0.0054011574 | BH30: 0.0054116898 | BI30: 0.0052501157 | BM30: 0.0055366898 | BQ30: 0.0051273148 | BT30: 0.005150463
A31: DSA4+ | B31: =MIN(E31:BT31) -> 0
A33: LDej4* | B33: =MIN(E33:BT33) -> 0.0050231481 | C33: =AVERAGE(E33:BT33) -> 0.0053786265 | D33: =AVERAGE(BB33:BT33) -> 0.0053786265 | BK33: 0.0060570602 | BL33: 0.0057798611 | BM33: 0.0055753472 | BO33: 0.0051736111 | BP33: 0.0051736111 | BQ33: 0.0051388889 | BR33: 0.0054050926 | BS33: 0.0050810185 | BT33: 0.0050231481
A35: N4- | B35: =MIN(E35:BT35) -> 0.0043287037 | C35: =AVERAGE(E35:BT35) -> 0.0045441157 | D35: =AVERAGE(BB35:BT35) -> 0.0045699142 | AT35: 0.004375 | AU35: 0.0047569444 | AV35: 0.0045023148 | AW35: 0.004525463 | AX35: 0.0044675926 | AY35: 0.0044328704 | AZ35: 0.0044444444 | BA35: 0.0044097222 | BB35: 0.0046064815 | BC35: 0.0043518519 | BD35: 0.0047569444 | BE35: 0.0044791667 | BF35: 0.0044763889 | BG35: 0.0045623843 | BH35: 0.0048013889 | BI35: 0.0043864583 | BJ35: 0.0044002315 | BK35: 0.0050668981 | BL35: 0.0047712963 | BM35: 0.0047721065 | BO35: 0.0044328704 | BP35: 0.0045949074 | BQ35: 0.0044675926 | BS35: 0.0044328704 | BT35: 0.0043287037
A36: O4- | B36: =MIN(E36:BT36) -> 0.0043055556 | C36: =AVERAGE(E36:BT36) -> 0.0044874355 | D36: =AVERAGE(BB36:BT36) -> 0.0045258359 | E36: 0.0047222222 | F36: 0.0044212963 | G36: 0.0044907407 | H36: 0.0043055556 | I36: 0.0043634259 | J36: 0.004375 | K36: 0.0045601852 | L36: 0.0043865741 | M36: 0.0045023148 | N36: 0.004375 | O36: 0.0046064815 | P36: 0.0044444444 | Q36: 0.0043981481 | R36: 0.0044444444 | S36: 0.004375 | T36: 0.0046527778 | U36: 0.004375 | V36: 0.0044328704 | W36: 0.0043634259 | X36: 0.0043402778 | Y36: 0.0043865741 | Z36: 0.0045486111 | AB36: 0.0043981481 | AC36: 0.0043518519 | AD36: 0.0047685185 | AF36: 0.0044444444 | AG36: 0.0043402778 | AH36: 0.0044212963 | AJ36: 0.0044328704 | AK36: 0.004837963 | AL36: 0.0049537037 | AM36: 0.0044791667 | AN36: 0.0043287037 | AO36: 0.0043518519 | AP36: 0.0047685185 | AQ36: 0.0044444444 | AS36: 0.0043634259 | AU36: 0.0047685185 | AV36: 0.004375 | AW36: 0.0044791667 | AY36: 0.0043981481 | AZ36: 0.0043865741 | BA36: 0.0043055556 | BB36: 0.0045138889 | BC36: 0.0043981481 | BD36: 0.0046180556 | BE36: 0.0043865741 | BF36: 0.0043258102 | BG36: 0.0044002315 | BH36: 0.0045983796 | BI36: 0.0044649306 | BJ36: 0.0044519676 | BK36: 0.0049752315 | BL36: 0.0047726852 | BM36: 0.0046494213 | BO36: 0.004375 | BP36: 0.0046643519 | BQ36: 0.004375 | BR36: 0.0047337963 | BS36: 0.0043634259 | BT36: 0.0043981481
A37: SA4- | B37: =MIN(E37:BT37) -> 0.0040625 | C37: =AVERAGE(E37:BT37) -> 0.0043436462 | D37: =AVERAGE(BB37:BT37) -> 0.0044212037 | E37: 0.0046643519 | F37: 0.0041898148 | H37: 0.0042013889 | I37: 0.0042824074 | K37: 0.0043287037 | L37: 0.0043055556 | M37: 0.0041782407 | N37: 0.0044328704 | O37: 0.0041087963 | Q37: 0.0043055556 | R37: 0.0043287037 | S37: 0.0041782407 | T37: 0.0044560185 | U37: 0.004212963 | V37: 0.0042361111 | W37: 0.0041435185 | X37: 0.0043287037 | Y37: 0.0042476852 | Z37: 0.0042013889 | AA37: 0.004212963 | AB37: 0.0042013889 | AC37: 0.0042824074 | AD37: 0.0044560185 | AF37: 0.0042013889 | AG37: 0.004224537 | AH37: 0.0042013889 | AJ37: 0.0042013889 | AK37: 0.0049074074 | AL37: 0.0044444444 | AM37: 0.0042013889 | AN37: 0.0045717593 | AO37: 0.0042013889 | AP37: 0.005 | AQ37: 0.0043402778 | AS37: 0.004224537 | AT37: 0.0042592593 | AU37: 0.0046875 | AV37: 0.004212963 | AW37: 0.0041898148 | AX37: 0.004224537 | AY37: 0.0043865741 | AZ37: 0.0041666667 | BA37: 0.0042824074 | BB37: 0.0046412037 | BD37: 0.0045833333 | BE37: 0.004375 | BF37: 0.0048340278 | BG37: 0.0042299769 | BH37: 0.0044274306 | BI37: 0.0043292824 | BK37: 0.0049368056 | BL37: 0.0045482639 | BM37: 0.0045331019 | BO37: 0.0042476852 | BP37: 0.0042939815 | BQ37: 0.0041666667 | BS37: 0.0041087963 | BT37: 0.0040625
A38: Dev4- | B38: =MIN(E38:BT38) -> 0.0042476852 | C38: =AVERAGE(E38:BT38) -> 0.0045350852 | D38: =AVERAGE(BB38:BT38) -> 0.0045326903 | AX38: 0.0046753472 | AY38: 0.0046175926 | AZ38: 0.0045168981 | BA38: 0.0043736111 | BB38: 0.0046644676 | BC38: 0.0044865741 | BD38: 0.0048543981 | BE38: 0.0044512731 | BF38: 0.0044481481 | BG38: 0.0043734954 | BH38: 0.0045829861 | BI38: 0.0043459491 | BJ38: 0.0047599537 | BK38: 0.0052568287 | BL38: 0.0047207176 | BM38: 0.004659838 | BO38: 0.0043171296 | BP38: 0.0043865741 | BQ38: 0.0043171296 | BR38: 0.0044444444 | BS38: 0.0042476852 | BT38: 0.0042708333
A39: LN4- | B39: =MIN(E39:BT39) -> 0.0043518519 | C39: =AVERAGE(E39:BT39) -> 0.0045906759 | D39: =AVERAGE(BB39:BT39) -> 0.0046397467 | AT39: 0.0044675926 | AU39: 0.0047800926 | AV39: 0.0045138889 | AW39: 0.0045717593 | AX39: 0.0044444444 | AY39: 0.0043865741 | AZ39: 0.0043518519 | BA39: 0.004375 | BB39: 0.0047106481 | BC39: 0.0044675926 | BD39: 0.0048148148 | BE39: 0.004537037 | BF39: 0.004505787 | BG39: 0.0046421296 | BH39: 0.0047974537 | BI39: 0.0044675926 | BJ39: 0.0044991898 | BK39: 0.0051457176 | BL39: 0.0048229167 | BM39: 0.0048722222 | BO39: 0.0045833333 | BP39: 0.0046412037 | BQ39: 0.0045601852 | BS39: 0.0043518519 | BT39: 0.0044560185
A40: LO4- | B40: =MIN(E40:BT40) -> 0.0042708333 | C40: =AVERAGE(E40:BT40) -> 0.0045160204 | D40: =AVERAGE(BB40:BT40) -> 0.0045066913 | E40: 0.0045833333 | F40: 0.0045601852 | G40: 0.0046412037 | H40: 0.0045601852 | I40: 0.0045486111 | J40: 0.0043634259 | K40: 0.0046527778 | L40: 0.0043634259 | M40: 0.0045717593 | N40: 0.0044328704 | O40: 0.0044560185 | P40: 0.004375 | Q40: 0.0043402778 | R40: 0.0046296296 | S40: 0.0044212963 | T40: 0.0046990741 | U40: 0.0043865741 | V40: 0.0044907407 | W40: 0.004375 | X40: 0.0045023148 | Y40: 0.0044675926 | Z40: 0.0046296296 | AA40: 0.0044328704 | AB40: 0.0044328704 | AC40: 0.0043981481 | AD40: 0.0047453704 | AF40: 0.0044791667 | AG40: 0.0044791667 | AH40: 0.0044328704 | AJ40: 0.0044907407 | AK40: 0.0049189815 | AL40: 0.005162037 | AM40: 0.0044560185 | AN40: 0.0042708333 | AO40: 0.0044328704 | AP40: 0.0049884259 | AQ40: 0.0045138889 | AS40: 0.0044907407 | AU40: 0.0048032407 | AV40: 0.0043171296 | AW40: 0.0044212963 | AY40: 0.0044212963 | AZ40: 0.0043634259 | BA40: 0.0043518519 | BB40: 0.0045601852 | BC40: 0.0043634259 | BD40: 0.0046064815 | BE40: 0.0044444444 | BF40: 0.0044231481 | BG40: 0.0045758102 | BH40: 0.0046579861 | BI40: 0.0043616898 | BJ40: 0.0045670139 | BK40: 0.0050538194 | BM40: 0.0047453704 | BO40: 0.0043518519 | BP40: 0.0044907407 | BQ40: 0.0042708333 | BS40: 0.0043055556 | BT40: 0.0043287037
A41: LSA4- | B41: =MIN(E41:BT41) -> 0.0041087963 | C41: =AVERAGE(E41:BT41) -> 0.0044011894 | D41: =AVERAGE(BB41:BT41) -> 0.0044400628 | E41: 0.0047222222 | F41: 0.004212963 | H41: 0.0042592593 | I41: 0.0043634259 | J41: 0.0044212963 | K41: 0.0043287037 | L41: 0.0042939815 | M41: 0.0041203704 | O41: 0.0043634259 | Q41: 0.0041087963 | R41: 0.0044907407 | S41: 0.0043055556 | T41: 0.0045833333 | U41: 0.0042939815 | V41: 0.0043171296 | W41: 0.0042939815 | X41: 0.0044444444 | Y41: 0.0043055556 | Z41: 0.0042592593 | AA41: 0.0043287037 | AB41: 0.004375 | AC41: 0.0042939815 | AD41: 0.0045601852 | AF41: 0.0043287037 | AG41: 0.0044097222 | AH41: 0.0044097222 | AJ41: 0.0042476852 | AK41: 0.0046990741 | AL41: 0.0047569444 | AM41: 0.004224537 | AN41: 0.0046990741 | AO41: 0.0042824074 | AP41: 0.0048611111 | AQ41: 0.0043402778 | AS41: 0.0043865741 | AT41: 0.0044328704 | AU41: 0.004849537 | AW41: 0.004224537 | AX41: 0.0043402778 | AZ41: 0.0042361111 | BD41: 0.0047916667 | BE41: 0.0044212963 | BF41: 0.0043899306 | BH41: 0.0047122685 | BI41: 0.0043393519 | BQ41: 0.0042361111 | BT41: 0.0041898148
A42: Ldev4- | B42: =MIN(E42:BT42) -> 0.0043055556 | C42: =AVERAGE(E42:BT42) -> 0.0046102588 | D42: =AVERAGE(BB42:BT42) -> 0.0046047454 | AX42: 0.0047666667 | AY42: 0.0046790509 | AZ42: 0.0047081019 | BA42: 0.0043864583 | BB42: 0.0047472222 | BC42: 0.004559375 | BD42: 0.0049831019 | BE42: 0.0044923611 | BF42: 0.0043888889 | BG42: 0.0044135417 | BH42: 0.0046726852 | BI42: 0.0044136574 | BJ42: 0.0049070602 | BK42: 0.0052711806 | BL42: 0.0048728009 | BM42: 0.0046704861 | BO42: 0.004375 | BP42: 0.004537037 | BQ42: 0.004375 | BR42: 0.0045717593 | BS42: 0.0043055556 | BT42: 0.0043287037
A43: Ddev4- | B43: =MIN(E43:BT43) -> 0.0047685185 | C43: =AVERAGE(E43:BT43) -> 0.0050712016 | D43: =AVERAGE(BB43:BT43) -> 0.005073669 | AX43: 0.0051626157 | AY43: 0.0052065972 | AZ43: 0.005100463 | BA43: 0.0047707176 | BB43: 0.0053435185 | BC43: 0.0049074074 | BD43: 0.0056233796 | BE43: 0.0048412037 | BF43: 0.0048645833 | BG43: 0.0048543981 | BH43: 0.0051427083 | BI43: 0.0048456019 | BJ43: 0.005524537 | BK43: 0.0058679398 | BL43: 0.0053085648 | BM43: 0.0052438657 | BO43: 0.004837963 | BP43: 0.0048032407 | BQ43: 0.0047685185 | BR43: 0.0049768519 | BS43: 0.0047685185 | BT43: 0.0048032407
A44: DN4- | B44: =MIN(E44:BT44) -> 0.004846875 | C44: =AVERAGE(E44:BT44) -> 0.0051003426 | D44: =AVERAGE(BB44:BT44) -> 0.0051196487 | AT44: 0.0049421296 | AU44: 0.0055555556 | AV44: 0.0049652778 | AW44: 0.0050694444 | AX44: 0.0049537037 | AY44: 0.0050347222 | AZ44: 0.0050578704 | BA44: 0.0048958333 | BB44: 0.0052083333 | BC44: 0.0049537037 | BD44: 0.0053587963 | BE44: 0.0049768519 | BF44: 0.0048548611 | BG44: 0.0051172454 | BH44: 0.0052671296 | BI44: 0.004846875 | BJ44: 0.0049708333 | BK44: 0.0056457176 | BL44: 0.0053081019 | BM44: 0.0053288194 | BO44: 0.0049652778 | BP44: 0.0052662037 | BQ44: 0.0050231481 | BS44: 0.0049305556 | BT44: 0.0050115741
A45: DO4- | B45: =MIN(E45:BT45) -> 0.0047453704 | C45: =AVERAGE(E45:BT45) -> 0.005014159 | D45: =AVERAGE(BB45:BT45) -> 0.0050513978 | F45: 0.0048726852 | G45: 0.0049074074 | H45: 0.0050578704 | I45: 0.0048148148 | J45: 0.0048611111 | K45: 0.0051388889 | L45: 0.0048032407 | M45: 0.0049884259 | N45: 0.004849537 | O45: 0.0047916667 | P45: 0.0048611111 | Q45: 0.0049189815 | R45: 0.0049652778 | S45: 0.0047453704 | T45: 0.0052662037 | U45: 0.0047569444 | V45: 0.0051157407 | W45: 0.0049884259 | X45: 0.0049768519 | Y45: 0.0050810185 | Z45: 0.0050925926 | AA45: 0.0050231481 | AB45: 0.0050694444 | AC45: 0.004849537 | AD45: 0.0054398148 | AF45: 0.0049652778 | AG45: 0.005 | AH45: 0.0049768519 | AJ45: 0.0050231481 | AK45: 0.0053356481 | AL45: 0.0056365741 | AM45: 0.0050115741 | AN45: 0.0048032407 | AO45: 0.0048958333 | AP45: 0.0056597222 | AQ45: 0.0050115741 | AS45: 0.004837963 | AT45: 0.0050231481 | AU45: 0.005462963 | AV45: 0.0048958333 | AW45: 0.0049189815 | AY45: 0.0048032407 | AZ45: 0.0048842593 | BA45: 0.0047569444 | BC45: 0.0048611111 | BD45: 0.0051967593 | BE45: 0.0048842593 | BF45: 0.0047725694 | BG45: 0.0049444444 | BH45: 0.0051045139 | BI45: 0.0047796296 | BK45: 0.0056732639 | BL45: 0.0053738426 | BM45: 0.0053671296 | BP45: 0.0050925926 | BS45: 0.0048148148 | BT45: 0.0048032407
A46: DSA4- | B46: =MIN(E46:BT46) -> 0.0045486111 | C46: =AVERAGE(E46:BT46) -> 0.0048950013 | D46: =AVERAGE(BB46:BT46) -> 0.0049220583 | E46: 0.0048958333 | H46: 0.0047800926 | I46: 0.004837963 | K46: 0.0047569444 | L46: 0.0047222222 | M46: 0.0046990741 | O46: 0.0047685185 | Q46: 0.0047222222 | R46: 0.0051157407 | S46: 0.0048726852 | T46: 0.0052777778 | U46: 0.0048842593 | V46: 0.0049537037 | W46: 0.0046412037 | X46: 0.0048611111 | Y46: 0.0049305556 | Z46: 0.0047916667 | AA46: 0.0048842593 | AB46: 0.0048726852 | AC46: 0.0048958333 | AD46: 0.0053356481 | AF46: 0.0048611111 | AG46: 0.0048842593 | AH46: 0.0046296296 | AJ46: 0.0045717593 | AK46: 0.0054398148 | AL46: 0.0049884259 | AM46: 0.0047337963 | AN46: 0.0052777778 | AO46: 0.0047106481 | AP46: 0.0053587963 | AQ46: 0.0047916667 | AS46: 0.0049421296 | AT46: 0.0047916667 | AU46: 0.0050347222 | AV46: 0.0048958333 | AW46: 0.0046875 | AX46: 0.0047916667 | AY46: 0.0050115741 | AZ46: 0.0048263889 | BA46: 0.0046412037 | BD46: 0.0053472222 | BE46: 0.0047800926 | BF46: 0.0048034722 | BG46: 0.0047166667 | BH46: 0.0051108796 | BI46: 0.0048293981 | BK46: 0.0057611111 | BL46: 0.0050815972 | BO46: 0.0045949074 | BQ46: 0.0047685185 | BS46: 0.0045486111 | BT46: 0.0047222222
A48: N2- | B48: =MIN(E48:BT48) -> 0.0047569444 | C48: =AVERAGE(E48:BT48) -> 0.0050918333 | D48: =AVERAGE(BB48:BT48) -> 0.0050591975 | E48: 0.0057060185 | F48: 0.0052893519 | I48: 0.0049652778 | L48: 0.0049652778 | M48: 0.0052083333 | N48: 0.0050347222 | O48: 0.0052083333 | Q48: 0.0050694444 | V48: 0.0049884259 | W48: 0.0050694444 | X48: 0.0050231481 | Z48: 0.0052662037 | AA48: 0.0050115741 | AB48: 0.0050347222 | AC48: 0.0049305556 | AD48: 0.0051273148 | AG48: 0.005 | AH48: 0.005 | AJ48: 0.005 | AK48: 0.0051967593 | AL48: 0.0058333333 | AM48: 0.0050231481 | AN48: 0.0048958333 | AO48: 0.0050925926 | AP48: 0.0055208333 | AQ48: 0.0049768519 | AS48: 0.0048958333 | AT48: 0.0051041667 | AU48: 0.0053819444 | AV48: 0.0048842593 | AW48: 0.0049768519 | AX48: 0.0053356481 | AY48: 0.0049421296 | AZ48: 0.0048148148 | BA48: 0.0049305556 | BB48: 0.0054513889 | BC48: 0.0050925926 | BD48: 0.0052430556 | BE48: 0.0050231481 | BF48: 0.0051017361 | BG48: 0.0049413194 | BH48: 0.0049537037 | BK48: 0.0053587963 | BM48: 0.0050462963 | BO48: 0.0048958333 | BP48: 0.0051967593 | BQ48: 0.0047569444 | BR48: 0.0051851852 | BS48: 0.0048726852 | BT48: 0.0047685185
A49: O2- | B49: =MIN(E49:BT49) -> 0.0045949074 | C49: =AVERAGE(E49:BT49) -> 0.0049278453 | D49: =AVERAGE(BB49:BT49) -> 0.0048626157 | E49: 0.0055324074 | F49: 0.0048958333 | G49: 0.004849537 | I49: 0.0047453704 | J49: 0.0048726852 | K49: 0.0049189815 | L49: 0.0047222222 | M49: 0.0047685185 | N49: 0.0050347222 | O49: 0.0048032407 | P49: 0.0047800926 | Q49: 0.0050925926 | R49: 0.0049768519 | S49: 0.0048263889 | T49: 0.0053356481 | U49: 0.0047916667 | V49: 0.0050925926 | W49: 0.0047685185 | X49: 0.0049074074 | Y49: 0.0047685185 | Z49: 0.004849537 | AA49: 0.004849537 | AB49: 0.0049421296 | AC49: 0.0047916667 | AD49: 0.0054513889 | AF49: 0.0047685185 | AG49: 0.0048263889 | AH49: 0.0049652778 | AJ49: 0.0048263889 | AK49: 0.0053009259 | AL49: 0.0052199074 | AM49: 0.0047685185 | AN49: 0.0053009259 | AO49: 0.0047800926 | AP49: 0.0055208333 | AQ49: 0.0047685185 | AS49: 0.0047685185 | AT49: 0.0048726852 | AU49: 0.0056828704 | AV49: 0.0050578704 | AW49: 0.0046990741 | AX49: 0.0047453704 | AY49: 0.0050578704 | AZ49: 0.004837963 | BA49: 0.0045949074 | BB49: 0.0049884259 | BC49: 0.0047453704 | BD49: 0.0055439815 | BE49: 0.004837963 | BF49: 0.0047341435 | BG49: 0.0047212963 | BH49: 0.0050462963 | BK49: 0.0048842593 | BM49: 0.0050115741 | BO49: 0.0047685185 | BP49: 0.0047337963 | BQ49: 0.0047222222 | BR49: 0.0048263889 | BS49: 0.0047453704 | BT49: 0.0046296296
A50: SA2- | B50: =MIN(E50:BT50) -> 0.0044791667 | C50: =AVERAGE(E50:BT50) -> 0.0047684251 | D50: =AVERAGE(BB50:BT50) -> 0.0047249537 | E50: 0.0049074074 | F50: 0.004837963 | H50: 0.0046412037 | I50: 0.0048611111 | K50: 0.0047222222 | L50: 0.0047916667 | M50: 0.0045833333 | N50: 0.0046759259 | O50: 0.004837963 | Q50: 0.0047453704 | R50: 0.0048148148 | S50: 0.0047106481 | T50: 0.0049074074 | U50: 0.0044791667 | V50: 0.0045601852 | W50: 0.0046064815 | X50: 0.0046759259 | Y50: 0.0047685185 | Z50: 0.0049537037 | AA50: 0.0046875 | AB50: 0.0047453704 | AC50: 0.0047800926 | AD50: 0.0048611111 | AF50: 0.0046643519 | AG50: 0.0049305556 | AH50: 0.0045717593 | AJ50: 0.0047222222 | AK50: 0.0055439815 | AL50: 0.0053472222 | AN50: 0.0045833333 | AO50: 0.0046527778 | AP50: 0.0053935185 | AQ50: 0.0047800926 | AS50: 0.0046296296 | AT50: 0.0046643519 | AU50: 0.0051157407 | AV50: 0.0046643519 | AW50: 0.0048263889 | AX50: 0.0047800926 | AY50: 0.0047222222 | AZ50: 0.004525463 | BA50: 0.0046527778 | BB50: 0.0047800926 | BC50: 0.0045949074 | BD50: 0.0050925926 | BE50: 0.0048726852 | BF50: 0.0045731481 | BG50: 0.0047965278 | BH50: 0.0048958333 | BK50: 0.004525463 | BM50: 0.0049652778 | BO50: 0.0045833333 | BP50: 0.0048148148 | BQ50: 0.0044907407 | BR50: 0.0046064815 | BS50: 0.0046759259 | BT50: 0.0046064815
A51: LN2- | B51: =MIN(E51:BT51) -> 0.0049074074 | C51: =AVERAGE(E51:BT51) -> 0.0051789063 | D51: =AVERAGE(BB51:BT51) -> 0.0051436756 | E51: 0.0054513889 | F51: 0.0053819444 | G51: 0.0053587963 | H51: 0.0051157407 | I51: 0.0051388889 | J51: 0.0052199074 | K51: 0.0054050926 | L51: 0.0050347222 | M51: 0.0052083333 | N51: 0.005 | O51: 0.0050694444 | P51: 0.005 | Q51: 0.0050810185 | Y51: 0.0052314815 | Z51: 0.0052546296 | AA51: 0.0050578704 | AB51: 0.0051157407 | AC51: 0.0051273148 | AD51: 0.0054282407 | AF51: 0.0050462963 | AG51: 0.0051851852 | AH51: 0.0051388889 | AJ51: 0.0049884259 | AK51: 0.0051851852 | AL51: 0.0060300926 | AM51: 0.0050462963 | AN51: 0.0049421296 | AO51: 0.0050462963 | AP51: 0.0057175926 | AQ51: 0.0051041667 | AS51: 0.0049768519 | AU51: 0.0055555556 | AV51: 0.0050925926 | AW51: 0.0051736111 | AX51: 0.0054282407 | AY51: 0.0049884259 | AZ51: 0.0050231481 | BA51: 0.0049421296 | BC51: 0.0049652778 | BD51: 0.0053703704 | BE51: 0.005162037 | BF51: 0.0050532407 | BG51: 0.0050716435 | BH51: 0.0051273148 | BK51: 0.0054976852 | BM51: 0.0052893519 | BO51: 0.0049537037 | BP51: 0.0052777778 | BQ51: 0.0049305556 | BR51: 0.0054398148 | BS51: 0.0049652778 | BT51: 0.0049074074
A52: LO2- | B52: =MIN(E52:BT52) -> 0.0046296296 | C52: =AVERAGE(E52:BT52) -> 0.0049958098 | D52: =AVERAGE(BB52:BT52) -> 0.004961142 | E52: 0.0054050926 | F52: 0.0047916667 | H52: 0.0048958333 | I52: 0.004849537 | J52: 0.0048148148 | K52: 0.0051157407 | L52: 0.0047800926 | M52: 0.0049652778 | N52: 0.0049537037 | O52: 0.0050578704 | Q52: 0.0049305556 | R52: 0.0049884259 | S52: 0.0049074074 | T52: 0.0053587963 | U52: 0.0048726852 | V52: 0.0051273148 | W52: 0.004849537 | X52: 0.0049768519 | Y52: 0.0048958333 | Z52: 0.0049884259 | AA52: 0.0049421296 | AB52: 0.0049189815 | AC52: 0.0047800926 | AD52: 0.0054282407 | AF52: 0.0049189815 | AG52: 0.0048726852 | AH52: 0.0048726852 | AJ52: 0.0048032407 | AK52: 0.0055208333 | AL52: 0.0054513889 | AM52: 0.0047685185 | AN52: 0.0054282407 | AO52: 0.0047569444 | AP52: 0.0057060185 | AQ52: 0.0049074074 | AS52: 0.0049074074 | AT52: 0.0048726852 | AU52: 0.0057523148 | AV52: 0.0049305556 | AW52: 0.0047337963 | AX52: 0.0047222222 | AY52: 0.0049305556 | AZ52: 0.0050347222 | BA52: 0.004849537 | BB52: 0.0050925926 | BC52: 0.0049305556 | BD52: 0.0056134259 | BE52: 0.004837963 | BF52: 0.0048947917 | BG52: 0.0048695602 | BH52: 0.0052314815 | BK52: 0.0048611111 | BM52: 0.0052199074 | BO52: 0.0048726852 | BP52: 0.0049537037 | BQ52: 0.0047222222 | BR52: 0.0049768519 | BS52: 0.0046296296 | BT52: 0.0047106481
A53: LSA2- | B53: =MIN(E53:BT53) -> 0.0045601852 | C53: =AVERAGE(E53:BT53) -> 0.0049143562 | D53: =AVERAGE(BB53:BT53) -> 0.004989156 | E53: 0.0049884259 | F53: 0.0049189815 | H53: 0.0046875 | I53: 0.0049421296 | J53: 0.0047453704 | K53: 0.0049421296 | L53: 0.0047222222 | O53: 0.0046527778 | Q53: 0.0049189815 | R53: 0.004849537 | S53: 0.0048032407 | T53: 0.005 | U53: 0.0048263889 | V53: 0.0045601852 | W53: 0.0047337963 | X53: 0.0049652778 | Y53: 0.0047106481 | Z53: 0.0050462963 | AA53: 0.0047453704 | AB53: 0.0048726852 | AC53: 0.0047916667 | AD53: 0.0050462963 | AF53: 0.0049537037 | AG53: 0.0049074074 | AH53: 0.0046527778 | AJ53: 0.0047569444 | AK53: 0.0054513889 | AL53: 0.0054861111 | AM53: 0.0050347222 | AN53: 0.0047800926 | AO53: 0.0047569444 | AP53: 0.0051967593 | AQ53: 0.0049652778 | AT53: 0.0047800926 | AU53: 0.0053009259 | AV53: 0.0048148148 | AW53: 0.0048726852 | AX53: 0.0050115741 | AY53: 0.0047569444 | AZ53: 0.0046527778 | BB53: 0.0052430556 | BC53: 0.0049421296 | BD53: 0.0053125 | BE53: 0.0048958333 | BF53: 0.0047548611 | BH53: 0.0053935185 | BK53: 0.0049537037 | BM53: 0.005150463 | BP53: 0.0050810185 | BQ53: 0.0048263889 | BR53: 0.0048611111 | BS53: 0.0047916667 | BT53: 0.0046527778
A54: DN2- | B54: =MIN(E54:BT54) -> 0.0052662037 | C54: =AVERAGE(E54:BT54) -> 0.0056725823 | D54: =AVERAGE(BB54:BT54) -> 0.0056489198 | E54: 0.0060185185 | F54: 0.0054976852 | G54: 0.0055324074 | H54: 0.0056597222 | I54: 0.0056365741 | J54: 0.005474537 | K54: 0.0058217593 | L54: 0.0056597222 | M54: 0.0055324074 | N54: 0.0056828704 | O54: 0.0055439815 | P54: 0.0054513889 | Q54: 0.0055902778 | S54: 0.0055092593 | W54: 0.0055324074 | Y54: 0.0056365741 | Z54: 0.005787037 | AB54: 0.0055902778 | AC54: 0.0055555556 | AD54: 0.0061111111 | AF54: 0.0055555556 | AG54: 0.0055092593 | AH54: 0.0054398148 | AJ54: 0.0055555556 | AK54: 0.0061921296 | AL54: 0.0065856481 | AM54: 0.0056712963 | AN54: 0.0055092593 | AO54: 0.0055787037 | AP54: 0.0063078704 | AQ54: 0.0056828704 | AS54: 0.0055208333 | AT54: 0.0055902778 | AU54: 0.0059953704 | AV54: 0.0053935185 | AW54: 0.0055324074 | AX54: 0.0061689815 | AY54: 0.0054861111 | BA54: 0.0054861111 | BB54: 0.0060069444 | BC54: 0.0054398148 | BD54: 0.005787037 | BE54: 0.0055902778 | BF54: 0.0055680556 | BG54: 0.0056009259 | BH54: 0.0057291667 | BK54: 0.0060069444 | BM54: 0.0058912037 | BO54: 0.0052662037 | BP54: 0.0056481481 | BQ54: 0.0054050926 | BR54: 0.0058796296 | BS54: 0.0054976852 | BT54: 0.0054166667
A55: DO2- | B55: =MIN(E55:BT55) -> 0.0051273148 | C55: =AVERAGE(E55:BT55) -> 0.0055671971 | D55: =AVERAGE(BB55:BT55) -> 0.005488696 | E55: 0.0059606481 | F55: 0.0057638889 | G55: 0.0056597222 | H55: 0.0057060185 | I55: 0.0053935185 | J55: 0.0054166667 | K55: 0.0056365741 | L55: 0.005462963 | M55: 0.0054513889 | N55: 0.0054050926 | O55: 0.0056712963 | Q55: 0.0054166667 | R55: 0.005787037 | S55: 0.005474537 | T55: 0.0060300926 | U55: 0.0052662037 | V55: 0.0056597222 | W55: 0.0059837963 | X55: 0.0056018519 | Y55: 0.0053009259 | Z55: 0.0054398148 | AA55: 0.0054861111 | AB55: 0.0054282407 | AC55: 0.0053703704 | AD55: 0.0061111111 | AF55: 0.0054513889 | AG55: 0.0053356481 | AH55: 0.0056134259 | AJ55: 0.0053356481 | AK55: 0.0058217593 | AL55: 0.0057638889 | AM55: 0.0053240741 | AN55: 0.0060648148 | AO55: 0.0054050926 | AP55: 0.0065046296 | AQ55: 0.0053819444 | AS55: 0.0053819444 | AT55: 0.0053472222 | AU55: 0.0063078704 | AV55: 0.0054861111 | AW55: 0.0051273148 | AX55: 0.0053703704 | AY55: 0.0057060185 | AZ55: 0.0056365741 | BA55: 0.0054513889 | BB55: 0.0055208333 | BC55: 0.0055439815 | BD55: 0.0061689815 | BE55: 0.0054050926 | BF55: 0.0053887731 | BG55: 0.0053212963 | BH55: 0.0057638889 | BK55: 0.0053935185 | BM55: 0.0057060185 | BO55: 0.0053240741 | BP55: 0.0053935185 | BQ55: 0.0052199074 | BR55: 0.005787037 | BS55: 0.0051736111 | BT55: 0.0052199074
A56: DSA2- | B56: =MIN(E56:BT56) -> 0.0049768519 | C56: =AVERAGE(E56:BT56) -> 0.0053361553 | D56: =AVERAGE(BB56:BT56) -> 0.005271503 | E56: 0.0058680556 | F56: 0.005150463 | H56: 0.0052893519 | I56: 0.0052546296 | J56: 0.0052430556 | K56: 0.0052083333 | L56: 0.0053472222 | M56: 0.0051273148 | N56: 0.0053472222 | O56: 0.0050694444 | R56: 0.0053009259 | S56: 0.0052662037 | T56: 0.0054513889 | U56: 0.0052430556 | V56: 0.0052777778 | W56: 0.0053009259 | X56: 0.0053009259 | Z56: 0.0053472222 | AA56: 0.0055324074 | AB56: 0.0055324074 | AC56: 0.0054166667 | AD56: 0.0056481481 | AF56: 0.005474537 | AH56: 0.0053125 | AJ56: 0.0051851852 | AK56: 0.005625 | AL56: 0.0060069444 | AM56: 0.0053472222 | AN56: 0.0051041667 | AO56: 0.0051157407 | AP56: 0.0059606481 | AQ56: 0.0054166667 | AS56: 0.0052430556 | AT56: 0.0053125 | AU56: 0.0056597222 | AV56: 0.0051157407 | AW56: 0.0051851852 | AX56: 0.0054861111 | AY56: 0.0051736111 | AZ56: 0.0051967593 | BA56: 0.0052430556 | BB56: 0.005625 | BC56: 0.0049768519 | BE56: 0.0052083333 | BF56: 0.0049877315 | BG56: 0.0054915509 | BH56: 0.0055787037 | BK56: 0.0050925926 | BM56: 0.0053240741 | BO56: 0.0053587963 | BP56: 0.0054976852 | BQ56: 0.0050694444 | BR56: 0.0051851852 | BS56: 0.0053125 | BT56: 0.0050925926
A58: B2X | B58: =MIN(E58:BT58) -> 0.0046990741 | C58: =AVERAGE(E58:BT58) -> 0.0049568603 | E58: 0.0054282407 | F58: 0.0046990741 | G58: 0.0047106481 | J58: 0.0049074074 | K58: 0.0049421296 | L58: 0.004837963 | M58: 0.004849537 | N58: 0.0049768519 | O58: 0.0050347222 | P58: 0.005162037 | Q58: 0.0049768519
A59: N2X | B59: =MIN(E59:BT59) -> 0.0046064815 | C59: =AVERAGE(E59:BT59) -> 0.004806713 | D59: =AVERAGE(BB59:BT59) -> 0.0048283179 | G59: 0.0048611111 | J59: 0.0046064815 | K59: 0.0050231481 | L59: 0.0046527778 | M59: 0.0047453704 | N59: 0.0046643519 | O59: 0.0047800926 | Q59: 0.0046412037 | R59: 0.0049537037 | S59: 0.0046759259 | T59: 0.0049768519 | U59: 0.0046064815 | Y59: 0.0047685185 | AC59: 0.0047569444 | AG59: 0.0047916667 | AK59: 0.0051851852 | AM59: 0.0050347222 | AO59: 0.0047800926 | AS59: 0.0047106481 | AU59: 0.005162037 | AV59: 0.0047106481 | AW59: 0.0047569444 | AZ59: 0.0047337963 | BA59: 0.0046527778 | BD59: 0.0050231481 | BE59: 0.0047222222 | BM59: 0.0050694444 | BQ59: 0.0048842593 | BS59: 0.0046064815 | BT59: 0.0046643519
A60: O2X | B60: =MIN(E60:BT60) -> 0.0045949074 | C60: =AVERAGE(E60:BT60) -> 0.004682356 | F60: 0.0046064815 | J60: 0.0046180556 | L60: 0.0045949074 | M60: 0.0047106481 | N60: 0.0046527778 | O60: 0.0048611111 | P60: 0.0047337963 | Q60: 0.0046759259 | S60: 0.0046875
A61: SA2X | B61: =MIN(E61:BT61) -> 0.0043865741 | C61: =AVERAGE(E61:BT61) -> 0.0046350977 | D61: =AVERAGE(BB61:BT61) -> 0.0046099116 | H61: 0.0043981481 | I61: 0.0046759259 | J61: 0.0046296296 | K61: 0.004525463 | M61: 0.0044444444 | O61: 0.0046643519 | Q61: 0.0044675926 | R61: 0.0045717593 | S61: 0.0044791667 | T61: 0.0046296296 | U61: 0.0044444444 | V61: 0.0045833333 | W61: 0.0045833333 | X61: 0.0045833333 | Z61: 0.0048263889 | AA61: 0.0046527778 | AB61: 0.0047222222 | AD61: 0.0051041667 | AF61: 0.0049884259 | AG61: 0.0046643519 | AJ61: 0.0045138889 | AL61: 0.0049537037 | AN61: 0.004525463 | AO61: 0.0045949074 | AP61: 0.0050347222 | AQ61: 0.0045833333 | AS61: 0.0045717593 | AT61: 0.0045486111 | AU61: 0.0049652778 | AV61: 0.0045138889 | AX61: 0.0048148148 | AY61: 0.0045138889 | AZ61: 0.0044328704 | BA61: 0.0046643519 | BC61: 0.004537037 | BD61: 0.0048032407 | BE61: 0.004537037 | BF61: 0.0045568287 | BG61: 0.0046591435 | BM61: 0.0048726852 | BO61: 0.0047106481 | BP61: 0.0046412037 | BQ61: 0.0045601852 | BS61: 0.0043865741 | BT61: 0.0044444444
A62: LB2X | B62: =MIN(E62:BT62) -> 0.0048958333 | C62: =AVERAGE(E62:BT62) -> 0.0050144676 | J62: 0.0048958333 | M62: 0.0050115741 | N62: 0.0049189815 | AG62: 0.0052314815
A63: LN2X | B63: =MIN(E63:BT63) -> 0.0047106481 | C63: =AVERAGE(E63:BT63) -> 0.0049520503 | D63: =AVERAGE(BB63:BT63) -> 0.0048533951 | L63: 0.0049652778 | M63: 0.0050578704 | N63: 0.0048032407 | T63: 0.0051157407 | U63: 0.0050231481 | AK63: 0.005150463 | AQ63: 0.0051157407 | AW63: 0.0049768519 | BE63: 0.0047106481 | BM63: 0.0051157407 | BO63: 0.0048148148 | BQ63: 0.0047916667 | BS63: 0.0047569444 | BT63: 0.0049305556
A64: LO2X | B64: =MIN(E64:BT64) -> 0.0046064815 | C64: =AVERAGE(E64:BT64) -> 0.0047482639 | F64: 0.0048611111 | G64: 0.0048611111 | M64: 0.0046643519 | N64: 0.0046064815
A65: LSA2X | B65: =MIN(E65:BT65) -> 0.0045138889 | C65: =AVERAGE(E65:BT65) -> 0.0047232287 | D65: =AVERAGE(BB65:BT65) -> 0.0047820216 | F65: 0.0045949074 | H65: 0.0045717593 | L65: 0.0047453704 | M65: 0.0047453704 | N65: 0.0047569444 | O65: 0.0048726852 | Q65: 0.0047685185 | R65: 0.0046064815 | T65: 0.0047569444 | U65: 0.0045717593 | W65: 0.0045601852 | Z65: 0.0049768519 | AG65: 0.0046990741 | AM65: 0.004525463 | AU65: 0.0050578704 | AY65: 0.0045486111 | AZ65: 0.0045833333 | BD65: 0.0048611111 | BE65: 0.004849537 | BM65: 0.0049537037 | BP65: 0.0049652778 | BS65: 0.0045486111 | BT65: 0.0045138889
